Report for Config-MVP-Slicer-0.301

Back
From: metabase:user:68a9c4ac-1ec7-11e0-bf29-9c4bfeb2ac3f
Subject: PASS Config-MVP-Slicer-0.301 v5.14.1 GNU/Linux
Date: 2011-12-13T15:11:01Z

This distribution has been tested as part of the CPAN Testers
project, supporting the Perl programming language.  See
http://wiki.cpantesters.org/ for more information or email
questions to cpan-testers-discuss@perl.org


--
Dear Randy Stauner,

This is a computer-generated report for Config-MVP-Slicer-0.301
on perl 5.14.1, created by CPAN-Reporter-1.2002.

Thank you for uploading your work to CPAN.  Congratulations!
All tests were successful.

Sections of this report:

    * Tester comments
    * Program output
    * Prerequisites
    * Environment and other context

------------------------------
TESTER COMMENTS
------------------------------

Additional comments from tester:

none provided

------------------------------
PROGRAM OUTPUT
------------------------------

Output from '/usr/bin/make test':

PERL_DL_NONLAZY=1 /home/rando/perl5/perlbrew/perls/5.14.1-st/bin/perl5.14.1 "-MExtUtils::Command::MM" "-e" "test_harness(0, 'blib/lib', 'blib/arch')" t/*.t
t/00-compile.t ................ ok
# 
# 
# perl: v5.14.1 (wanted 5.006) on linux from /home/rando/perl5/perlbrew/perls/5.14.1-st/bin/perl5.14.1
# 
# Carp                                          => 1.23       (want any version)
# ExtUtils::MakeMaker                           => 6.62       (want 6.30)   
# File::Find                                    => 1.19       (want any version)
# File::Temp                                    => 0.22       (want any version)
# Moose                                         => 2.0401     (want any version)
# Test::Fatal                                   => 0.006      (want any version)
# Test::More                                    => 0.98       (want 0.96)   
# strict                                        => 1.04       (want any version)
# warnings                                      => 1.12       (want any version)
# 
# Thanks for using my code.  I hope it works for you.
# If not, please try and include this output in the bug report.
# That will help me reproduce the issue and solve you problem.
# 
t/000-report-versions-tiny.t .. ok
t/match_name.t ................ ok
t/match_package.t ............. ok
t/merge-hash.t ................ ok
t/merge-object.t .............. ok
t/plugin_info.t ............... ok
t/separator_regexp.t .......... ok
t/slice.t ..................... ok
All tests successful.
Files=9, Tests=101,  3 wallclock secs ( 0.07 usr  0.00 sys +  2.09 cusr  0.12 csys =  2.28 CPU)
Result: PASS

------------------------------
PREREQUISITES
------------------------------

Prerequisite modules loaded:

requires:

    Module              Need Have  
    ------------------- ---- ------
    Carp                0    1.23  
    Moose               0    2.0401
    strict              0    1.04  
    warnings            0    1.12  

build_requires:

    Module              Need Have  
    ------------------- ---- ------
    File::Find          0    1.19  
    File::Temp          0    0.22  
    Test::Fatal         0    0.006 
    Test::More          0.96 0.98  

configure_requires:

    Module              Need Have  
    ------------------- ---- ------
    ExtUtils::MakeMaker 6.30 6.62  


------------------------------
ENVIRONMENT AND OTHER CONTEXT
------------------------------

Environment variables:

    LANG = en_US.utf8
    LANGUAGE = en_US.utf8
    LC_ALL = en_US.utf8
    LC_CTYPE = en_US.utf8
    PATH = /home/rando/perl5/perlbrew/bin:/home/rando/perl5/perlbrew/perls/5.14.1-st/bin:/home/rando/perl5/perlbrew/bin:/home/rando/perl5/perlbrew/perls/5.14.2-st/bin:/opt/ircd-hybrid/bin:/opt/imagemagick/bin:/home/rando/devel/linux:/home/rando/bin:/usr/local/sbin:/usr/local/bin:/usr/sbin:/usr/bin:/sbin:/bin:/usr/games
    PATH_WITHOUT_PERLBREW = /opt/ircd-hybrid/bin:/opt/imagemagick/bin:/home/rando/devel/linux:/home/rando/bin:/usr/local/sbin:/usr/local/bin:/usr/sbin:/usr/bin:/sbin:/bin:/usr/games
    PERL5LIB = 
    PERL5OPT = 
    PERL5_CPANPLUS_IS_RUNNING = 20643
    PERL5_CPAN_IS_RUNNING = 20643
    PERLBREW_BASHRC_VERSION = 0.33
    PERLBREW_HOME = /home/rando/.perlbrew
    PERLBREW_PATH = /home/rando/perl5/perlbrew/bin:/home/rando/perl5/perlbrew/perls/5.14.1-st/bin
    PERLBREW_PERL = 5.14.1-st
    PERLBREW_ROOT = /home/rando/perl5/perlbrew
    PERLBREW_VERSION = 0.33
    PERL_CPANM_OPT = --save-dists /home/rando/perl5/cpan/mini --mirror http://localhost:4999/CPAN/ --mirror http://cpan.ezarticleinformation.com/ --mirror http://search.cpan.org/CPAN/
    SHELL = /bin/bash
    TERM = screen-256color

Perl special variables (and OS-specific diagnostics, for MSWin32):

    $^X = /home/rando/perl5/perlbrew/perls/5.14.1-st/bin/perl5.14.1
    $UID/$EUID = 1000 / 1000
    $GID = 1000 4 20 24 46 112 120 122 128 1000
    $EGID = 1000 4 20 24 46 112 120 122 128 1000

Perl module toolchain versions installed:

    Module              Have    
    ------------------- --------
    CPAN                1.9800  
    CPAN::Meta          2.112621
    Cwd                 3.36    
    ExtUtils::CBuilder  0.280203
    ExtUtils::Command   1.17    
    ExtUtils::Install   1.56    
    ExtUtils::MakeMaker 6.62    
    ExtUtils::Manifest  1.60    
    ExtUtils::ParseXS   3.04    
    File::Spec          3.33    
    JSON                2.53    
    JSON::PP            2.27200 
    Module::Build       0.3800  
    Module::Signature   0.68    
    Parse::CPAN::Meta   1.4401  
    Test::Harness       3.23    
    Test::More          0.98    
    YAML                0.76    
    YAML::Syck          1.17    
    version             0.94    


--

Summary of my perl5 (revision 5 version 14 subversion 1) configuration:
   
  Platform:
    osname=linux, osvers=2.6.38-11-generic, archname=x86_64-linux-thread-multi
    uname='linux raptor 2.6.38-11-generic #48-ubuntu smp fri jul 29 19:02:55 utc 2011 x86_64 x86_64 x86_64 gnulinux '
    config_args='-de -Dprefix=/home/rando/perl5/perlbrew/perls/5.14.1-st -Duseshrplib -Dusethreads -Dlddlflags=-shared -O2 -L/home/rando/perl5/perlbrew/perls/5.14.1-st/lib/5.14.1/x86_64-linux-thread-multi/CORE'
    hint=recommended, useposix=true, d_sigaction=define
    useithreads=define, usemultiplicity=define
    useperlio=define, d_sfio=undef, uselargefiles=define, usesocks=undef
    use64bitint=define, use64bitall=define, uselongdouble=undef
    usemymalloc=n, bincompat5005=undef
  Compiler:
    cc='cc', ccflags ='-D_REENTRANT -D_GNU_SOURCE -fno-strict-aliasing -pipe -fstack-protector -I/usr/local/include -D_LARGEFILE_SOURCE -D_FILE_OFFSET_BITS=64',
    optimize='-O2',
    cppflags='-D_REENTRANT -D_GNU_SOURCE -fno-strict-aliasing -pipe -fstack-protector -I/usr/local/include'
    ccversion='', gccversion='4.5.2', gccosandvers=''
    intsize=4, longsize=8, ptrsize=8, doublesize=8, byteorder=12345678
    d_longlong=define, longlongsize=8, d_longdbl=define, longdblsize=16
    ivtype='long', ivsize=8, nvtype='double', nvsize=8, Off_t='off_t', lseeksize=8
    alignbytes=8, prototype=define
  Linker and Libraries:
    ld='cc', ldflags =' -fstack-protector -L/usr/local/lib'
    libpth=/usr/local/lib /lib /usr/lib /usr/lib/x86_64-linux-gnu /lib64 /usr/lib64
    libs=-lnsl -ldb -ldl -lm -lcrypt -lutil -lpthread -lc
    perllibs=-lnsl -ldl -lm -lcrypt -lutil -lpthread -lc
    libc=, so=so, useshrplib=true, libperl=libperl.so
    gnulibc_version='2.13'
  Dynamic Linking:
    dlsrc=dl_dlopen.xs, dlext=so, d_dlsymun=undef, ccdlflags='-Wl,-E -Wl,-rpath,/home/rando/perl5/perlbrew/perls/5.14.1-st/lib/5.14.1/x86_64-linux-thread-multi/CORE'
    cccdlflags='-fPIC', lddlflags='-shared -O2 -L/home/rando/perl5/perlbrew/perls/5.14.1-st/lib/5.14.1/x86_64-linux-thread-multi/CORE -L/usr/local/lib -fstack-protector'


Characteristics of this binary (from libperl): 
  Compile-time options: MULTIPLICITY PERL_DONT_CREATE_GVSV
                        PERL_IMPLICIT_CONTEXT PERL_MALLOC_WRAP
                        PERL_PRESERVE_IVUV USE_64_BIT_ALL USE_64_BIT_INT
                        USE_ITHREADS USE_LARGE_FILES USE_PERLIO USE_PERL_ATOF
                        USE_REENTRANT_API
  Built under linux
  Compiled at Aug 25 2011 12:24:03
  %ENV:
    PERL5LIB=""
    PERL5OPT=""
    PERL5_CPANPLUS_IS_RUNNING="20643"
    PERL5_CPAN_IS_RUNNING="20643"
    PERLBREW_BASHRC_VERSION="0.33"
    PERLBREW_HOME="/home/rando/.perlbrew"
    PERLBREW_PATH="/home/rando/perl5/perlbrew/bin:/home/rando/perl5/perlbrew/perls/5.14.1-st/bin"
    PERLBREW_PERL="5.14.1-st"
    PERLBREW_ROOT="/home/rando/perl5/perlbrew"
    PERLBREW_VERSION="0.33"
    PERL_CPANM_OPT="--save-dists /home/rando/perl5/cpan/mini --mirror http://localhost:4999/CPAN/ --mirror http://cpan.ezarticleinformation.com/ --mirror http://search.cpan.org/CPAN/"
  @INC:
    /home/rando/perl5/perlbrew/perls/5.14.1-st/lib/site_perl/5.14.1/x86_64-linux-thread-multi
    /home/rando/perl5/perlbrew/perls/5.14.1-st/lib/site_perl/5.14.1
    /home/rando/perl5/perlbrew/perls/5.14.1-st/lib/5.14.1/x86_64-linux-thread-multi
    /home/rando/perl5/perlbrew/perls/5.14.1-st/lib/5.14.1
    .