Report for Dist-Zilla-Plugin-CheckExtraTests-0.022

Back
From: metabase:user:31d414ea-2aae-11df-837a-5e0a49663a4f
Subject: PASS Dist-Zilla-Plugin-CheckExtraTests-0.022 v5.18.0 GNU/Linux
Date: 2014-07-16T15:20:07Z

This distribution has been tested as part of the CPAN Testers
project, supporting the Perl programming language.  See
http://wiki.cpantesters.org/ for more information or email
questions to cpan-testers-discuss@perl.org


--
Dear David Golden,

This is a computer-generated report for Dist-Zilla-Plugin-CheckExtraTests-0.022
on perl 5.18.0, created by CPAN-Reporter-1.2010.

Thank you for uploading your work to CPAN.  Congratulations!
All tests were successful.

Sections of this report:

    * Tester comments
    * Program output
    * Prerequisites
    * Environment and other context

------------------------------
TESTER COMMENTS
------------------------------

Additional comments from tester:

this report is from an automated smoke testing program
and was not reviewed by a human for accuracy

------------------------------
PROGRAM OUTPUT
------------------------------

Output from '/usr/bin/make test':

PERL_DL_NONLAZY=1 /home/david/cpantesting/perl-5.18.0/bin/perl "-MExtUtils::Command::MM" "-e" "test_harness(0, 'blib/lib', 'blib/arch')" t/*.t
# 
# Versions for all modules listed in MYMETA.json (including optional ones):
#    Version Module                          
#   -------- --------------------------------
#       3.32 App::Prove                      
#       1.90 Archive::Tar                    
#   2.141520 CPAN::Meta                      
#      2.125 CPAN::Meta::Requirements        
#       0.24 Capture::Tiny                   
#      5.019 Dist::Zilla                     
#      5.019 Dist::Zilla::App                
#      5.019 Dist::Zilla::App::Tester        
#      5.019 Dist::Zilla::Role::BeforeRelease
#      5.019 Dist::Zilla::Role::TestRunner   
#      5.019 Dist::Zilla::Tester             
#       6.66 ExtUtils::MakeMaker             
#       3.40 File::Spec::Functions           
#      1.005 File::pushd                     
#       1.39 List::Util                      
#     2.1210 Moose                           
#       0.15 Moose::Autobox                  
#       1.07 Params::Util                    
#      1.008 Path::Iterator::Rule            
#      0.055 Path::Tiny                      
#      0.985 Sub::Exporter                   
#   1.001003 Test::More                      
#       0.08 Test::Requires                  
#       0.22 Try::Tiny                       
#       0.63 lib                             
#       0.19 namespace::autoclean            
#       1.07 strict                          
#     0.9902 version                         
#       1.18 warnings                        
t/00-report-prereqs.t .. ok
t/checkxt.t ............ ok
t/runxt.t .............. ok
t/withblib.t ........... ok
All tests successful.
Files=4, Tests=16, 20 wallclock secs ( 0.02 usr  0.03 sys +  5.99 cusr  2.19 csys =  8.23 CPU)
Result: PASS

------------------------------
PREREQUISITES
------------------------------

Prerequisite modules loaded:

requires:

    Module                           Need  Have    
    -------------------------------- ----- --------
    App::Prove                       3.00  3.32    
    Archive::Tar                     0     1.90    
    Dist::Zilla                      4.3   5.019   
    Dist::Zilla::App                 0     5.019   
    Dist::Zilla::Role::BeforeRelease 0     5.019   
    Dist::Zilla::Role::TestRunner    0     5.019   
    File::pushd                      0     1.005   
    Moose                            2     2.1210  
    Moose::Autobox                   0     0.15    
    namespace::autoclean             0.09  0.19    
    Path::Iterator::Rule             0     1.008   
    Path::Tiny                       0.013 0.055   
    strict                           0     1.07    
    warnings                         0     1.18    

build_requires:

    Module                           Need  Have    
    -------------------------------- ----- --------
    Capture::Tiny                    0     0.24    
    Dist::Zilla::App::Tester         0     5.019   
    Dist::Zilla::Tester              0     5.019   
    ExtUtils::MakeMaker              0     6.66    
    File::Spec::Functions            0     3.40    
    lib                              0     0.63    
    List::Util                       0     1.39    
    Params::Util                     0     1.07    
    Sub::Exporter                    0     0.985   
    Test::More                       0.88  1.001003
    Test::Requires                   0     0.08    
    Try::Tiny                        0     0.22    
    version                          0     0.9902  

configure_requires:

    Module                           Need  Have    
    -------------------------------- ----- --------
    ExtUtils::MakeMaker              6.17  6.66    


------------------------------
ENVIRONMENT AND OTHER CONTEXT
------------------------------

Environment variables:

    AUTOMATED_TESTING = 1
    PATH = /usr/local/bin:/usr/bin:/bin:/usr/games
    PERL = 5.18.0
    PERL5LIB = 
    PERL5OPT = 
    PERL5_CPANPLUS_IS_RUNNING = 28570
    PERL5_CPAN_IS_RUNNING = 28570
    PERLVER = 5.18.0
    PERL_INLINE_DIRECTORY = /home/david/.Inline-5.18.0
    PERL_MM_USE_DEFAULT = 1
    SHELL = /bin/bash
    TERM = screen

Perl special variables (and OS-specific diagnostics, for MSWin32):

    $^X = /home/david/cpantesting/perl-5.18.0/bin/perl
    $UID/$EUID = 1000 / 1000
    $GID = 1000 1000
    $EGID = 1000 1000

Perl module toolchain versions installed:

    Module              Have    
    ------------------- --------
    CPAN                2.00    
    CPAN::Meta          2.141520
    Cwd                 3.40    
    ExtUtils::CBuilder  0.280210
    ExtUtils::Command   1.17    
    ExtUtils::Install   1.59    
    ExtUtils::MakeMaker 6.66    
    ExtUtils::Manifest  1.63    
    ExtUtils::ParseXS   3.18    
    File::Spec          3.40    
    JSON                2.57    
    JSON::PP            2.27202 
    Module::Build       0.4003  
    Module::Signature   n/a     
    Parse::CPAN::Meta   1.4414  
    Test::Harness       3.32    
    Test::More          1.001003
    YAML                n/a     
    YAML::Syck          n/a     
    version             0.9902  


--

Summary of my perl5 (revision 5 version 18 subversion 0) configuration:
   
  Platform:
    osname=linux, osvers=3.2.0-4-amd64, archname=x86_64-linux-thread-multi
    uname='linux pigsty.barnyard.co.uk 3.2.0-4-amd64 #1 smp debian 3.2.35-2 x86_64 gnulinux '
    config_args='-de -Dprefix=/home/david/cpantesting/perl-5.18.0 -Dusethreads -Duse64bitall'
    hint=recommended, useposix=true, d_sigaction=define
    useithreads=define, usemultiplicity=define
    useperlio=define, d_sfio=undef, uselargefiles=define, usesocks=undef
    use64bitint=define, use64bitall=define, uselongdouble=undef
    usemymalloc=n, bincompat5005=undef
  Compiler:
    cc='cc', ccflags ='-D_REENTRANT -D_GNU_SOURCE -fno-strict-aliasing -pipe -fstack-protector -I/usr/local/include -D_LARGEFILE_SOURCE -D_FILE_OFFSET_BITS=64',
    optimize='-O2',
    cppflags='-D_REENTRANT -D_GNU_SOURCE -fno-strict-aliasing -pipe -fstack-protector -I/usr/local/include'
    ccversion='', gccversion='4.1.2 20061115 (prerelease) (Debian 4.1.1-21)', gccosandvers=''
    intsize=4, longsize=8, ptrsize=8, doublesize=8, byteorder=12345678
    d_longlong=define, longlongsize=8, d_longdbl=define, longdblsize=16
    ivtype='long', ivsize=8, nvtype='double', nvsize=8, Off_t='off_t', lseeksize=8
    alignbytes=8, prototype=define
  Linker and Libraries:
    ld='cc', ldflags =' -fstack-protector -L/usr/local/lib'
    libpth=/usr/local/lib /lib /usr/lib /lib64 /usr/lib64
    libs=-lnsl -lgdbm -ldb -ldl -lm -lcrypt -lutil -lpthread -lc -lgdbm_compat
    perllibs=-lnsl -ldl -lm -lcrypt -lutil -lpthread -lc
    libc=/lib/libc-2.3.6.so, so=so, useshrplib=false, libperl=libperl.a
    gnulibc_version='2.3.6'
  Dynamic Linking:
    dlsrc=dl_dlopen.xs, dlext=so, d_dlsymun=undef, ccdlflags='-Wl,-E'
    cccdlflags='-fPIC', lddlflags='-shared -O2 -L/usr/local/lib -fstack-protector'


Characteristics of this binary (from libperl): 
  Compile-time options: HAS_TIMES MULTIPLICITY PERLIO_LAYERS
                        PERL_DONT_CREATE_GVSV
                        PERL_HASH_FUNC_ONE_AT_A_TIME_HARD
                        PERL_IMPLICIT_CONTEXT PERL_MALLOC_WRAP
                        PERL_PRESERVE_IVUV PERL_SAWAMPERSAND USE_64_BIT_ALL
                        USE_64_BIT_INT USE_ITHREADS USE_LARGE_FILES
                        USE_LOCALE USE_LOCALE_COLLATE USE_LOCALE_CTYPE
                        USE_LOCALE_NUMERIC USE_PERLIO USE_PERL_ATOF
                        USE_REENTRANT_API
  Built under linux
  Compiled at May 20 2013 18:28:55
  %ENV:
    PERL="5.18.0"
    PERL5LIB=""
    PERL5OPT=""
    PERL5_CPANPLUS_IS_RUNNING="28570"
    PERL5_CPAN_IS_RUNNING="28570"
    PERLVER="5.18.0"
    PERL_INLINE_DIRECTORY="/home/david/.Inline-5.18.0"
    PERL_MM_USE_DEFAULT="1"
  @INC:
    /home/david/cpantesting/perl-5.18.0/lib/site_perl/5.18.0/x86_64-linux-thread-multi
    /home/david/cpantesting/perl-5.18.0/lib/site_perl/5.18.0
    /home/david/cpantesting/perl-5.18.0/lib/5.18.0/x86_64-linux-thread-multi
    /home/david/cpantesting/perl-5.18.0/lib/5.18.0
    .