Report for OX-View-TT-0.02

Back
From: metabase:user:314402c4-2aae-11df-837a-5e0a49663a4f
Subject: PASS OX-View-TT-0.02 v5.16.3 FreeBSD
Date: 2014-03-24T16:45:12Z

This distribution has been tested as part of the CPAN Testers
project, supporting the Perl programming language.  See
http://wiki.cpantesters.org/ for more information or email
questions to cpan-testers-discuss@perl.org


--
Dear Jesse Luehrs,

This is a computer-generated report for OX-View-TT-0.02
on perl 5.16.3, created by CPAN-Reporter-1.2010.

Thank you for uploading your work to CPAN.  Congratulations!
All tests were successful.

Sections of this report:

    * Tester comments
    * Program output
    * Prerequisites
    * Environment and other context

------------------------------
TESTER COMMENTS
------------------------------

Additional comments from tester:

none provided

------------------------------
PROGRAM OUTPUT
------------------------------

Output from '/usr/bin/make test':

PERL_DL_NONLAZY=1 /usr/perl5.16.3/bin/perl "-MExtUtils::Command::MM" "-MTest::Harness" "-e" "undef *Test::Harness::Switches; test_harness(0, 'blib/lib', 'blib/arch')" t/*.t
t/00-compile.t ....... ok
Class::MOP::load_class is deprecated at /usr/perl5.16.3/lib/site_perl/5.16.3/amd64-freebsd/Class/MOP.pm line 73.
	Class::MOP::load_class("OX::View::TT") called at /usr/perl5.16.3/lib/site_perl/5.16.3/Bread/Board/Service/WithClass.pm line 22
	Class::MOP::Class:::before(Bread::Board::Declare::ConstructorInjection=HASH(0x25828d20)) called at /usr/perl5.16.3/lib/site_perl/5.16.3/amd64-freebsd/Class/MOP/Method/Wrapped.pm line 31
	Class::MOP::Method::Wrapped::__ANON__(Bread::Board::Declare::ConstructorInjection=HASH(0x25828d20)) called at /usr/perl5.16.3/lib/site_perl/5.16.3/amd64-freebsd/Class/MOP/Method/Wrapped.pm line 92
	Bread::Board::ConstructorInjection::get(Bread::Board::Declare::ConstructorInjection=HASH(0x25828d20)) called at /usr/perl5.16.3/lib/site_perl/5.16.3/Bread/Board/Declare/Role/Service.pm line 31
	Class::MOP::Class:::around(CODE(0x23f40c90), Bread::Board::Declare::ConstructorInjection=HASH(0x25828d20)) called at /usr/perl5.16.3/lib/site_perl/5.16.3/amd64-freebsd/Class/MOP/Method/Wrapped.pm line 163
	Class::MOP::Method::Wrapped::__ANON__(Bread::Board::Declare::ConstructorInjection=HASH(0x25828d20)) called at /usr/perl5.16.3/lib/site_perl/5.16.3/amd64-freebsd/Class/MOP/Method/Wrapped.pm line 92
	Bread::Board::Declare::ConstructorInjection::get(Bread::Board::Declare::ConstructorInjection=HASH(0x25828d20)) called at reader Foo::view (defined at t/array_parameter.t line 57) line 11
	Foo::view(Foo=HASH(0x25808660)) called at t/array_parameter.t line 77
t/array_parameter.t .. ok
Class::MOP::load_class is deprecated at /usr/perl5.16.3/lib/site_perl/5.16.3/amd64-freebsd/Class/MOP.pm line 73.
	Class::MOP::load_class("OX::View::TT") called at /usr/perl5.16.3/lib/site_perl/5.16.3/Bread/Board/Service/WithClass.pm line 22
	Class::MOP::Class:::before(Bread::Board::Declare::ConstructorInjection=HASH(0x25828a50)) called at /usr/perl5.16.3/lib/site_perl/5.16.3/amd64-freebsd/Class/MOP/Method/Wrapped.pm line 31
	Class::MOP::Method::Wrapped::__ANON__(Bread::Board::Declare::ConstructorInjection=HASH(0x25828a50)) called at /usr/perl5.16.3/lib/site_perl/5.16.3/amd64-freebsd/Class/MOP/Method/Wrapped.pm line 92
	Bread::Board::ConstructorInjection::get(Bread::Board::Declare::ConstructorInjection=HASH(0x25828a50)) called at /usr/perl5.16.3/lib/site_perl/5.16.3/Bread/Board/Declare/Role/Service.pm line 31
	Class::MOP::Class:::around(CODE(0x23f40c90), Bread::Board::Declare::ConstructorInjection=HASH(0x25828a50)) called at /usr/perl5.16.3/lib/site_perl/5.16.3/amd64-freebsd/Class/MOP/Method/Wrapped.pm line 163
	Class::MOP::Method::Wrapped::__ANON__(Bread::Board::Declare::ConstructorInjection=HASH(0x25828a50)) called at /usr/perl5.16.3/lib/site_perl/5.16.3/amd64-freebsd/Class/MOP/Method/Wrapped.pm line 92
	Bread::Board::Declare::ConstructorInjection::get(Bread::Board::Declare::ConstructorInjection=HASH(0x25828a50)) called at reader Foo::view (defined at t/basic.t line 45) line 11
	Foo::view(Foo=HASH(0x25823c90)) called at t/basic.t line 66
t/basic.t ............ ok
Class::MOP::load_class is deprecated at /usr/perl5.16.3/lib/site_perl/5.16.3/amd64-freebsd/Class/MOP.pm line 73.
	Class::MOP::load_class("Path::Router") called at /usr/perl5.16.3/lib/site_perl/5.16.3/Bread/Board/Service/WithClass.pm line 22
	Class::MOP::Class:::before(Bread::Board::BlockInjection=HASH(0x2582f6c0)) called at /usr/perl5.16.3/lib/site_perl/5.16.3/amd64-freebsd/Class/MOP/Method/Wrapped.pm line 31
	Class::MOP::Method::Wrapped::__ANON__(Bread::Board::BlockInjection=HASH(0x2582f6c0)) called at /usr/perl5.16.3/lib/site_perl/5.16.3/amd64-freebsd/Class/MOP/Method/Wrapped.pm line 92
	Bread::Board::BlockInjection::get(Bread::Board::BlockInjection=HASH(0x2582f6c0)) called at /usr/perl5.16.3/lib/site_perl/5.16.3/Bread/Board/Service/WithDependencies.pm line 93
	Bread::Board::Service::WithDependencies::try {...} () called at /usr/perl5.16.3/lib/site_perl/5.16.3/Try/Tiny.pm line 81
	eval {...} called at /usr/perl5.16.3/lib/site_perl/5.16.3/Try/Tiny.pm line 72
	Try::Tiny::try(CODE(0x25b65c30), Try::Tiny::Finally=REF(0x25b63f00), Try::Tiny::Catch=REF(0x25b63ee8)) called at /usr/perl5.16.3/lib/site_perl/5.16.3/Bread/Board/Service/WithDependencies.pm line 99
	Bread::Board::Service::WithDependencies::resolve_dependencies(Bread::Board::BlockInjection=HASH(0x25830a80)) called at /usr/perl5.16.3/lib/site_perl/5.16.3/Bread/Board/Service/WithDependencies.pm line 41
	Class::MOP::Class:::around(CODE(0x20b4f930), Bread::Board::BlockInjection=HASH(0x25830a80)) called at /usr/perl5.16.3/lib/site_perl/5.16.3/amd64-freebsd/Class/MOP/Method/Wrapped.pm line 163
	Class::MOP::Method::Wrapped::__ANON__(Bread::Board::BlockInjection=HASH(0x25830a80)) called at /usr/perl5.16.3/lib/site_perl/5.16.3/amd64-freebsd/Class/MOP/Method/Wrapped.pm line 92
	Bread::Board::BlockInjection::init_params(Bread::Board::BlockInjection=HASH(0x25830a80)) called at accessor Bread::Board::BlockInjection::params (defined at /usr/perl5.16.3/lib/site_perl/5.16.3/Bread/Board/Service.pm line 20) line 10
	Bread::Board::BlockInjection::params(Bread::Board::BlockInjection=HASH(0x25830a80)) called at /usr/perl5.16.3/lib/site_perl/5.16.3/Bread/Board/Service/WithParameters.pm line 38
	Class::MOP::Class:::before(Bread::Board::BlockInjection=HASH(0x25830a80)) called at /usr/perl5.16.3/lib/site_perl/5.16.3/amd64-freebsd/Class/MOP/Method/Wrapped.pm line 31
	Class::MOP::Method::Wrapped::__ANON__(Bread::Board::BlockInjection=HASH(0x25830a80)) called at /usr/perl5.16.3/lib/site_perl/5.16.3/amd64-freebsd/Class/MOP/Method/Wrapped.pm line 92
	Bread::Board::BlockInjection::get(Bread::Board::BlockInjection=HASH(0x25830a80)) called at /usr/perl5.16.3/lib/site_perl/5.16.3/Bread/Board/Service/WithDependencies.pm line 93
	Bread::Board::Service::WithDependencies::try {...} () called at /usr/perl5.16.3/lib/site_perl/5.16.3/Try/Tiny.pm line 81
	eval {...} called at /usr/perl5.16.3/lib/site_perl/5.16.3/Try/Tiny.pm line 72
	Try::Tiny::try(CODE(0x25b60f48), Try::Tiny::Finally=REF(0x213397b0), Try::Tiny::Catch=REF(0x25b60e28)) called at /usr/perl5.16.3/lib/site_perl/5.16.3/Bread/Board/Service/WithDependencies.pm line 99
	Bread::Board::Service::WithDependencies::resolve_dependencies(Bread::Board::BlockInjection=HASH(0x258dd810)) called at /usr/perl5.16.3/lib/site_perl/5.16.3/Bread/Board/Service/WithDependencies.pm line 41
	Class::MOP::Class:::around(CODE(0x20b4f930), Bread::Board::BlockInjection=HASH(0x258dd810)) called at /usr/perl5.16.3/lib/site_perl/5.16.3/amd64-freebsd/Class/MOP/Method/Wrapped.pm line 163
	Class::MOP::Method::Wrapped::__ANON__(Bread::Board::BlockInjection=HASH(0x258dd810)) called at /usr/perl5.16.3/lib/site_perl/5.16.3/amd64-freebsd/Class/MOP/Method/Wrapped.pm line 92
	Bread::Board::BlockInjection::init_params(Bread::Board::BlockInjection=HASH(0x258dd810)) called at accessor Bread::Board::BlockInjection::params (defined at /usr/perl5.16.3/lib/site_perl/5.16.3/Bread/Board/Service.pm line 20) line 10
	Bread::Board::BlockInjection::params(Bread::Board::BlockInjection=HASH(0x258dd810)) called at /usr/perl5.16.3/lib/site_perl/5.16.3/Bread/Board/Service/WithParameters.pm line 38
	Class::MOP::Class:::before(Bread::Board::BlockInjection=HASH(0x258dd810)) called at /usr/perl5.16.3/lib/site_perl/5.16.3/amd64-freebsd/Class/MOP/Method/Wrapped.pm line 31
	Class::MOP::Method::Wrapped::__ANON__(Bread::Board::BlockInjection=HASH(0x258dd810)) called at /usr/perl5.16.3/lib/site_perl/5.16.3/amd64-freebsd/Class/MOP/Method/Wrapped.pm line 92
	Bread::Board::BlockInjection::get(Bread::Board::BlockInjection=HASH(0x258dd810)) called at /usr/perl5.16.3/lib/site_perl/5.16.3/Bread/Board/Container.pm line 161
	Bread::Board::Container::resolve(undef, "service", "App") called at /home/eserte/.cpan/build/OX-0.13-b3eftw/blib/lib/OX/Application.pm line 114
	OX::Application::to_app(Foo=HASH(0x25808c78)) called at /home/eserte/.cpan/build/OX-0.13-b3eftw/blib/lib/OX/Application/Role/Sugar.pm line 98
	Class::MOP::Class:::around(CODE(0x2505c1b0), Foo=HASH(0x25808c78)) called at /usr/perl5.16.3/lib/site_perl/5.16.3/amd64-freebsd/Class/MOP/Method/Wrapped.pm line 163
	Class::MOP::Method::Wrapped::__ANON__(Foo=HASH(0x25808c78)) called at /usr/perl5.16.3/lib/site_perl/5.16.3/amd64-freebsd/Class/MOP/Method/Wrapped.pm line 92
	Moose::Meta::Class::__ANON__::SERIAL::21::to_app(Foo=HASH(0x25808c78)) called at t/mapping.t line 70
t/mapping.t .......... ok
Class::MOP::load_class is deprecated at /usr/perl5.16.3/lib/site_perl/5.16.3/amd64-freebsd/Class/MOP.pm line 73.
	Class::MOP::load_class("Path::Router") called at /usr/perl5.16.3/lib/site_perl/5.16.3/Bread/Board/Service/WithClass.pm line 22
	Class::MOP::Class:::before(Bread::Board::BlockInjection=HASH(0x257d3078)) called at /usr/perl5.16.3/lib/site_perl/5.16.3/amd64-freebsd/Class/MOP/Method/Wrapped.pm line 31
	Class::MOP::Method::Wrapped::__ANON__(Bread::Board::BlockInjection=HASH(0x257d3078)) called at /usr/perl5.16.3/lib/site_perl/5.16.3/amd64-freebsd/Class/MOP/Method/Wrapped.pm line 92
	Bread::Board::BlockInjection::get(Bread::Board::BlockInjection=HASH(0x257d3078)) called at /usr/perl5.16.3/lib/site_perl/5.16.3/Bread/Board/Service/WithDependencies.pm line 93
	Bread::Board::Service::WithDependencies::try {...} () called at /usr/perl5.16.3/lib/site_perl/5.16.3/Try/Tiny.pm line 81
	eval {...} called at /usr/perl5.16.3/lib/site_perl/5.16.3/Try/Tiny.pm line 72
	Try::Tiny::try(CODE(0x25b3d510), Try::Tiny::Finally=REF(0x25b397e0), Try::Tiny::Catch=REF(0x25b397c8)) called at /usr/perl5.16.3/lib/site_perl/5.16.3/Bread/Board/Service/WithDependencies.pm line 99
	Bread::Board::Service::WithDependencies::resolve_dependencies(Bread::Board::BlockInjection=HASH(0x257d6438)) called at /usr/perl5.16.3/lib/site_perl/5.16.3/Bread/Board/Service/WithDependencies.pm line 41
	Class::MOP::Class:::around(CODE(0x23c12288), Bread::Board::BlockInjection=HASH(0x257d6438)) called at /usr/perl5.16.3/lib/site_perl/5.16.3/amd64-freebsd/Class/MOP/Method/Wrapped.pm line 163
	Class::MOP::Method::Wrapped::__ANON__(Bread::Board::BlockInjection=HASH(0x257d6438)) called at /usr/perl5.16.3/lib/site_perl/5.16.3/amd64-freebsd/Class/MOP/Method/Wrapped.pm line 92
	Bread::Board::BlockInjection::init_params(Bread::Board::BlockInjection=HASH(0x257d6438)) called at accessor Bread::Board::BlockInjection::params (defined at /usr/perl5.16.3/lib/site_perl/5.16.3/Bread/Board/Service.pm line 20) line 10
	Bread::Board::BlockInjection::params(Bread::Board::BlockInjection=HASH(0x257d6438)) called at /usr/perl5.16.3/lib/site_perl/5.16.3/Bread/Board/Service/WithParameters.pm line 38
	Class::MOP::Class:::before(Bread::Board::BlockInjection=HASH(0x257d6438)) called at /usr/perl5.16.3/lib/site_perl/5.16.3/amd64-freebsd/Class/MOP/Method/Wrapped.pm line 31
	Class::MOP::Method::Wrapped::__ANON__(Bread::Board::BlockInjection=HASH(0x257d6438)) called at /usr/perl5.16.3/lib/site_perl/5.16.3/amd64-freebsd/Class/MOP/Method/Wrapped.pm line 92
	Bread::Board::BlockInjection::get(Bread::Board::BlockInjection=HASH(0x257d6438)) called at /usr/perl5.16.3/lib/site_perl/5.16.3/Bread/Board/Service/WithDependencies.pm line 93
	Bread::Board::Service::WithDependencies::try {...} () called at /usr/perl5.16.3/lib/site_perl/5.16.3/Try/Tiny.pm line 81
	eval {...} called at /usr/perl5.16.3/lib/site_perl/5.16.3/Try/Tiny.pm line 72
	Try::Tiny::try(CODE(0x25b361f8), Try::Tiny::Finally=REF(0x2132a6a8), Try::Tiny::Catch=REF(0x25b36828)) called at /usr/perl5.16.3/lib/site_perl/5.16.3/Bread/Board/Service/WithDependencies.pm line 99
	Bread::Board::Service::WithDependencies::resolve_dependencies(Bread::Board::BlockInjection=HASH(0x258e41c8)) called at /usr/perl5.16.3/lib/site_perl/5.16.3/Bread/Board/Service/WithDependencies.pm line 41
	Class::MOP::Class:::around(CODE(0x23c12288), Bread::Board::BlockInjection=HASH(0x258e41c8)) called at /usr/perl5.16.3/lib/site_perl/5.16.3/amd64-freebsd/Class/MOP/Method/Wrapped.pm line 163
	Class::MOP::Method::Wrapped::__ANON__(Bread::Board::BlockInjection=HASH(0x258e41c8)) called at /usr/perl5.16.3/lib/site_perl/5.16.3/amd64-freebsd/Class/MOP/Method/Wrapped.pm line 92
	Bread::Board::BlockInjection::init_params(Bread::Board::BlockInjection=HASH(0x258e41c8)) called at accessor Bread::Board::BlockInjection::params (defined at /usr/perl5.16.3/lib/site_perl/5.16.3/Bread/Board/Service.pm line 20) line 10
	Bread::Board::BlockInjection::params(Bread::Board::BlockInjection=HASH(0x258e41c8)) called at /usr/perl5.16.3/lib/site_perl/5.16.3/Bread/Board/Service/WithParameters.pm line 38
	Class::MOP::Class:::before(Bread::Board::BlockInjection=HASH(0x258e41c8)) called at /usr/perl5.16.3/lib/site_perl/5.16.3/amd64-freebsd/Class/MOP/Method/Wrapped.pm line 31
	Class::MOP::Method::Wrapped::__ANON__(Bread::Board::BlockInjection=HASH(0x258e41c8)) called at /usr/perl5.16.3/lib/site_perl/5.16.3/amd64-freebsd/Class/MOP/Method/Wrapped.pm line 92
	Bread::Board::BlockInjection::get(Bread::Board::BlockInjection=HASH(0x258e41c8)) called at /usr/perl5.16.3/lib/site_perl/5.16.3/Bread/Board/Container.pm line 161
	Bread::Board::Container::resolve(undef, "service", "App") called at /home/eserte/.cpan/build/OX-0.13-b3eftw/blib/lib/OX/Application.pm line 114
	OX::Application::to_app(Foo=HASH(0x257c0a50)) called at /home/eserte/.cpan/build/OX-0.13-b3eftw/blib/lib/OX/Application/Role/Sugar.pm line 98
	Class::MOP::Class:::around(CODE(0x25056678), Foo=HASH(0x257c0a50)) called at /usr/perl5.16.3/lib/site_perl/5.16.3/amd64-freebsd/Class/MOP/Method/Wrapped.pm line 163
	Class::MOP::Method::Wrapped::__ANON__(Foo=HASH(0x257c0a50)) called at /usr/perl5.16.3/lib/site_perl/5.16.3/amd64-freebsd/Class/MOP/Method/Wrapped.pm line 92
	Moose::Meta::Class::__ANON__::SERIAL::21::to_app(Foo=HASH(0x257c0a50)) called at t/route.t line 54
t/route.t ............ ok
All tests successful.
Files=5, Tests=24,  9 wallclock secs ( 0.03 usr  0.02 sys +  8.36 cusr  1.29 csys =  9.70 CPU)
Result: PASS

------------------------------
PREREQUISITES
------------------------------

Prerequisite modules loaded:

requires:

    Module                     Need Have    
    -------------------------- ---- --------
    Moose                      0    2.1204  
    MooseX::Types::Path::Class 0    0.06    
    Template                   0    2.25    

build_requires:

    Module                     Need Have    
    -------------------------- ---- --------
    File::Spec                 0    3.40    
    FindBin                    0    1.51    
    HTTP::Request::Common      0    6.04    
    IO::Handle                 0    1.33    
    IPC::Open3                 0    1.12    
    OX                         0    0.13    
    Path::Class                0    0.33    
    Plack::Test                0    0       
    strict                     0    1.07    
    Test::More                 0.88 1.001002
    warnings                   0    1.13    

configure_requires:

    Module                     Need Have    
    -------------------------- ---- --------
    ExtUtils::MakeMaker        6.30 6.90    


------------------------------
ENVIRONMENT AND OTHER CONTEXT
------------------------------

Environment variables:

    DBIC_NO_WARN_BAD_PERL = 1
    LC_ALL = de_DE.ISO8859-1
    PATH = /usr/local/bin:/usr/bin:/bin:/usr/local/sbin:/usr/sbin:/sbin:/home/cpansand/bin/freebsd9.1:/home/cpansand/bin/sh:/home/cpansand/bin:/usr/games:/home/cpansand/devel:/usr/home/eserte/work/srezic-misc/scripts
    PERL5LIB = /home/eserte/.cpan/build/OX-0.13-b3eftw/blib/arch:/home/eserte/.cpan/build/OX-0.13-b3eftw/blib/lib:/home/eserte/.cpan/build/Web-Request-0.11-z7sgA4/blib/arch:/home/eserte/.cpan/build/Web-Request-0.11-z7sgA4/blib/lib:/home/eserte/.cpan/build/Plack-App-Path-Router-0.05-kwCfI7/blib/arch:/home/eserte/.cpan/build/Plack-App-Path-Router-0.05-kwCfI7/blib/lib:/home/eserte/.cpan/build/Path-Router-0.12-ib5PSU/blib/arch:/home/eserte/.cpan/build/Path-Router-0.12-ib5PSU/blib/lib:/home/eserte/.cpan/build/Tie-FileHandle-Split-0.91-YMOmwp/blib/arch:/home/eserte/.cpan/build/Tie-FileHandle-Split-0.91-YMOmwp/blib/lib:/home/eserte/.cpan/build/Tie-FileHandle-Base-0.1-EdKgn_/blib/arch:/home/eserte/.cpan/build/Tie-FileHandle-Base-0.1-EdKgn_/blib/lib:/home/eserte/.cpan/build/FROGGS-a1deLv/blib/arch:/home/eserte/.cpan/build/FROGGS-a1deLv/blib/lib
    PERL5OPT = 
    PERL5_CPANPLUS_IS_RUNNING = 35649
    PERL5_CPAN_IS_RUNNING = 35649
    PERL5_CPAN_IS_RUNNING_IN_RECURSION = 35627,35649
    PERLDOC = -MPod::Perldoc::ToTextOverstrike
    PERL_BATCH = yes
    PERL_CPAN_REPORTER_CONFIG = /var/tmp/cpansmoker-1023/lzSwherRcT_config.ini
    PERL_EXTUTILS_AUTOINSTALL = --defaultdeps
    PERL_HTML_DISPLAY_CLASS = HTML::Display::Mozilla
    SHELL = /usr/local/bin/zsh
    TERM = screen
    TMPDIR = /var/tmp/cpansmoker-1023

Perl special variables (and OS-specific diagnostics, for MSWin32):

    $^X = /usr/perl5.16.3/bin/perl
    $UID/$EUID = 1023 / 1023
    $GID = 1023 1023
    $EGID = 1023 1023

Perl module toolchain versions installed:

    Module              Have    
    ------------------- --------
    CPAN                1.9800  
    CPAN::Meta          2.132830
    Cwd                 3.40    
    ExtUtils::CBuilder  0.280206
    ExtUtils::Command   1.17    
    ExtUtils::Install   1.58    
    ExtUtils::MakeMaker 6.90    
    ExtUtils::Manifest  1.61    
    ExtUtils::ParseXS   3.22    
    File::Spec          3.40    
    JSON                2.90    
    JSON::PP            2.27203 
    Module::Build       0.4204  
    Module::Signature   0.73    
    Parse::CPAN::Meta   1.4409  
    Test::Harness       3.30    
    Test::More          1.001002
    YAML                0.86    
    YAML::Syck          1.27    
    version             0.9908  


--

Summary of my perl5 (revision 5 version 16 subversion 3) configuration:
   
  Platform:
    osname=freebsd, osvers=9.2-release, archname=amd64-freebsd
    uname='freebsd cvrsnica-freebsd-92 9.2-release freebsd 9.2-release #0 r255898: thu sep 26 22:50:31 utc 2013 root@bake.isc.freebsd.org:usrobjusrsrcsysgeneric amd64 '
    config_args='-ds -e -Dprefix=/usr/perl5.16.3'
    hint=recommended, useposix=true, d_sigaction=define
    useithreads=undef, usemultiplicity=undef
    useperlio=define, d_sfio=undef, uselargefiles=define, usesocks=undef
    use64bitint=define, use64bitall=define, uselongdouble=undef
    usemymalloc=n, bincompat5005=undef
  Compiler:
    cc='cc', ccflags ='-DHAS_FPSETMASK -DHAS_FLOATINGPOINT_H -fno-strict-aliasing -pipe -fstack-protector -I/usr/local/include',
    optimize='-O',
    cppflags='-DHAS_FPSETMASK -DHAS_FLOATINGPOINT_H -fno-strict-aliasing -pipe -fstack-protector -I/usr/local/include'
    ccversion='', gccversion='4.2.1 20070831 patched [FreeBSD]', gccosandvers=''
    intsize=4, longsize=8, ptrsize=8, doublesize=8, byteorder=12345678
    d_longlong=define, longlongsize=8, d_longdbl=define, longdblsize=16
    ivtype='long', ivsize=8, nvtype='double', nvsize=8, Off_t='off_t', lseeksize=8
    alignbytes=8, prototype=define
  Linker and Libraries:
    ld='cc', ldflags ='-Wl,-E  -fstack-protector -L/usr/local/lib'
    libpth=/usr/lib /usr/local/lib
    libs=-lm -lcrypt -lutil -lc
    perllibs=-lm -lcrypt -lutil -lc
    libc=, so=so, useshrplib=false, libperl=libperl.a
    gnulibc_version=''
  Dynamic Linking:
    dlsrc=dl_dlopen.xs, dlext=so, d_dlsymun=undef, ccdlflags=' '
    cccdlflags='-DPIC -fPIC', lddlflags='-shared  -L/usr/local/lib -fstack-protector'


Characteristics of this binary (from libperl): 
  Compile-time options: HAS_TIMES PERLIO_LAYERS PERL_DONT_CREATE_GVSV
                        PERL_MALLOC_WRAP PERL_PRESERVE_IVUV USE_64_BIT_ALL
                        USE_64_BIT_INT USE_LARGE_FILES USE_LOCALE
                        USE_LOCALE_COLLATE USE_LOCALE_CTYPE
                        USE_LOCALE_NUMERIC USE_PERLIO USE_PERL_ATOF
  Built under freebsd
  Compiled at Nov 17 2013 13:29:42
  %ENV:
    PERL5LIB="/home/eserte/.cpan/build/OX-0.13-b3eftw/blib/arch:/home/eserte/.cpan/build/OX-0.13-b3eftw/blib/lib:/home/eserte/.cpan/build/Web-Request-0.11-z7sgA4/blib/arch:/home/eserte/.cpan/build/Web-Request-0.11-z7sgA4/blib/lib:/home/eserte/.cpan/build/Plack-App-Path-Router-0.05-kwCfI7/blib/arch:/home/eserte/.cpan/build/Plack-App-Path-Router-0.05-kwCfI7/blib/lib:/home/eserte/.cpan/build/Path-Router-0.12-ib5PSU/blib/arch:/home/eserte/.cpan/build/Path-Router-0.12-ib5PSU/blib/lib:/home/eserte/.cpan/build/Tie-FileHandle-Split-0.91-YMOmwp/blib/arch:/home/eserte/.cpan/build/Tie-FileHandle-Split-0.91-YMOmwp/blib/lib:/home/eserte/.cpan/build/Tie-FileHandle-Base-0.1-EdKgn_/blib/arch:/home/eserte/.cpan/build/Tie-FileHandle-Base-0.1-EdKgn_/blib/lib:/home/eserte/.cpan/build/FROGGS-a1deLv/blib/arch:/home/eserte/.cpan/build/FROGGS-a1deLv/blib/lib"
    PERL5OPT=""
    PERL5_CPANPLUS_IS_RUNNING="35649"
    PERL5_CPAN_IS_RUNNING="35649"
    PERL5_CPAN_IS_RUNNING_IN_RECURSION="35627,35649"
    PERLDOC="-MPod::Perldoc::ToTextOverstrike"
    PERL_BATCH="yes"
    PERL_CPAN_REPORTER_CONFIG="/var/tmp/cpansmoker-1023/lzSwherRcT_config.ini"
    PERL_EXTUTILS_AUTOINSTALL="--defaultdeps"
    PERL_HTML_DISPLAY_CLASS="HTML::Display::Mozilla"
  @INC:
    /home/eserte/.cpan/build/OX-0.13-b3eftw/blib/arch
    /home/eserte/.cpan/build/OX-0.13-b3eftw/blib/lib
    /home/eserte/.cpan/build/Web-Request-0.11-z7sgA4/blib/arch
    /home/eserte/.cpan/build/Web-Request-0.11-z7sgA4/blib/lib
    /home/eserte/.cpan/build/Plack-App-Path-Router-0.05-kwCfI7/blib/arch
    /home/eserte/.cpan/build/Plack-App-Path-Router-0.05-kwCfI7/blib/lib
    /home/eserte/.cpan/build/Path-Router-0.12-ib5PSU/blib/arch
    /home/eserte/.cpan/build/Path-Router-0.12-ib5PSU/blib/lib
    /home/eserte/.cpan/build/Tie-FileHandle-Split-0.91-YMOmwp/blib/arch
    /home/eserte/.cpan/build/Tie-FileHandle-Split-0.91-YMOmwp/blib/lib
    /home/eserte/.cpan/build/Tie-FileHandle-Base-0.1-EdKgn_/blib/arch
    /home/eserte/.cpan/build/Tie-FileHandle-Base-0.1-EdKgn_/blib/lib
    /home/eserte/.cpan/build/FROGGS-a1deLv/blib/arch
    /home/eserte/.cpan/build/FROGGS-a1deLv/blib/lib
    /usr/perl5.16.3/lib/site_perl/5.16.3/amd64-freebsd
    /usr/perl5.16.3/lib/site_perl/5.16.3
    /usr/perl5.16.3/lib/5.16.3/amd64-freebsd
    /usr/perl5.16.3/lib/5.16.3
    .