Dist-Zilla-Plugin-Git v2.050 Perl 5 v5.30.3 x86_64-linux-quadmath

Status
Pass
From
David Cantrell (DCANTRELL)
Dist
Dist-Zilla-Plugin-Git v2.050
Platform
Perl 5 v5.30.3 x86_64-linux-quadmath
Date
2024-06-16 00:37:53
ID
ab1a951a-2b78-11ef-ac8f-14a674a40f4e
This distribution has been tested as part of the CPAN Testers
project, supporting the Perl programming language.  See
http://wiki.cpantesters.org/ for more information or email
questions to cpan-testers-discuss@perl.org


--
Dear Karen Etheridge,

This is a computer-generated report for Dist-Zilla-Plugin-Git-2.050
on perl 5.30.3, created by CPAN-Reporter-1.2018.

Thank you for uploading your work to CPAN.  Congratulations!
All tests were successful.

Sections of this report:

    * Tester comments
    * Program output
    * Prerequisites
    * Environment and other context

------------------------------
TESTER COMMENTS
------------------------------

Additional comments from tester:

this report is from an automated smoke testing program
and was not reviewed by a human for accuracy

------------------------------
PROGRAM OUTPUT
------------------------------

Output from '/usr/bin/make test':

"/home/david/cpantesting/perl-5.30.3-quadmath/bin/perl" "-Iblib/arch" "-Iblib/lib" Makefile_git.PL Makefile_git 
PERL_DL_NONLAZY=1 "/home/david/cpantesting/perl-5.30.3-quadmath/bin/perl" "-MExtUtils::Command::MM" "-MTest::Harness" "-e" "undef *Test::Harness::Switches; test_harness(0, 'blib/lib', 'blib/arch')" t/*.t
# 
# Versions for all modules listed in MYMETA.json (including optional ones):
# 
# === Configure Requires ===
# 
#     Module               Want     Have
#     ------------------- ----- --------
#     ExtUtils::MakeMaker   any     7.70
#     Text::ParseWords      any     3.31
#     perl                5.010 5.030003
#     version               any   0.9930
# 
# === Build Requires ===
# 
#     Module              Want Have
#     ------------------- ---- ----
#     ExtUtils::MakeMaker  any 7.70
# 
# === Test Requires ===
# 
#     Module                            Want     Have
#     -------------------------------- ----- --------
#     CPAN::Meta::Check                0.011    0.018
#     CPAN::Meta::Requirements           any    2.143
#     Dist::Zilla::File::InMemory        any    6.032
#     Dist::Zilla::Plugin::Config::Git   any     0.92
#     Dist::Zilla::Role::Releaser        any    6.032
#     Dist::Zilla::Tester                any    6.032
#     Encode                             any     3.20
#     Exporter                           any     5.77
#     ExtUtils::MakeMaker                any     7.70
#     File::Copy                         any     2.34
#     File::Copy::Recursive              any     0.45
#     File::Path                        2.07     2.18
#     File::Spec                         any     3.75
#     File::Which                        any     1.27
#     File::pushd                        any    1.016
#     Log::Dispatchouli                  any    3.007
#     Test::DZil                         any    6.032
#     Test::Fatal                        any    0.017
#     Test::More                        0.88 1.302198
#     lib                                any     0.65
#     perl                             5.010 5.030003
#     utf8                               any     1.22
# 
# === Test Recommends ===
# 
#     Module         Want     Have
#     ---------- -------- --------
#     CPAN::Meta 2.120900 2.150010
# 
# === Runtime Requires ===
# 
#     Module                                 Want     Have
#     ---------------------------------- -------- --------
#     Cwd                                     any     3.75
#     DateTime                                any     1.65
#     Dist::Zilla                               4    6.032
#     Dist::Zilla::Plugin::GatherDir     4.200016    6.032
#     Dist::Zilla::Role::AfterBuild           any    6.032
#     Dist::Zilla::Role::AfterMint            any    6.032
#     Dist::Zilla::Role::AfterRelease         any    6.032
#     Dist::Zilla::Role::BeforeRelease        any    6.032
#     Dist::Zilla::Role::FilePruner           any    6.032
#     Dist::Zilla::Role::GitConfig            any     0.92
#     Dist::Zilla::Role::PluginBundle         any    6.032
#     Dist::Zilla::Role::VersionProvider      any    6.032
#     File::Spec::Functions                   any     3.75
#     File::Temp                              any   0.2311
#     File::chdir                             any   0.1011
#     Git::Wrapper                          0.021    0.048
#     IPC::Open3                              any     1.20
#     IPC::System::Simple                     any     1.30
#     List::Util                             1.45     1.63
#     Module::Runtime                         any    0.016
#     Moose                                   any   2.2206
#     Moose::Role                             any   2.2206
#     MooseX::Has::Sugar                      any 1.000006
#     Path::Tiny                            0.048    0.144
#     String::Formatter                       any    1.235
#     Try::Tiny                               any     0.31
#     Type::Utils                             any 2.004000
#     Types::Path::Tiny                       any    0.006
#     Types::Standard                         any 2.004000
#     Version::Next                           any    1.000
#     constant                                any     1.33
#     namespace::autoclean                   0.09     0.29
#     perl                                  5.010 5.030003
#     strict                                  any     1.11
#     version                                0.80   0.9930
#     warnings                                any     1.44
# 
# === Other Modules ===
# 
#     Module             Have
#     --------------- -------
#     Encode             3.20
#     File::Temp       0.2311
#     JSON::PP           4.16
#     Module::Runtime   0.016
#     Pod::Coverage   missing
#     Sub::Name          0.27
#     YAML               1.30
#     autodie            2.36
# 
t/00-report-prereqs.t ........... ok
# git version 2.39.2
t/000-report-git-version.t ...... ok
t/check.t ....................... ok
t/commit-build-custom.t ......... ok
t/commit-build-src-as-parent.t .. ok
t/commit-build.t ................ ok
t/commit-dirtydir.t ............. ok
t/commit-message.t .............. ok
t/commit-signoff.t .............. ok
t/commit-utf8.t ................. ok
t/commit-ws.t ................... ok
t/commit.t ...................... ok
t/gatherdir-multi.t ............. ok
t/gatherdir.t ................... ok
t/push-gitconfig.t .............. ok
t/push-multi.t .................. ok
t/push.t ........................ ok
t/repo-dir.t .................... ok
t/tag-signed.t .................. ok
t/tag.t ......................... ok
t/version-by-branch.t ........... ok
t/version-default.t ............. ok
t/version-extraction.t .......... ok
t/version-regexp.t .............. ok
t/zzz-check-breaks.t ............ ok
All tests successful.
Files=25, Tests=211, 336 wallclock secs ( 0.17 usr  0.11 sys + 51.19 cusr 14.76 csys = 66.23 CPU)
Result: PASS

------------------------------
PREREQUISITES
------------------------------

Prerequisite modules loaded:

requires:

    Module                             Need     Have    
    ---------------------------------- -------- --------
    constant                           0        1.33    
    Cwd                                0        3.75    
    DateTime                           0        1.65    
    Dist::Zilla                        4        6.032   
    Dist::Zilla::Plugin::GatherDir     4.200016 6.032   
    Dist::Zilla::Role::AfterBuild      0        6.032   
    Dist::Zilla::Role::AfterMint       0        6.032   
    Dist::Zilla::Role::AfterRelease    0        6.032   
    Dist::Zilla::Role::BeforeRelease   0        6.032   
    Dist::Zilla::Role::FilePruner      0        6.032   
    Dist::Zilla::Role::GitConfig       0        0.92    
    Dist::Zilla::Role::PluginBundle    0        6.032   
    Dist::Zilla::Role::VersionProvider 0        6.032   
    File::chdir                        0        0.1011  
    File::Spec::Functions              0        3.75    
    File::Temp                         0        0.2311  
    Git::Wrapper                       0.021    0.048   
    IPC::Open3                         0        1.20    
    IPC::System::Simple                0        1.30    
    List::Util                         1.45     1.63    
    Module::Runtime                    0        0.016   
    Moose                              0        2.2206  
    Moose::Role                        0        2.2206  
    MooseX::Has::Sugar                 0        1.000006
    namespace::autoclean               0.09     0.29    
    Path::Tiny                         0.048    0.144   
    perl                               5.010    5.030003
    strict                             0        1.11    
    String::Formatter                  0        1.235   
    Try::Tiny                          0        0.31    
    Type::Utils                        0        2.004000
    Types::Path::Tiny                  0        0.006   
    Types::Standard                    0        2.004000
    version                            0.80     0.9930  
    Version::Next                      0        1.000   
    warnings                           0        1.44    

build_requires:

    Module                             Need     Have    
    ---------------------------------- -------- --------
    CPAN::Meta::Check                  0.011    0.018   
    CPAN::Meta::Requirements           0        2.143   
    Dist::Zilla::File::InMemory        0        6.032   
    Dist::Zilla::Plugin::Config::Git   0        0.92    
    Dist::Zilla::Role::Releaser        0        6.032   
    Dist::Zilla::Tester                0        6.032   
    Encode                             0        3.20    
    Exporter                           0        5.77    
    ExtUtils::MakeMaker                0        7.70    
    File::Copy                         0        2.34    
    File::Copy::Recursive              0        0.45    
    File::Path                         2.07     2.18    
    File::pushd                        0        1.016   
    File::Spec                         0        3.75    
    File::Which                        0        1.27    
    lib                                0        0.65    
    Log::Dispatchouli                  0        3.007   
    Test::DZil                         0        6.032   
    Test::Fatal                        0        0.017   
    Test::More                         0.88     1.302198
    utf8                               0        1.22    

configure_requires:

    Module                             Need     Have    
    ---------------------------------- -------- --------
    ExtUtils::MakeMaker                0        7.70    
    perl                               5.010    5.030003
    Text::ParseWords                   0        3.31    
    version                            0        0.9930  


------------------------------
ENVIRONMENT AND OTHER CONTEXT
------------------------------

Environment variables:

    AUTOMATED_TESTING = 1
    LANG = en_GB.UTF-8
    LANGUAGE = en_GB:en
    LC_TERMINAL = iTerm2
    LC_TERMINAL_VERSION = 3.5.0
    NONINTERACTIVE_TESTING = 1
    PATH = /home/david/.nvm/versions/node/v20.14.0/bin:/home/david/.cargo/bin:/home/david/perl5/perlbrew/bin:/home/david/perl5/perlbrew/perls/perl-5.30.2/bin:/home/david/bin:/usr/local/bin:/usr/bin:/bin:/usr/local/games:/usr/games
    PERL = 5.30.3-quadmath
    PERL5LIB = 
    PERL5OPT = 
    PERL5_CPANPLUS_IS_RUNNING = 2165613
    PERL5_CPAN_IS_RUNNING = 2165613
    PERLBREW_HOME = /home/david/.perlbrew
    PERLBREW_MANPATH = /home/david/perl5/perlbrew/perls/perl-5.30.2/man
    PERLBREW_PATH = /home/david/perl5/perlbrew/bin:/home/david/perl5/perlbrew/perls/perl-5.30.2/bin
    PERLBREW_PERL = perl-5.30.2
    PERLBREW_ROOT = /home/david/perl5/perlbrew
    PERLBREW_SHELLRC_VERSION = 0.98
    PERLBREW_VERSION = 0.98
    PERLVER = 5.30.3-quadmath
    PERL_INLINE_DIRECTORY = /home/david/.Inline-5.30.3-quadmath
    PERL_MM_USE_DEFAULT = 1
    PERL_USE_UNSAFE_INC = 0
    SHELL = /bin/bash
    TERM = screen

Perl special variables (and OS-specific diagnostics, for MSWin32):

    $^X = /home/david/cpantesting/perl-5.30.3-quadmath/bin/perl
    $UID/$EUID = 1000 / 1000
    $GID = 1000 24 25 27 29 30 44 46 109 1000
    $EGID = 1000 24 25 27 29 30 44 46 109 1000

Perl module toolchain versions installed:

    Module              Have    
    ------------------- --------
    CPAN                2.22    
    CPAN::Meta          2.150010
    Cwd                 3.75    
    ExtUtils::CBuilder  0.280236
    ExtUtils::Command   7.70    
    ExtUtils::Install   2.22    
    ExtUtils::MakeMaker 7.70    
    ExtUtils::Manifest  1.75    
    ExtUtils::ParseXS   3.51    
    File::Spec          3.75    
    JSON                4.10    
    JSON::PP            4.16    
    Module::Build       0.4234  
    Module::Signature   n/a     
    Parse::CPAN::Meta   2.150010
    Test::Harness       3.48    
    Test::More          1.302198
    YAML                1.30    
    YAML::Syck          n/a     
    version             0.9930  


--

Summary of my perl5 (revision 5 version 30 subversion 3) configuration:
   
  Platform:
    osname=linux
    osvers=5.10.0-11-amd64
    archname=x86_64-linux-quadmath
    uname='linux cpantesting-linux-utm 5.10.0-11-amd64 #1 smp debian 5.10.92-1 (2022-01-18) x86_64 gnulinux '
    config_args='-de -Dusequadmath -Dprefix=/home/david/cpantesting/perl-5.30.3-quadmath'
    hint=recommended
    useposix=true
    d_sigaction=define
    useithreads=undef
    usemultiplicity=undef
    use64bitint=define
    use64bitall=define
    uselongdouble=undef
    usemymalloc=n
    default_inc_excludes_dot=define
    bincompat5005=undef
  Compiler:
    cc='cc'
    ccflags ='-fwrapv -fno-strict-aliasing -pipe -fstack-protector-strong -I/usr/local/include -D_LARGEFILE_SOURCE -D_FILE_OFFSET_BITS=64 -D_FORTIFY_SOURCE=2'
    optimize='-O2'
    cppflags='-fwrapv -fno-strict-aliasing -pipe -fstack-protector-strong -I/usr/local/include'
    ccversion=''
    gccversion='10.2.1 20210110'
    gccosandvers=''
    intsize=4
    longsize=8
    ptrsize=8
    doublesize=8
    byteorder=12345678
    doublekind=3
    d_longlong=define
    longlongsize=8
    d_longdbl=define
    longdblsize=16
    longdblkind=3
    ivtype='long'
    ivsize=8
    nvtype='__float128'
    nvsize=16
    Off_t='off_t'
    lseeksize=8
    alignbytes=16
    prototype=define
  Linker and Libraries:
    ld='cc'
    ldflags =' -fstack-protector-strong -L/usr/local/lib'
    libpth=/usr/local/lib /usr/include/x86_64-linux-gnu /usr/lib /lib/x86_64-linux-gnu /lib/../lib /usr/lib/x86_64-linux-gnu /usr/lib/../lib /lib /lib64 /usr/lib64
    libs=-lpthread -lnsl -ldl -lm -lcrypt -lutil -lc -lquadmath
    perllibs=-lpthread -lnsl -ldl -lm -lcrypt -lutil -lc -lquadmath
    libc=libc-2.31.so
    so=so
    useshrplib=false
    libperl=libperl.a
    gnulibc_version='2.31'
  Dynamic Linking:
    dlsrc=dl_dlopen.xs
    dlext=so
    d_dlsymun=undef
    ccdlflags='-Wl,-E'
    cccdlflags='-fPIC'
    lddlflags='-shared -O2 -L/usr/local/lib -fstack-protector-strong'


Characteristics of this binary (from libperl): 
  Compile-time options:
    HAS_TIMES
    PERLIO_LAYERS
    PERL_COPY_ON_WRITE
    PERL_DONT_CREATE_GVSV
    PERL_MALLOC_WRAP
    PERL_OP_PARENT
    PERL_PRESERVE_IVUV
    USE_64_BIT_ALL
    USE_64_BIT_INT
    USE_LARGE_FILES
    USE_LOCALE
    USE_LOCALE_COLLATE
    USE_LOCALE_CTYPE
    USE_LOCALE_NUMERIC
    USE_LOCALE_TIME
    USE_PERLIO
    USE_PERL_ATOF
    USE_QUADMATH
  Locally applied patches:
    Devel::PatchPerl 2.08
  Built under linux
  Compiled at Feb  5 2022 23:00:34
  %ENV:
    PERL="5.30.3-quadmath"
    PERL5LIB=""
    PERL5OPT=""
    PERL5_CPANPLUS_IS_RUNNING="2165613"
    PERL5_CPAN_IS_RUNNING="2165613"
    PERLBREW_HOME="/home/david/.perlbrew"
    PERLBREW_MANPATH="/home/david/perl5/perlbrew/perls/perl-5.30.2/man"
    PERLBREW_PATH="/home/david/perl5/perlbrew/bin:/home/david/perl5/perlbrew/perls/perl-5.30.2/bin"
    PERLBREW_PERL="perl-5.30.2"
    PERLBREW_ROOT="/home/david/perl5/perlbrew"
    PERLBREW_SHELLRC_VERSION="0.98"
    PERLBREW_VERSION="0.98"
    PERLVER="5.30.3-quadmath"
    PERL_INLINE_DIRECTORY="/home/david/.Inline-5.30.3-quadmath"
    PERL_MM_USE_DEFAULT="1"
    PERL_USE_UNSAFE_INC="0"
  @INC:
    /home/david/cpantesting/perl-5.30.3-quadmath/lib/site_perl/5.30.3/x86_64-linux-quadmath
    /home/david/cpantesting/perl-5.30.3-quadmath/lib/site_perl/5.30.3
    /home/david/cpantesting/perl-5.30.3-quadmath/lib/5.30.3/x86_64-linux-quadmath
    /home/david/cpantesting/perl-5.30.3-quadmath/lib/5.30.3