Archive-Tar-Wrapper v0.40 Perl 5 v5.38.0 darwin-thread-multi-2level
- Status
- Pass
- From
- Burak Gursoy
- Dist
-
Archive-Tar-Wrapper v0.40
- Platform
- Perl 5 v5.38.0 darwin-thread-multi-2level
- Date
- 2024-05-28 14:50:47
- ID
- aae49850-1d01-11ef-a2d1-b5ec16fdf59d
This distribution has been tested as part of the CPAN Testers
project, supporting the Perl programming language. See
http://wiki.cpantesters.org/ for more information or email
questions to cpan-testers-discuss@perl.org
--
Dear Alceu Rodrigues de Freitas Junior,
This is a computer-generated report for Archive-Tar-Wrapper-0.40
on perl 5.38.0, created by CPAN-Reporter-1.2019.
Thank you for uploading your work to CPAN. Congratulations!
All tests were successful.
Sections of this report:
* Tester comments
* Program output
* Prerequisites
* Environment and other context
------------------------------
TESTER COMMENTS
------------------------------
Additional comments from tester:
none provided
------------------------------
PROGRAM OUTPUT
------------------------------
Output from '/usr/bin/make test':
PERL_DL_NONLAZY=1 "/Users/burak/.plenv/versions/5.38.0/bin/perl5.38.0" "-MExtUtils::Command::MM" "-MTest::Harness" "-e" "undef *Test::Harness::Switches; test_harness(0, 'blib/lib', 'blib/arch')" t/*.t
# Is GNU tar? 0
# Is BSD tar? 0
# Version information: bsdtar 3.5.3 - libarchive 3.5.3 zlib/1.2.12 liblzma/5.4.3 bz2lib/1.0.8
# tar error:
t/001Basic.t ....... ok
t/002Mult.t ........ ok
t/003Dirs.t ........ ok
t/004Utf8.t ........ ok
t/005Cwd.t ......... ok
t/006DirPerms.t .... ok
t/007bzip.t ........ ok
t/009compressed.t .. ok
t/010openbsd.t ..... ok
t/011remdots.t ..... ok
t/012tarinfo.t ..... ok
All tests successful.
Files=11, Tests=83, 1 wallclock secs ( 0.01 usr 0.01 sys + 0.46 cusr 0.13 csys = 0.61 CPU)
Result: PASS
------------------------------
PREREQUISITES
------------------------------
Prerequisite modules loaded:
requires:
Module Need Have
------------------- -------- ----------
CPAN::Meta 0 2.150010
Cwd 0 3.89
File::Temp 0 0.2311
File::Which 0 1.27
IPC::Run 0 20231003.0
Log::Log4perl 0 1.57
perl 5.008001 5.038000
build_requires:
Module Need Have
------------------- -------- ----------
Dumbbench 0.503 0.503
ExtUtils::MakeMaker 0 7.70
Test::Simple 1.302073 1.302199
configure_requires:
Module Need Have
------------------- -------- ----------
ExtUtils::MakeMaker 0 7.70
File::Which 0 1.27
------------------------------
ENVIRONMENT AND OTHER CONTEXT
------------------------------
Environment variables:
LC_CTYPE = UTF-8
PATH = /Users/burak/.plenv/versions/5.38.0/bin:/Users/burak/.plenv/libexec:/Users/burak/.plenv/plugins/perl-build/bin:/Users/burak/.plenv/shims:/Users/burak/.plenv/bin:/Users/burak/bin:/Users/burak/Library/Python/3.9/bin:/opt/homebrew/bin:/opt/homebrew/sbin:/usr/local/bin:/System/Cryptexes/App/usr/bin:/usr/bin:/bin:/usr/sbin:/sbin:/var/run/com.apple.security.cryptexd/codex.system/bootstrap/usr/local/bin:/var/run/com.apple.security.cryptexd/codex.system/bootstrap/usr/bin:/var/run/com.apple.security.cryptexd/codex.system/bootstrap/usr/appleinternal/bin:/Library/Apple/usr/bin
PERL5LIB =
PERL5OPT =
PERL5_CPANPLUS_IS_RUNNING = 28244
PERL5_CPAN_IS_RUNNING = 28244
PERL_USE_UNSAFE_INC = 1
SHELL = /bin/sh
TERM = xterm-256color
Perl special variables (and OS-specific diagnostics, for MSWin32):
$^X = /Users/burak/.plenv/versions/5.38.0/bin/perl5.38.0
$UID/$EUID = 0 / 0
$GID = 0 0 1 2 3 4 5 8 9 12 20 29 61 80 701 33 98
$EGID = 0 0 1 2 3 4 5 8 9 12 20 29 61 80 701 33 98
Perl module toolchain versions installed:
Module Have
------------------- --------
CPAN 2.36
CPAN::Meta 2.150010
Cwd 3.89
ExtUtils::CBuilder 0.280238
ExtUtils::Command 7.70
ExtUtils::Install 2.22
ExtUtils::MakeMaker 7.70
ExtUtils::Manifest 1.75
ExtUtils::ParseXS 3.51
File::Spec 3.88
JSON 4.10
JSON::PP 4.16
Module::Build 0.4234
Module::Signature n/a
Parse::CPAN::Meta 2.150010
Test2 1.302199
Test::Harness 3.48
Test::More 1.302199
YAML 1.31
YAML::Syck n/a
version 0.9931
--
Summary of my perl5 (revision 5 version 38 subversion 0) configuration:
Platform:
osname=darwin
osvers=22.6.0
archname=darwin-thread-multi-2level
uname='darwin galador.local 22.6.0 darwin kernel version 22.6.0: wed jul 5 22:21:53 pdt 2023; root:xnu-8796.141.3~6release_arm64_t6020 arm64 '
config_args='-Dprefix=/Users/burak/.plenv/versions/5.38.0 -de -Dversiononly -Dusethreads -A'eval:scriptdir=/Users/burak/.plenv/versions/5.38.0/bin''
hint=recommended
useposix=true
d_sigaction=define
useithreads=define
usemultiplicity=define
use64bitint=define
use64bitall=define
uselongdouble=undef
usemymalloc=n
default_inc_excludes_dot=define
Compiler:
cc='cc'
ccflags ='-fno-common -DPERL_DARWIN -mmacosx-version-min=13.5 -DNO_POSIX_2008_LOCALE -fno-strict-aliasing -pipe -fstack-protector-strong'
optimize='-O3'
cppflags='-fno-common -DPERL_DARWIN -mmacosx-version-min=13.5 -DNO_POSIX_2008_LOCALE -fno-strict-aliasing -pipe -fstack-protector-strong'
ccversion=''
gccversion='Apple LLVM 14.0.3 (clang-1403.0.22.14.1)'
gccosandvers=''
intsize=4
longsize=8
ptrsize=8
doublesize=8
byteorder=12345678
doublekind=3
d_longlong=define
longlongsize=8
d_longdbl=define
longdblsize=8
longdblkind=0
ivtype='long'
ivsize=8
nvtype='double'
nvsize=8
Off_t='off_t'
lseeksize=8
alignbytes=8
prototype=define
Linker and Libraries:
ld='cc'
ldflags =' -mmacosx-version-min=13.5 -fstack-protector-strong'
libpth=/Applications/Xcode.app/Contents/Developer/Toolchains/XcodeDefault.xctoolchain/usr/lib/clang/14.0.3/lib /Applications/Xcode.app/Contents/Developer/Platforms/MacOSX.platform/Developer/SDKs/MacOSX.sdk/usr/lib /Applications/Xcode.app/Contents/Developer/Toolchains/XcodeDefault.xctoolchain/usr/lib /usr/lib
libs=
perllibs=
libc=
so=dylib
useshrplib=false
libperl=libperl.a
gnulibc_version=''
Dynamic Linking:
dlsrc=dl_dlopen.xs
dlext=bundle
d_dlsymun=undef
ccdlflags=' '
cccdlflags=' '
lddlflags=' -mmacosx-version-min=13.5 -bundle -undefined dynamic_lookup -fstack-protector-strong'
Characteristics of this binary (from libperl):
Compile-time options:
HAS_LONG_DOUBLE
HAS_STRTOLD
HAS_TIMES
MULTIPLICITY
PERLIO_LAYERS
PERL_COPY_ON_WRITE
PERL_DONT_CREATE_GVSV
PERL_HASH_FUNC_SIPHASH13
PERL_HASH_USE_SBOX32
PERL_MALLOC_WRAP
PERL_OP_PARENT
PERL_PRESERVE_IVUV
PERL_USE_SAFE_PUTENV
USE_64_BIT_ALL
USE_64_BIT_INT
USE_ITHREADS
USE_LARGE_FILES
USE_LOCALE
USE_LOCALE_COLLATE
USE_LOCALE_CTYPE
USE_LOCALE_NUMERIC
USE_LOCALE_TIME
USE_PERLIO
USE_PERL_ATOF
USE_REENTRANT_API
Built under darwin
Compiled at Oct 15 2023 09:52:14
%ENV:
PERL5LIB=""
PERL5OPT=""
PERL5_CPANPLUS_IS_RUNNING="28244"
PERL5_CPAN_IS_RUNNING="28244"
PERL_USE_UNSAFE_INC="1"
@INC:
/Users/burak/.plenv/versions/5.38.0/lib/perl5/site_perl/5.38.0/darwin-thread-multi-2level
/Users/burak/.plenv/versions/5.38.0/lib/perl5/site_perl/5.38.0
/Users/burak/.plenv/versions/5.38.0/lib/perl5/5.38.0/darwin-thread-multi-2level
/Users/burak/.plenv/versions/5.38.0/lib/perl5/5.38.0
.