Report for libapreq2-2.13

Back
From: metabase:user:22aae7b2-408d-11e2-bb68-a565085fdbec
Subject: PASS libapreq2-2.13 v5.16.3 GNU/Linux
Date: 2013-05-22T20:24:55Z

This distribution has been tested as part of the CPAN Testers
project, supporting the Perl programming language.  See
http://wiki.cpantesters.org/ for more information or email
questions to cpan-testers-discuss@perl.org


--
Dear Issac Goldstand,

This is a computer-generated report for libapreq2-2.13
on perl 5.16.3, created by CPAN-Reporter-1.2009.

Thank you for uploading your work to CPAN.  Congratulations!
All tests were successful.

Sections of this report:

    * Tester comments
    * Program output
    * Prerequisites
    * Environment and other context

------------------------------
TESTER COMMENTS
------------------------------

Additional comments from tester:

none provided

------------------------------
PROGRAM OUTPUT
------------------------------

Output from '/usr/bin/make test':

Making all in .
make[1]: Entering directory `/root/.cpan/build/libapreq2-2.13-j1gVeg'
make[1]: Nothing to be done for `all-am'.
make[1]: Leaving directory `/root/.cpan/build/libapreq2-2.13-j1gVeg'
Making all in include
make[1]: Entering directory `/root/.cpan/build/libapreq2-2.13-j1gVeg/include'
/usr/bin/make  all-am
make[2]: Entering directory `/root/.cpan/build/libapreq2-2.13-j1gVeg/include'
make[2]: Nothing to be done for `all-am'.
make[2]: Leaving directory `/root/.cpan/build/libapreq2-2.13-j1gVeg/include'
make[1]: Leaving directory `/root/.cpan/build/libapreq2-2.13-j1gVeg/include'
Making all in library
make[1]: Entering directory `/root/.cpan/build/libapreq2-2.13-j1gVeg/library'
/usr/bin/make  all-am
make[2]: Entering directory `/root/.cpan/build/libapreq2-2.13-j1gVeg/library'
make[2]: Nothing to be done for `all-am'.
make[2]: Leaving directory `/root/.cpan/build/libapreq2-2.13-j1gVeg/library'
make[1]: Leaving directory `/root/.cpan/build/libapreq2-2.13-j1gVeg/library'
Making all in module
make[1]: Entering directory `/root/.cpan/build/libapreq2-2.13-j1gVeg/module'
Making all in apache2
make[2]: Entering directory `/root/.cpan/build/libapreq2-2.13-j1gVeg/module/apache2'
make[2]: Nothing to be done for `all'.
make[2]: Leaving directory `/root/.cpan/build/libapreq2-2.13-j1gVeg/module/apache2'
make[2]: Entering directory `/root/.cpan/build/libapreq2-2.13-j1gVeg/module'
make[2]: Nothing to be done for `all-am'.
make[2]: Leaving directory `/root/.cpan/build/libapreq2-2.13-j1gVeg/module'
make[1]: Leaving directory `/root/.cpan/build/libapreq2-2.13-j1gVeg/module'
Making all in glue
make[1]: Entering directory `/root/.cpan/build/libapreq2-2.13-j1gVeg/glue'
cd perl; /usr/bin/make
make[2]: Entering directory `/root/.cpan/build/libapreq2-2.13-j1gVeg/glue/perl'
make[3]: Entering directory `/root/.cpan/build/libapreq2-2.13-j1gVeg/glue/perl/xs'
make[4]: Entering directory `/root/.cpan/build/libapreq2-2.13-j1gVeg/glue/perl/xs/APR'
make[5]: Entering directory `/root/.cpan/build/libapreq2-2.13-j1gVeg/glue/perl/xs/APR/Request'
make[6]: Entering directory `/root/.cpan/build/libapreq2-2.13-j1gVeg/glue/perl/xs/APR/Request/Apache2'
make[6]: Leaving directory `/root/.cpan/build/libapreq2-2.13-j1gVeg/glue/perl/xs/APR/Request/Apache2'
make[6]: Entering directory `/root/.cpan/build/libapreq2-2.13-j1gVeg/glue/perl/xs/APR/Request/CGI'
make[6]: Leaving directory `/root/.cpan/build/libapreq2-2.13-j1gVeg/glue/perl/xs/APR/Request/CGI'
make[6]: Entering directory `/root/.cpan/build/libapreq2-2.13-j1gVeg/glue/perl/xs/APR/Request/Cookie'
make[6]: Leaving directory `/root/.cpan/build/libapreq2-2.13-j1gVeg/glue/perl/xs/APR/Request/Cookie'
make[6]: Entering directory `/root/.cpan/build/libapreq2-2.13-j1gVeg/glue/perl/xs/APR/Request/Error'
make[6]: Leaving directory `/root/.cpan/build/libapreq2-2.13-j1gVeg/glue/perl/xs/APR/Request/Error'
make[6]: Entering directory `/root/.cpan/build/libapreq2-2.13-j1gVeg/glue/perl/xs/APR/Request/Hook'
make[6]: Leaving directory `/root/.cpan/build/libapreq2-2.13-j1gVeg/glue/perl/xs/APR/Request/Hook'
make[6]: Entering directory `/root/.cpan/build/libapreq2-2.13-j1gVeg/glue/perl/xs/APR/Request/Param'
make[6]: Leaving directory `/root/.cpan/build/libapreq2-2.13-j1gVeg/glue/perl/xs/APR/Request/Param'
make[6]: Entering directory `/root/.cpan/build/libapreq2-2.13-j1gVeg/glue/perl/xs/APR/Request/Parser'
make[6]: Leaving directory `/root/.cpan/build/libapreq2-2.13-j1gVeg/glue/perl/xs/APR/Request/Parser'
make[5]: Leaving directory `/root/.cpan/build/libapreq2-2.13-j1gVeg/glue/perl/xs/APR/Request'
make[4]: Leaving directory `/root/.cpan/build/libapreq2-2.13-j1gVeg/glue/perl/xs/APR'
make[3]: Leaving directory `/root/.cpan/build/libapreq2-2.13-j1gVeg/glue/perl/xs'
make[2]: Leaving directory `/root/.cpan/build/libapreq2-2.13-j1gVeg/glue/perl'
make[1]: Leaving directory `/root/.cpan/build/libapreq2-2.13-j1gVeg/glue'
cd library; /usr/bin/make test
make[1]: Entering directory `/root/.cpan/build/libapreq2-2.13-j1gVeg/library'
/usr/bin/make  all-am
make[2]: Entering directory `/root/.cpan/build/libapreq2-2.13-j1gVeg/library'
make[2]: Nothing to be done for `all-am'.
make[2]: Leaving directory `/root/.cpan/build/libapreq2-2.13-j1gVeg/library'
cd t; /usr/bin/make test
make[2]: Entering directory `/root/.cpan/build/libapreq2-2.13-j1gVeg/library/t'
gcc -DHAVE_CONFIG_H -I. -I../../include  -I/usr/local/apache/include  -DLINUX=2 -D_REENTRANT -D_GNU_SOURCE -D_LARGEFILE64_SOURCE  -g -O2 -MT version.o -MD -MP -MF .deps/version.Tpo -c -o version.o version.c
mv -f .deps/version.Tpo .deps/version.Po
gcc -DHAVE_CONFIG_H -I. -I../../include  -I/usr/local/apache/include  -DLINUX=2 -D_REENTRANT -D_GNU_SOURCE -D_LARGEFILE64_SOURCE  -g -O2 -MT at.o -MD -MP -MF .deps/at.Tpo -c -o at.o at.c
mv -f .deps/at.Tpo .deps/at.Po
rm -f libapache_test.a
ar cru libapache_test.a at.o 
ranlib libapache_test.a
/bin/sh ../../libtool --tag=CC   --mode=link gcc  -g -O2 `/root/.cpan/build/libapreq2-2.13-j1gVeg/apreq2-config --link-libtool --libs`  /usr/local/apache/lib/libapr-1.la /usr/local/apache/lib/libaprutil-1.la -ldl -o version version.o libapache_test.a 
mkdir .libs
gcc -g -O2 -o .libs/version version.o  /root/.cpan/build/libapreq2-2.13-j1gVeg/library/.libs/libapreq2.so -lrt -lcrypt -lpthread -lexpat /usr/local/apache/lib/libapr-1.so /usr/local/apache/lib/libaprutil-1.so -ldl libapache_test.a  -Wl,--rpath -Wl,/usr/local/apache/lib
/usr/bin/ld: warning: libexpat.so.0, needed by /root/.cpan/build/libapreq2-2.13-j1gVeg/library/.libs/libapreq2.so, may conflict with libexpat.so.1
creating version
echo "#!perl" > version.t
echo "exec './version'" >> version.t
gcc -DHAVE_CONFIG_H -I. -I../../include  -I/usr/local/apache/include  -DLINUX=2 -D_REENTRANT -D_GNU_SOURCE -D_LARGEFILE64_SOURCE  -g -O2 -MT cookie.o -MD -MP -MF .deps/cookie.Tpo -c -o cookie.o cookie.c
mv -f .deps/cookie.Tpo .deps/cookie.Po
/bin/sh ../../libtool --tag=CC   --mode=link gcc  -g -O2 `/root/.cpan/build/libapreq2-2.13-j1gVeg/apreq2-config --link-libtool --libs`  /usr/local/apache/lib/libapr-1.la /usr/local/apache/lib/libaprutil-1.la -ldl -o cookie cookie.o libapache_test.a 
gcc -g -O2 -o .libs/cookie cookie.o  /root/.cpan/build/libapreq2-2.13-j1gVeg/library/.libs/libapreq2.so -lrt -lcrypt -lpthread -lexpat /usr/local/apache/lib/libapr-1.so /usr/local/apache/lib/libaprutil-1.so -ldl libapache_test.a  -Wl,--rpath -Wl,/usr/local/apache/lib
/usr/bin/ld: warning: libexpat.so.0, needed by /root/.cpan/build/libapreq2-2.13-j1gVeg/library/.libs/libapreq2.so, may conflict with libexpat.so.1
creating cookie
echo "#!perl" > cookie.t
echo "exec './cookie'" >> cookie.t
gcc -DHAVE_CONFIG_H -I. -I../../include  -I/usr/local/apache/include  -DLINUX=2 -D_REENTRANT -D_GNU_SOURCE -D_LARGEFILE64_SOURCE  -g -O2 -MT params.o -MD -MP -MF .deps/params.Tpo -c -o params.o params.c
mv -f .deps/params.Tpo .deps/params.Po
/bin/sh ../../libtool --tag=CC   --mode=link gcc  -g -O2 `/root/.cpan/build/libapreq2-2.13-j1gVeg/apreq2-config --link-libtool --libs`  /usr/local/apache/lib/libapr-1.la /usr/local/apache/lib/libaprutil-1.la -ldl -o params params.o libapache_test.a 
gcc -g -O2 -o .libs/params params.o  /root/.cpan/build/libapreq2-2.13-j1gVeg/library/.libs/libapreq2.so -lrt -lcrypt -lpthread -lexpat /usr/local/apache/lib/libapr-1.so /usr/local/apache/lib/libaprutil-1.so -ldl libapache_test.a  -Wl,--rpath -Wl,/usr/local/apache/lib
/usr/bin/ld: warning: libexpat.so.0, needed by /root/.cpan/build/libapreq2-2.13-j1gVeg/library/.libs/libapreq2.so, may conflict with libexpat.so.1
creating params
echo "#!perl" > params.t
echo "exec './params'" >> params.t
gcc -DHAVE_CONFIG_H -I. -I../../include  -I/usr/local/apache/include  -DLINUX=2 -D_REENTRANT -D_GNU_SOURCE -D_LARGEFILE64_SOURCE  -g -O2 -MT parsers.o -MD -MP -MF .deps/parsers.Tpo -c -o parsers.o parsers.c
mv -f .deps/parsers.Tpo .deps/parsers.Po
/bin/sh ../../libtool --tag=CC   --mode=link gcc  -g -O2 `/root/.cpan/build/libapreq2-2.13-j1gVeg/apreq2-config --link-libtool --libs`  /usr/local/apache/lib/libapr-1.la /usr/local/apache/lib/libaprutil-1.la -ldl -o parsers parsers.o libapache_test.a 
gcc -g -O2 -o .libs/parsers parsers.o  /root/.cpan/build/libapreq2-2.13-j1gVeg/library/.libs/libapreq2.so -lrt -lcrypt -lpthread -lexpat /usr/local/apache/lib/libapr-1.so /usr/local/apache/lib/libaprutil-1.so -ldl libapache_test.a  -Wl,--rpath -Wl,/usr/local/apache/lib
/usr/bin/ld: warning: libexpat.so.0, needed by /root/.cpan/build/libapreq2-2.13-j1gVeg/library/.libs/libapreq2.so, may conflict with libexpat.so.1
creating parsers
echo "#!perl" > parsers.t
echo "exec './parsers'" >> parsers.t
gcc -DHAVE_CONFIG_H -I. -I../../include  -I/usr/local/apache/include  -DLINUX=2 -D_REENTRANT -D_GNU_SOURCE -D_LARGEFILE64_SOURCE  -g -O2 -MT error.o -MD -MP -MF .deps/error.Tpo -c -o error.o error.c
mv -f .deps/error.Tpo .deps/error.Po
/bin/sh ../../libtool --tag=CC   --mode=link gcc  -g -O2 `/root/.cpan/build/libapreq2-2.13-j1gVeg/apreq2-config --link-libtool --libs`  /usr/local/apache/lib/libapr-1.la /usr/local/apache/lib/libaprutil-1.la -ldl -o error error.o libapache_test.a 
gcc -g -O2 -o .libs/error error.o  /root/.cpan/build/libapreq2-2.13-j1gVeg/library/.libs/libapreq2.so -lrt -lcrypt -lpthread -lexpat /usr/local/apache/lib/libapr-1.so /usr/local/apache/lib/libaprutil-1.so -ldl libapache_test.a  -Wl,--rpath -Wl,/usr/local/apache/lib
/usr/bin/ld: warning: libexpat.so.0, needed by /root/.cpan/build/libapreq2-2.13-j1gVeg/library/.libs/libapreq2.so, may conflict with libexpat.so.1
creating error
echo "#!perl" > error.t
echo "exec './error'" >> error.t
gcc -DHAVE_CONFIG_H -I. -I../../include  -I/usr/local/apache/include  -DLINUX=2 -D_REENTRANT -D_GNU_SOURCE -D_LARGEFILE64_SOURCE  -g -O2 -MT util.o -MD -MP -MF .deps/util.Tpo -c -o util.o util.c
mv -f .deps/util.Tpo .deps/util.Po
/bin/sh ../../libtool --tag=CC   --mode=link gcc  -g -O2 `/root/.cpan/build/libapreq2-2.13-j1gVeg/apreq2-config --link-libtool --libs`  /usr/local/apache/lib/libapr-1.la /usr/local/apache/lib/libaprutil-1.la -ldl -o util util.o libapache_test.a 
gcc -g -O2 -o .libs/util util.o  /root/.cpan/build/libapreq2-2.13-j1gVeg/library/.libs/libapreq2.so -lrt -lcrypt -lpthread -lexpat /usr/local/apache/lib/libapr-1.so /usr/local/apache/lib/libaprutil-1.so -ldl libapache_test.a  -Wl,--rpath -Wl,/usr/local/apache/lib
/usr/bin/ld: warning: libexpat.so.0, needed by /root/.cpan/build/libapreq2-2.13-j1gVeg/library/.libs/libapreq2.so, may conflict with libexpat.so.1
creating util
echo "#!perl" > util.t
echo "exec './util'" >> util.t
/usr/local/bin/perl -MTest::Harness -e 'runtests(@ARGV)' version.t cookie.t params.t parsers.t error.t util.t
version.t .. ok
cookie.t ... ok
params.t ... ok
parsers.t .. ok
error.t .... ok
util.t ..... ok
All tests successful.
Files=6, Tests=757,  3 wallclock secs ( 0.12 usr  0.03 sys +  3.77 cusr  0.12 csys =  4.04 CPU)
Result: PASS
make[2]: Leaving directory `/root/.cpan/build/libapreq2-2.13-j1gVeg/library/t'
make[1]: Leaving directory `/root/.cpan/build/libapreq2-2.13-j1gVeg/library'
cd module; /usr/bin/make test
make[1]: Entering directory `/root/.cpan/build/libapreq2-2.13-j1gVeg/module'
Making all in apache2
make[2]: Entering directory `/root/.cpan/build/libapreq2-2.13-j1gVeg/module/apache2'
make[2]: Nothing to be done for `all'.
make[2]: Leaving directory `/root/.cpan/build/libapreq2-2.13-j1gVeg/module/apache2'
make[2]: Entering directory `/root/.cpan/build/libapreq2-2.13-j1gVeg/module'
make[2]: Nothing to be done for `all-am'.
make[2]: Leaving directory `/root/.cpan/build/libapreq2-2.13-j1gVeg/module'
Making check in apache2
make[2]: Entering directory `/root/.cpan/build/libapreq2-2.13-j1gVeg/module/apache2'
make[2]: Nothing to be done for `check'.
make[2]: Leaving directory `/root/.cpan/build/libapreq2-2.13-j1gVeg/module/apache2'
make[2]: Entering directory `/root/.cpan/build/libapreq2-2.13-j1gVeg/module'
make[2]: Nothing to be done for `check-am'.
make[2]: Leaving directory `/root/.cpan/build/libapreq2-2.13-j1gVeg/module'
/usr/local/bin/perl -MApache::TestMM -e 'package Apache::TestMM; filter_args(); generate_script("t/TEST")' -- -apxs /usr/local/apache/bin/apxs
[   info] generating script t/TEST
if [ ! -d t/cgi-bin ]; then mkdir t/cgi-bin; fi
cp -f test_cgi t/cgi-bin
cp -Rp .libs t/cgi-bin
MAKE=/usr/bin/make /usr/local/bin/perl t/TEST
[warning] setting ulimit to allow core files
ulimit -c unlimited; /usr/local/bin/perl /root/.cpan/build/libapreq2-2.13-j1gVeg/module/t/TEST 
[  debug] configuring httpd
[  debug] Using httpd: /usr/local/apache/bin/httpd
[  debug] isolated httpd_info VERSION = Apache/2.2.22 (Unix)
[  debug] isolated httpd_info BUILT = May 22 2013 21:18:37
[  debug] isolated httpd_info MODULE_MAGIC_NUMBER = 20051115:30
[  debug] isolated httpd_info SERVER_MPM = Prefork
[  debug] isolated httpd_defines APACHE_MPM_DIR = server/mpm/prefork
[  debug] isolated httpd_defines APR_HAS_SENDFILE = 1
[  debug] isolated httpd_defines APR_HAS_MMAP = 1
[  debug] isolated httpd_defines APR_HAVE_IPV6 (IPv4-mapped addresses enabled) = 1
[  debug] isolated httpd_defines APR_USE_SYSVSEM_SERIALIZE = 1
[  debug] isolated httpd_defines APR_USE_PTHREAD_SERIALIZE = 1
[  debug] isolated httpd_defines SINGLE_LISTEN_UNSERIALIZED_ACCEPT = 1
[  debug] isolated httpd_defines APR_HAS_OTHER_CHILD = 1
[  debug] isolated httpd_defines AP_HAVE_RELIABLE_PIPED_LOGS = 1
[  debug] isolated httpd_defines DYNAMIC_MODULE_LIMIT = 128
[  debug] isolated httpd_defines HTTPD_ROOT = /usr/local/apache
[  debug] isolated httpd_defines SUEXEC_BIN = /usr/local/apache/bin/suexec
[  debug] isolated httpd_defines DEFAULT_PIDLOG = logs/httpd.pid
[  debug] isolated httpd_defines DEFAULT_SCOREBOARD = logs/apache_runtime_status
[  debug] isolated httpd_defines DEFAULT_LOCKFILE = logs/accept.lock
[  debug] isolated httpd_defines DEFAULT_ERRORLOG = logs/error_log
[  debug] isolated httpd_defines AP_TYPES_CONFIG_FILE = conf/mime.types
[  debug] isolated httpd_defines SERVER_CONFIG_FILE = conf/httpd.conf
[  debug] inheriting config file: /usr/local/apache/conf/httpd.conf
[  debug] using httpd.conf inherited ServerRoot to resolve modules/mod_perl.so
[  debug] modules/mod_perl.so successfully resolved to existing file /usr/local/apache/modules/mod_perl.so
[  debug] Found: perl_module => mod_perl.c
[  debug] LoadModule perl_module mod_perl.c
[  debug] using httpd.conf inherited ServerRoot to resolve modules/mod_apreq2.so
[  debug] modules/mod_apreq2.so successfully resolved to existing file /usr/local/apache/modules/mod_apreq2.so
[  debug] Found: apreq_module => mod_apreq2.c
[  debug] Skipping LoadModule of mod_apreq2.c
[  debug] using httpd.conf inherited ServerRoot to resolve conf/mime.types
[  debug] conf/mime.types successfully resolved to existing file /usr/local/apache/conf/mime.types
[  debug] Matched Apache revision Apache/2.2.22 2
[warning] generating SSL CA for asf
[   info] openssl req -new -x509 -keyout keys/ca.pem -out certs/ca.crt -days 365 -config conf/ca.cnf
Generating a 1024 bit RSA private key
................++++++
..........................++++++
writing new private key to 'keys/ca.pem'
-----
[   info] openssl pkcs12 -export -in certs/ca.crt -inkey keys/ca.pem -out export/ca.p12 -passin pass:httpd -passout pass:httpd
[   info] openssl genrsa -out keys/client_revoked.pem  1024
Generating RSA private key, 1024 bit long modulus
.....++++++
..................++++++
e is 65537 (0x10001)
[   info] openssl req -new -key keys/client_revoked.pem -out csr/client_revoked.csr -passin pass:httpd -passout pass:httpd -config conf/client_revoked.cnf
[   info] openssl ca -policy policy_anything -in csr/client_revoked.csr -out certs/client_revoked.crt -passin pass:httpd -config conf/client_revoked.cnf -batch 
Using configuration from conf/client_revoked.cnf
Check that the request matches the signature
Signature ok
The Subject's Distinguished Name is as follows
countryName           :PRINTABLE:'US'
stateOrProvinceName   :PRINTABLE:'California'
localityName          :PRINTABLE:'San Francisco'
organizationName      :PRINTABLE:'ASF'
organizationalUnitName:PRINTABLE:'httpd-test'
commonName            :T61STRING:'client_revoked'
emailAddress          :IA5STRING:'test-dev@httpd.apache.org'
Certificate is to be certified until May 22 20:24:49 2014 GMT (365 days)

Write out database with 1 new entries
Data Base Updated
[   info] openssl pkcs12 -export -in certs/client_revoked.crt -inkey keys/client_revoked.pem -out export/client_revoked.p12 -passin pass:httpd -passout pass:httpd
[   info] openssl ca -revoke certs/client_revoked.crt -config conf/cacrl.cnf -passin pass:httpd
Using configuration from conf/cacrl.cnf
Adding Entry with serial number 01 to DB for /C=US/ST=California/L=San Francisco/O=ASF/OU=httpd-test/CN=client_revoked/emailAddress=test-dev@httpd.apache.org
Revoking Certificate 01.
Data Base Updated
[   info] openssl ca -gencrl -out crl/ca-bundle.crl -config conf/cacrl.cnf -passin pass:httpd
Using configuration from conf/cacrl.cnf
[   info] generating proxy cert: proxy/client_revoked.pem
[   info] openssl dsaparam -inform PEM -out dsa-param 1024
Generating DSA parameters, 1024 bit long prime
This could take some time
........+...+...+....+.......................+++++++++++++++++++++++++++++++++++++++++++++++++++*
..+......+.................+..+....+................+............+...+......+..............+...+....+.........+........+.....+.........+.+..........+......+.....+.................+..+.............+++++++++++++++++++++++++++++++++++++++++++++++++++*
[   info] openssl gendsa dsa-param -out keys/server_des3_dsa.pem -des3 -passout pass:httpd
Generating DSA key, 1024 bits
[   info] openssl req -new -key keys/server_des3_dsa.pem -out csr/server_des3_dsa.csr -passin pass:httpd -passout pass:httpd -config conf/server_des3_dsa.cnf
[   info] openssl ca -policy policy_anything -in csr/server_des3_dsa.csr -out certs/server_des3_dsa.crt -passin pass:httpd -config conf/server_des3_dsa.cnf -batch 
Using configuration from conf/server_des3_dsa.cnf
Check that the request matches the signature
Signature ok
The Subject's Distinguished Name is as follows
countryName           :PRINTABLE:'US'
stateOrProvinceName   :PRINTABLE:'California'
localityName          :PRINTABLE:'San Francisco'
organizationName      :PRINTABLE:'ASF'
organizationalUnitName:PRINTABLE:'httpd-test/dsa-des3-test'
commonName            :PRINTABLE:'localhost.localdomain'
emailAddress          :IA5STRING:'test-dev@httpd.apache.org'
Certificate is to be certified until May 22 20:24:49 2014 GMT (365 days)

Write out database with 1 new entries
Data Base Updated
[   info] openssl gendsa dsa-param -out keys/server2_des3_dsa.pem -des3 -passout pass:httpd
Generating DSA key, 1024 bits
[   info] openssl req -new -key keys/server2_des3_dsa.pem -out csr/server2_des3_dsa.csr -passin pass:httpd -passout pass:httpd -config conf/server2_des3_dsa.cnf
[   info] openssl ca -policy policy_anything -in csr/server2_des3_dsa.csr -out certs/server2_des3_dsa.crt -passin pass:httpd -config conf/server2_des3_dsa.cnf -batch 
Using configuration from conf/server2_des3_dsa.cnf
Check that the request matches the signature
Signature ok
The Subject's Distinguished Name is as follows
countryName           :PRINTABLE:'US'
stateOrProvinceName   :PRINTABLE:'California'
localityName          :PRINTABLE:'San Francisco'
organizationName      :PRINTABLE:'ASF'
organizationalUnitName:PRINTABLE:'httpd-test/dsa-des3-test-2'
commonName            :PRINTABLE:'localhost.localdomain'
emailAddress          :IA5STRING:'test-dev@httpd.apache.org'
Certificate is to be certified until May 22 20:24:49 2014 GMT (365 days)

Write out database with 1 new entries
Data Base Updated
[   info] openssl gendsa dsa-param -out keys/server2_dsa.pem 
Generating DSA key, 1024 bits
[   info] openssl req -new -key keys/server2_dsa.pem -out csr/server2_dsa.csr -passin pass:httpd -passout pass:httpd -config conf/server2_dsa.cnf
[   info] openssl ca -policy policy_anything -in csr/server2_dsa.csr -out certs/server2_dsa.crt -passin pass:httpd -config conf/server2_dsa.cnf -batch 
Using configuration from conf/server2_dsa.cnf
Check that the request matches the signature
Signature ok
The Subject's Distinguished Name is as follows
countryName           :PRINTABLE:'US'
stateOrProvinceName   :PRINTABLE:'California'
localityName          :PRINTABLE:'San Francisco'
organizationName      :PRINTABLE:'ASF'
organizationalUnitName:PRINTABLE:'httpd-test/dsa-test-2'
commonName            :PRINTABLE:'localhost.localdomain'
emailAddress          :IA5STRING:'test-dev@httpd.apache.org'
Certificate is to be certified until May 22 20:24:49 2014 GMT (365 days)

Write out database with 1 new entries
Data Base Updated
[   info] openssl gendsa dsa-param -out keys/server_dsa.pem 
Generating DSA key, 1024 bits
[   info] openssl req -new -key keys/server_dsa.pem -out csr/server_dsa.csr -passin pass:httpd -passout pass:httpd -config conf/server_dsa.cnf
[   info] openssl ca -policy policy_anything -in csr/server_dsa.csr -out certs/server_dsa.crt -passin pass:httpd -config conf/server_dsa.cnf -batch 
Using configuration from conf/server_dsa.cnf
Check that the request matches the signature
Signature ok
The Subject's Distinguished Name is as follows
countryName           :PRINTABLE:'US'
stateOrProvinceName   :PRINTABLE:'California'
localityName          :PRINTABLE:'San Francisco'
organizationName      :PRINTABLE:'ASF'
organizationalUnitName:PRINTABLE:'httpd-test/dsa-test'
commonName            :PRINTABLE:'localhost.localdomain'
emailAddress          :IA5STRING:'test-dev@httpd.apache.org'
Certificate is to be certified until May 22 20:24:49 2014 GMT (365 days)

Write out database with 1 new entries
Data Base Updated
[   info] openssl genrsa -out keys/server_des3.pem -des3 -passout pass:httpd 1024
Generating RSA private key, 1024 bit long modulus
.........++++++
.................++++++
e is 65537 (0x10001)
[   info] openssl req -new -key keys/server_des3.pem -out csr/server_des3.csr -passin pass:httpd -passout pass:httpd -config conf/server_des3.cnf
[   info] openssl ca -policy policy_anything -in csr/server_des3.csr -out certs/server_des3.crt -passin pass:httpd -config conf/server_des3.cnf -batch 
Using configuration from conf/server_des3.cnf
Check that the request matches the signature
Signature ok
The Subject's Distinguished Name is as follows
countryName           :PRINTABLE:'US'
stateOrProvinceName   :PRINTABLE:'California'
localityName          :PRINTABLE:'San Francisco'
organizationName      :PRINTABLE:'ASF'
organizationalUnitName:PRINTABLE:'httpd-test/rsa-des3-test'
commonName            :PRINTABLE:'localhost.localdomain'
emailAddress          :IA5STRING:'test-dev@httpd.apache.org'
Certificate is to be certified until May 22 20:24:49 2014 GMT (365 days)

Write out database with 1 new entries
Data Base Updated
[   info] openssl genrsa -out keys/server2.pem  1024
Generating RSA private key, 1024 bit long modulus
.....++++++
...........++++++
e is 65537 (0x10001)
[   info] openssl req -new -key keys/server2.pem -out csr/server2.csr -passin pass:httpd -passout pass:httpd -config conf/server2.cnf
[   info] openssl ca -policy policy_anything -in csr/server2.csr -out certs/server2.crt -passin pass:httpd -config conf/server2.cnf -batch 
Using configuration from conf/server2.cnf
Check that the request matches the signature
Signature ok
The Subject's Distinguished Name is as follows
countryName           :PRINTABLE:'US'
stateOrProvinceName   :PRINTABLE:'California'
localityName          :PRINTABLE:'San Francisco'
organizationName      :PRINTABLE:'ASF'
organizationalUnitName:PRINTABLE:'httpd-test/rsa-test-2'
commonName            :PRINTABLE:'localhost.localdomain'
emailAddress          :IA5STRING:'test-dev@httpd.apache.org'
Certificate is to be certified until May 22 20:24:49 2014 GMT (365 days)

Write out database with 1 new entries
Data Base Updated
[   info] openssl genrsa -out keys/client_ok.pem  1024
Generating RSA private key, 1024 bit long modulus
...++++++
.....++++++
e is 65537 (0x10001)
[   info] openssl req -new -key keys/client_ok.pem -out csr/client_ok.csr -passin pass:httpd -passout pass:httpd -config conf/client_ok.cnf
[   info] openssl ca -policy policy_anything -in csr/client_ok.csr -out certs/client_ok.crt -passin pass:httpd -config conf/client_ok.cnf -batch  -extensions comment
Using configuration from conf/client_ok.cnf
Check that the request matches the signature
Signature ok
The Subject's Distinguished Name is as follows
countryName           :PRINTABLE:'US'
stateOrProvinceName   :PRINTABLE:'California'
localityName          :PRINTABLE:'San Francisco'
organizationName      :PRINTABLE:'ASF'
organizationalUnitName:PRINTABLE:'httpd-test'
commonName            :T61STRING:'client_ok'
emailAddress          :IA5STRING:'test-dev@httpd.apache.org'
Certificate is to be certified until May 22 20:24:49 2014 GMT (365 days)

Write out database with 1 new entries
Data Base Updated
[   info] openssl pkcs12 -export -in certs/client_ok.crt -inkey keys/client_ok.pem -out export/client_ok.p12 -passin pass:httpd -passout pass:httpd
[   info] generating proxy cert: proxy/client_ok.pem
[   info] openssl genrsa -out keys/server2_des3.pem -des3 -passout pass:httpd 1024
Generating RSA private key, 1024 bit long modulus
...............++++++
..++++++
e is 65537 (0x10001)
[   info] openssl req -new -key keys/server2_des3.pem -out csr/server2_des3.csr -passin pass:httpd -passout pass:httpd -config conf/server2_des3.cnf
[   info] openssl ca -policy policy_anything -in csr/server2_des3.csr -out certs/server2_des3.crt -passin pass:httpd -config conf/server2_des3.cnf -batch 
Using configuration from conf/server2_des3.cnf
Check that the request matches the signature
Signature ok
The Subject's Distinguished Name is as follows
countryName           :PRINTABLE:'US'
stateOrProvinceName   :PRINTABLE:'California'
localityName          :PRINTABLE:'San Francisco'
organizationName      :PRINTABLE:'ASF'
organizationalUnitName:PRINTABLE:'httpd-test/rsa-des3-test-2'
commonName            :PRINTABLE:'localhost.localdomain'
emailAddress          :IA5STRING:'test-dev@httpd.apache.org'
Certificate is to be certified until May 22 20:24:49 2014 GMT (365 days)

Write out database with 1 new entries
Data Base Updated
[   info] openssl genrsa -out keys/client_snakeoil.pem  1024
Generating RSA private key, 1024 bit long modulus
............++++++
......++++++
e is 65537 (0x10001)
[   info] openssl req -new -key keys/client_snakeoil.pem -out csr/client_snakeoil.csr -passin pass:httpd -passout pass:httpd -config conf/client_snakeoil.cnf
[   info] openssl ca -policy policy_anything -in csr/client_snakeoil.csr -out certs/client_snakeoil.crt -passin pass:httpd -config conf/client_snakeoil.cnf -batch 
Using configuration from conf/client_snakeoil.cnf
Check that the request matches the signature
Signature ok
The Subject's Distinguished Name is as follows
countryName           :PRINTABLE:'AU'
stateOrProvinceName   :PRINTABLE:'Queensland'
localityName          :PRINTABLE:'Mackay'
organizationName      :PRINTABLE:'Snake Oil, Ltd.'
organizationalUnitName:PRINTABLE:'Staff'
commonName            :T61STRING:'client_snakeoil'
emailAddress          :IA5STRING:'test-dev@httpd.apache.org'
Certificate is to be certified until May 22 20:24:49 2014 GMT (365 days)

Write out database with 1 new entries
Data Base Updated
[   info] openssl pkcs12 -export -in certs/client_snakeoil.crt -inkey keys/client_snakeoil.pem -out export/client_snakeoil.p12 -passin pass:httpd -passout pass:httpd
[   info] generating proxy cert: proxy/client_snakeoil.pem
[   info] openssl genrsa -out keys/server.pem  1024
Generating RSA private key, 1024 bit long modulus
...............................++++++
........++++++
e is 65537 (0x10001)
[   info] openssl req -new -key keys/server.pem -out csr/server.csr -passin pass:httpd -passout pass:httpd -config conf/server.cnf
[   info] openssl ca -policy policy_anything -in csr/server.csr -out certs/server.crt -passin pass:httpd -config conf/server.cnf -batch 
Using configuration from conf/server.cnf
Check that the request matches the signature
Signature ok
The Subject's Distinguished Name is as follows
countryName           :PRINTABLE:'US'
stateOrProvinceName   :PRINTABLE:'California'
localityName          :PRINTABLE:'San Francisco'
organizationName      :PRINTABLE:'ASF'
organizationalUnitName:PRINTABLE:'httpd-test/rsa-test'
commonName            :PRINTABLE:'localhost.localdomain'
emailAddress          :IA5STRING:'test-dev@httpd.apache.org'
Certificate is to be certified until May 22 20:24:50 2014 GMT (365 days)

Write out database with 1 new entries
Data Base Updated
[   info] linked ca-bundle.crl to fdd35eee.r0
[  debug] generating c-modules/apache_httpd_test.h
[  debug] WRITING /root/.cpan/build/libapreq2-2.13-j1gVeg/module/t/c-modules/apreq_redirect_test/Makefile for mod_apreq_redirect_test
[  debug] WRITING /root/.cpan/build/libapreq2-2.13-j1gVeg/module/t/c-modules/apreq_output_filter_test/Makefile for mod_apreq_output_filter_test
[  debug] WRITING /root/.cpan/build/libapreq2-2.13-j1gVeg/module/t/c-modules/apreq_big_request_test/Makefile for mod_apreq_big_request_test
[  debug] WRITING /root/.cpan/build/libapreq2-2.13-j1gVeg/module/t/c-modules/apreq_access_test/Makefile for mod_apreq_access_test
[  debug] WRITING /root/.cpan/build/libapreq2-2.13-j1gVeg/module/t/c-modules/apreq_cookie_test/Makefile for mod_apreq_cookie_test
[  debug] WRITING /root/.cpan/build/libapreq2-2.13-j1gVeg/module/t/c-modules/apreq_upload_test/Makefile for mod_apreq_upload_test
[  debug] WRITING /root/.cpan/build/libapreq2-2.13-j1gVeg/module/t/c-modules/apreq_request_test/Makefile for mod_apreq_request_test
[  debug] generating c-modules/Makefile
[  debug] cd /root/.cpan/build/libapreq2-2.13-j1gVeg/module/t/c-modules && /usr/bin/make all
make[2]: Entering directory `/root/.cpan/build/libapreq2-2.13-j1gVeg/module/t/c-modules'
cd apreq_redirect_test && /usr/bin/make .libs/mod_apreq_redirect_test.so
make[3]: Entering directory `/root/.cpan/build/libapreq2-2.13-j1gVeg/module/t/c-modules/apreq_redirect_test'
/usr/local/apache/bin/apxs -L../../../../library -I../../../apache2 -I../../../../include -lapreq2 -D APACHE2 -I/root/.cpan/build/libapreq2-2.13-j1gVeg/module/t/c-modules -c mod_apreq_redirect_test.c
/usr/local/apache/build/libtool --silent --mode=compile gcc -prefer-pic   -DLINUX=2 -D_REENTRANT -D_GNU_SOURCE -D_LARGEFILE64_SOURCE -g -O2 -pthread -I/usr/local/apache/include  -I/usr/local/apache/include   -I/usr/local/apache/include  -I../../../apache2 -I../../../../include -I/root/.cpan/build/libapreq2-2.13-j1gVeg/module/t/c-modules -DAPACHE2  -c -o mod_apreq_redirect_test.lo mod_apreq_redirect_test.c && touch mod_apreq_redirect_test.slo
/usr/local/apache/build/libtool --silent --mode=link gcc -o mod_apreq_redirect_test.la  -L../../../../library -lapreq2 -rpath /usr/local/apache/modules -module -avoid-version    mod_apreq_redirect_test.lo
make[3]: Leaving directory `/root/.cpan/build/libapreq2-2.13-j1gVeg/module/t/c-modules/apreq_redirect_test'
cd apreq_output_filter_test && /usr/bin/make .libs/mod_apreq_output_filter_test.so
make[3]: Entering directory `/root/.cpan/build/libapreq2-2.13-j1gVeg/module/t/c-modules/apreq_output_filter_test'
/usr/local/apache/bin/apxs -L../../../../library -I../../../apache2 -I../../../../include -lapreq2 -D APACHE2 -I/root/.cpan/build/libapreq2-2.13-j1gVeg/module/t/c-modules -c mod_apreq_output_filter_test.c
/usr/local/apache/build/libtool --silent --mode=compile gcc -prefer-pic   -DLINUX=2 -D_REENTRANT -D_GNU_SOURCE -D_LARGEFILE64_SOURCE -g -O2 -pthread -I/usr/local/apache/include  -I/usr/local/apache/include   -I/usr/local/apache/include  -I../../../apache2 -I../../../../include -I/root/.cpan/build/libapreq2-2.13-j1gVeg/module/t/c-modules -DAPACHE2  -c -o mod_apreq_output_filter_test.lo mod_apreq_output_filter_test.c && touch mod_apreq_output_filter_test.slo
/usr/local/apache/build/libtool --silent --mode=link gcc -o mod_apreq_output_filter_test.la  -L../../../../library -lapreq2 -rpath /usr/local/apache/modules -module -avoid-version    mod_apreq_output_filter_test.lo
make[3]: Leaving directory `/root/.cpan/build/libapreq2-2.13-j1gVeg/module/t/c-modules/apreq_output_filter_test'
cd apreq_big_request_test && /usr/bin/make .libs/mod_apreq_big_request_test.so
make[3]: Entering directory `/root/.cpan/build/libapreq2-2.13-j1gVeg/module/t/c-modules/apreq_big_request_test'
/usr/local/apache/bin/apxs -L../../../../library -I../../../apache2 -I../../../../include -lapreq2 -D APACHE2 -I/root/.cpan/build/libapreq2-2.13-j1gVeg/module/t/c-modules -c mod_apreq_big_request_test.c
/usr/local/apache/build/libtool --silent --mode=compile gcc -prefer-pic   -DLINUX=2 -D_REENTRANT -D_GNU_SOURCE -D_LARGEFILE64_SOURCE -g -O2 -pthread -I/usr/local/apache/include  -I/usr/local/apache/include   -I/usr/local/apache/include  -I../../../apache2 -I../../../../include -I/root/.cpan/build/libapreq2-2.13-j1gVeg/module/t/c-modules -DAPACHE2  -c -o mod_apreq_big_request_test.lo mod_apreq_big_request_test.c && touch mod_apreq_big_request_test.slo
/usr/local/apache/build/libtool --silent --mode=link gcc -o mod_apreq_big_request_test.la  -L../../../../library -lapreq2 -rpath /usr/local/apache/modules -module -avoid-version    mod_apreq_big_request_test.lo
make[3]: Leaving directory `/root/.cpan/build/libapreq2-2.13-j1gVeg/module/t/c-modules/apreq_big_request_test'
cd apreq_access_test && /usr/bin/make .libs/mod_apreq_access_test.so
make[3]: Entering directory `/root/.cpan/build/libapreq2-2.13-j1gVeg/module/t/c-modules/apreq_access_test'
/usr/local/apache/bin/apxs -L../../../../library -I../../../apache2 -I../../../../include -lapreq2 -D APACHE2 -I/root/.cpan/build/libapreq2-2.13-j1gVeg/module/t/c-modules -c mod_apreq_access_test.c
/usr/local/apache/build/libtool --silent --mode=compile gcc -prefer-pic   -DLINUX=2 -D_REENTRANT -D_GNU_SOURCE -D_LARGEFILE64_SOURCE -g -O2 -pthread -I/usr/local/apache/include  -I/usr/local/apache/include   -I/usr/local/apache/include  -I../../../apache2 -I../../../../include -I/root/.cpan/build/libapreq2-2.13-j1gVeg/module/t/c-modules -DAPACHE2  -c -o mod_apreq_access_test.lo mod_apreq_access_test.c && touch mod_apreq_access_test.slo
/usr/local/apache/build/libtool --silent --mode=link gcc -o mod_apreq_access_test.la  -L../../../../library -lapreq2 -rpath /usr/local/apache/modules -module -avoid-version    mod_apreq_access_test.lo
make[3]: Leaving directory `/root/.cpan/build/libapreq2-2.13-j1gVeg/module/t/c-modules/apreq_access_test'
cd apreq_cookie_test && /usr/bin/make .libs/mod_apreq_cookie_test.so
make[3]: Entering directory `/root/.cpan/build/libapreq2-2.13-j1gVeg/module/t/c-modules/apreq_cookie_test'
/usr/local/apache/bin/apxs -L../../../../library -I../../../apache2 -I../../../../include -lapreq2 -D APACHE2 -I/root/.cpan/build/libapreq2-2.13-j1gVeg/module/t/c-modules -c mod_apreq_cookie_test.c
/usr/local/apache/build/libtool --silent --mode=compile gcc -prefer-pic   -DLINUX=2 -D_REENTRANT -D_GNU_SOURCE -D_LARGEFILE64_SOURCE -g -O2 -pthread -I/usr/local/apache/include  -I/usr/local/apache/include   -I/usr/local/apache/include  -I../../../apache2 -I../../../../include -I/root/.cpan/build/libapreq2-2.13-j1gVeg/module/t/c-modules -DAPACHE2  -c -o mod_apreq_cookie_test.lo mod_apreq_cookie_test.c && touch mod_apreq_cookie_test.slo
/usr/local/apache/build/libtool --silent --mode=link gcc -o mod_apreq_cookie_test.la  -L../../../../library -lapreq2 -rpath /usr/local/apache/modules -module -avoid-version    mod_apreq_cookie_test.lo
make[3]: Leaving directory `/root/.cpan/build/libapreq2-2.13-j1gVeg/module/t/c-modules/apreq_cookie_test'
cd apreq_upload_test && /usr/bin/make .libs/mod_apreq_upload_test.so
make[3]: Entering directory `/root/.cpan/build/libapreq2-2.13-j1gVeg/module/t/c-modules/apreq_upload_test'
/usr/local/apache/bin/apxs -L../../../../library -I../../../apache2 -I../../../../include -lapreq2 -D APACHE2 -I/root/.cpan/build/libapreq2-2.13-j1gVeg/module/t/c-modules -c mod_apreq_upload_test.c
/usr/local/apache/build/libtool --silent --mode=compile gcc -prefer-pic   -DLINUX=2 -D_REENTRANT -D_GNU_SOURCE -D_LARGEFILE64_SOURCE -g -O2 -pthread -I/usr/local/apache/include  -I/usr/local/apache/include   -I/usr/local/apache/include  -I../../../apache2 -I../../../../include -I/root/.cpan/build/libapreq2-2.13-j1gVeg/module/t/c-modules -DAPACHE2  -c -o mod_apreq_upload_test.lo mod_apreq_upload_test.c && touch mod_apreq_upload_test.slo
/usr/local/apache/build/libtool --silent --mode=link gcc -o mod_apreq_upload_test.la  -L../../../../library -lapreq2 -rpath /usr/local/apache/modules -module -avoid-version    mod_apreq_upload_test.lo
make[3]: Leaving directory `/root/.cpan/build/libapreq2-2.13-j1gVeg/module/t/c-modules/apreq_upload_test'
cd apreq_request_test && /usr/bin/make .libs/mod_apreq_request_test.so
make[3]: Entering directory `/root/.cpan/build/libapreq2-2.13-j1gVeg/module/t/c-modules/apreq_request_test'
/usr/local/apache/bin/apxs -L../../../../library -I../../../apache2 -I../../../../include -lapreq2 -D APACHE2 -I/root/.cpan/build/libapreq2-2.13-j1gVeg/module/t/c-modules -c mod_apreq_request_test.c
/usr/local/apache/build/libtool --silent --mode=compile gcc -prefer-pic   -DLINUX=2 -D_REENTRANT -D_GNU_SOURCE -D_LARGEFILE64_SOURCE -g -O2 -pthread -I/usr/local/apache/include  -I/usr/local/apache/include   -I/usr/local/apache/include  -I../../../apache2 -I../../../../include -I/root/.cpan/build/libapreq2-2.13-j1gVeg/module/t/c-modules -DAPACHE2  -c -o mod_apreq_request_test.lo mod_apreq_request_test.c && touch mod_apreq_request_test.slo
/usr/local/apache/build/libtool --silent --mode=link gcc -o mod_apreq_request_test.la  -L../../../../library -lapreq2 -rpath /usr/local/apache/modules -module -avoid-version    mod_apreq_request_test.lo
make[3]: Leaving directory `/root/.cpan/build/libapreq2-2.13-j1gVeg/module/t/c-modules/apreq_request_test'
make[2]: Leaving directory `/root/.cpan/build/libapreq2-2.13-j1gVeg/module/t/c-modules'
[  debug] WRITING httpd.conf with mod_apreq_redirect_test, mod_apreq_output_filter_test, mod_apreq_big_request_test, mod_apreq_access_test, mod_apreq_cookie_test, mod_apreq_upload_test, mod_apreq_request_test
[  debug] generating htdocs/index.html
[  debug] Will 'Include' /root/.cpan/build/libapreq2-2.13-j1gVeg/module/t/conf/ssl/ssl.conf config file
[  debug] Will 'Include' /root/.cpan/build/libapreq2-2.13-j1gVeg/module/t/conf/extra.conf config file
[  debug] Will 'Include' /root/.cpan/build/libapreq2-2.13-j1gVeg/module/t/conf/ssl/proxyssl.conf config file
[  debug] generating conf/ssl/ssl.conf from /root/.cpan/build/libapreq2-2.13-j1gVeg/module/t/conf/ssl/ssl.conf.in
[  debug] generating conf/extra.conf from /root/.cpan/build/libapreq2-2.13-j1gVeg/module/t/conf/extra.conf.in
[  debug] generating conf/ssl/proxyssl.conf from /root/.cpan/build/libapreq2-2.13-j1gVeg/module/t/conf/ssl/proxyssl.conf.in
[  debug] generating conf/httpd.conf
[  debug] generating conf/apache_test_config.pm
[  debug] saving config data to apache_test_config.pm
[  error] Apache cannot spawn child processes as root, therefore the test suite must be run as a non-privileged user.
make[1]: Leaving directory `/root/.cpan/build/libapreq2-2.13-j1gVeg/module'
cd glue/perl; /usr/bin/make test
make[1]: Entering directory `/root/.cpan/build/libapreq2-2.13-j1gVeg/glue/perl'
make[2]: Entering directory `/root/.cpan/build/libapreq2-2.13-j1gVeg/glue/perl/xs'
make[3]: Entering directory `/root/.cpan/build/libapreq2-2.13-j1gVeg/glue/perl/xs/APR'
make[4]: Entering directory `/root/.cpan/build/libapreq2-2.13-j1gVeg/glue/perl/xs/APR/Request'
make[5]: Entering directory `/root/.cpan/build/libapreq2-2.13-j1gVeg/glue/perl/xs/APR/Request/Apache2'
make[5]: Leaving directory `/root/.cpan/build/libapreq2-2.13-j1gVeg/glue/perl/xs/APR/Request/Apache2'
make[5]: Entering directory `/root/.cpan/build/libapreq2-2.13-j1gVeg/glue/perl/xs/APR/Request/CGI'
make[5]: Leaving directory `/root/.cpan/build/libapreq2-2.13-j1gVeg/glue/perl/xs/APR/Request/CGI'
make[5]: Entering directory `/root/.cpan/build/libapreq2-2.13-j1gVeg/glue/perl/xs/APR/Request/Cookie'
make[5]: Leaving directory `/root/.cpan/build/libapreq2-2.13-j1gVeg/glue/perl/xs/APR/Request/Cookie'
make[5]: Entering directory `/root/.cpan/build/libapreq2-2.13-j1gVeg/glue/perl/xs/APR/Request/Error'
make[5]: Leaving directory `/root/.cpan/build/libapreq2-2.13-j1gVeg/glue/perl/xs/APR/Request/Error'
make[5]: Entering directory `/root/.cpan/build/libapreq2-2.13-j1gVeg/glue/perl/xs/APR/Request/Hook'
make[5]: Leaving directory `/root/.cpan/build/libapreq2-2.13-j1gVeg/glue/perl/xs/APR/Request/Hook'
make[5]: Entering directory `/root/.cpan/build/libapreq2-2.13-j1gVeg/glue/perl/xs/APR/Request/Param'
make[5]: Leaving directory `/root/.cpan/build/libapreq2-2.13-j1gVeg/glue/perl/xs/APR/Request/Param'
make[5]: Entering directory `/root/.cpan/build/libapreq2-2.13-j1gVeg/glue/perl/xs/APR/Request/Parser'
make[5]: Leaving directory `/root/.cpan/build/libapreq2-2.13-j1gVeg/glue/perl/xs/APR/Request/Parser'
make[4]: Leaving directory `/root/.cpan/build/libapreq2-2.13-j1gVeg/glue/perl/xs/APR/Request'
make[3]: Leaving directory `/root/.cpan/build/libapreq2-2.13-j1gVeg/glue/perl/xs/APR'
make[2]: Leaving directory `/root/.cpan/build/libapreq2-2.13-j1gVeg/glue/perl/xs'
/usr/local/bin/perl -Iblib/arch -Iblib/lib \
	t/TEST  -clean
[warning] setting ulimit to allow core files
ulimit -c unlimited; /usr/local/bin/perl /root/.cpan/build/libapreq2-2.13-j1gVeg/glue/perl/t/TEST -clean
APACHE_TEST_GROUP= APACHE_TEST_HTTPD= APACHE_TEST_PORT= APACHE_TEST_USER= APACHE_TEST_APXS= \
	/usr/local/bin/perl -Iblib/arch -Iblib/lib \
	t/TEST  -bugreport -verbose=0 
[warning] setting ulimit to allow core files
ulimit -c unlimited; /usr/local/bin/perl /root/.cpan/build/libapreq2-2.13-j1gVeg/glue/perl/t/TEST -bugreport -verbose=0
[  error] Apache cannot spawn child processes as root, therefore the test suite must be run as a non-privileged user.
pod2test was not found, skipping inlined tests
make[1]: Leaving directory `/root/.cpan/build/libapreq2-2.13-j1gVeg/glue/perl'

------------------------------
PREREQUISITES
------------------------------

Prerequisite modules loaded:

requires:

    Module              Need     Have    
    ------------------- -------- --------
    Apache::Test        1.04     1.37    
    ExtUtils::MakeMaker 6.15     6.66    
    ExtUtils::XSBuilder 0.23     0.28    
    mod_perl2           1.999022 2.000007
    Test::More          0.47     0.98    


------------------------------
ENVIRONMENT AND OTHER CONTEXT
------------------------------

Environment variables:

    LANG = en_GB.UTF-8
    PATH = /usr/local/bin:/usr/local/apache/bin:/usr/local/sbin:/usr/local/bin:/sbin:/bin:/usr/sbin:/usr/bin:/root/bin
    PERL5LIB = 
    PERL5OPT = 
    PERL5_CPANPLUS_IS_RUNNING = 21161
    PERL5_CPAN_IS_RUNNING = 21161
    SHELL = /bin/bash
    TERM = xterm

Perl special variables (and OS-specific diagnostics, for MSWin32):

    $^X = /usr/local/bin/perl
    $UID/$EUID = 0 / 0
    $GID = 0 0 1 2 3 4 6 10
    $EGID = 0 0 1 2 3 4 6 10

Perl module toolchain versions installed:

    Module              Have    
    ------------------- --------
    CPAN                2.00    
    CPAN::Meta          2.130880
    Cwd                 3.40    
    ExtUtils::CBuilder  0.280206
    ExtUtils::Command   1.17    
    ExtUtils::Install   1.58    
    ExtUtils::MakeMaker 6.66    
    ExtUtils::Manifest  1.61    
    ExtUtils::ParseXS   3.18_03 
    File::Spec          3.40    
    JSON                2.57    
    JSON::PP            2.27200 
    Module::Build       0.4005  
    Module::Signature   0.70    
    Parse::CPAN::Meta   1.4404  
    Test::Harness       3.28    
    Test::More          0.98    
    YAML                0.84    
    YAML::Syck          1.25    
    version             0.9902  


--

Summary of my perl5 (revision 5 version 16 subversion 3) configuration:
   
  Platform:
    osname=linux, osvers=2.6.32.33-kvm-i386-20111128-dirty, archname=i686-linux
    uname='linux cogendo2.vm.bytemark.co.uk 2.6.32.33-kvm-i386-20111128-dirty #5 smp mon nov 28 20:23:39 gmt 2011 i686 i686 i386 gnulinux '
    config_args='-Dprefix=/usr/local'
    hint=recommended, useposix=true, d_sigaction=define
    useithreads=undef, usemultiplicity=undef
    useperlio=define, d_sfio=undef, uselargefiles=define, usesocks=undef
    use64bitint=undef, use64bitall=undef, uselongdouble=undef
    usemymalloc=n, bincompat5005=undef
  Compiler:
    cc='gcc', ccflags ='-fno-strict-aliasing -pipe -fstack-protector -I/usr/local/include -D_LARGEFILE_SOURCE -D_FILE_OFFSET_BITS=64',
    optimize='-O2',
    cppflags='-fno-strict-aliasing -pipe -fstack-protector -I/usr/local/include'
    ccversion='', gccversion='4.4.6 20120305 (Red Hat 4.4.6-4)', gccosandvers=''
    intsize=4, longsize=4, ptrsize=4, doublesize=8, byteorder=1234
    d_longlong=define, longlongsize=8, d_longdbl=define, longdblsize=12
    ivtype='long', ivsize=4, nvtype='double', nvsize=8, Off_t='off_t', lseeksize=8
    alignbytes=4, prototype=define
  Linker and Libraries:
    ld='gcc', ldflags =' -fstack-protector -L/usr/local/lib'
    libpth=/usr/local/lib /lib /usr/lib
    libs=-lnsl -ldl -lm -lcrypt -lutil -lc
    perllibs=-lnsl -ldl -lm -lcrypt -lutil -lc
    libc=/lib/libc-2.12.so, so=so, useshrplib=false, libperl=libperl.a
    gnulibc_version='2.12'
  Dynamic Linking:
    dlsrc=dl_dlopen.xs, dlext=so, d_dlsymun=undef, ccdlflags='-Wl,-E'
    cccdlflags='-fPIC', lddlflags='-shared -O2 -L/usr/local/lib -fstack-protector'


Characteristics of this binary (from libperl): 
  Compile-time options: HAS_TIMES PERLIO_LAYERS PERL_DONT_CREATE_GVSV
                        PERL_MALLOC_WRAP PERL_PRESERVE_IVUV USE_LARGE_FILES
                        USE_LOCALE USE_LOCALE_COLLATE USE_LOCALE_CTYPE
                        USE_LOCALE_NUMERIC USE_PERLIO USE_PERL_ATOF
  Built under linux
  Compiled at Mar 16 2013 22:14:25
  %ENV:
    PERL5LIB=""
    PERL5OPT=""
    PERL5_CPANPLUS_IS_RUNNING="21161"
    PERL5_CPAN_IS_RUNNING="21161"
  @INC:
    /usr/local/lib/perl5/site_perl/5.16.3/i686-linux
    /usr/local/lib/perl5/site_perl/5.16.3
    /usr/local/lib/perl5/5.16.3/i686-linux
    /usr/local/lib/perl5/5.16.3
    /usr/local/lib/perl5/site_perl
    .