Back
From: metabase:user:30f4dfbe-2aae-11df-837a-5e0a49663a4f
Subject: PASS Rose-DB-Object-0.813 v5.18.2 Mac OS X
Date: 2015-06-26T09:28:12Z
This distribution has been tested as part of the CPAN Testers
project, supporting the Perl programming language. See
http://wiki.cpantesters.org/ for more information or email
questions to cpan-testers-discuss@perl.org
--
Dear John Siracusa,
This is a computer-generated report for Rose-DB-Object-0.813
on perl 5.18.2, created by CPAN-Reporter-1.2014.
Thank you for uploading your work to CPAN. Congratulations!
All tests were successful.
Sections of this report:
* Tester comments
* Program output
* Prerequisites
* Environment and other context
------------------------------
TESTER COMMENTS
------------------------------
Additional comments from tester:
this report is from an automated smoke testing program
and was not reviewed by a human for accuracy
------------------------------
PROGRAM OUTPUT
------------------------------
Output from '/sw/bin/make test':
PERL_DL_NONLAZY=1 "/Users/hornenj/perl5/perlbrew/perls/perl-5.18.2/bin/perl" "-MExtUtils::Command::MM" "-MTest::Harness" "-e" "undef *Test::Harness::Switches; test_harness(0, 'blib/lib', 'blib/arch')" t/*.t
##
## DBI 1.633
## DBD::SQLite 1.46
## JSON 2.90
##
## WARNING: Almost all the tests in this module distribution need to connect
## to a database in order to run. The tests need full privileges on this
## database: the ability to create and drop tables, insert, update, and delete
## rows, create schemas, sequences, functions, triggers, the works.
##
## By default, the tests will try to connect to the database named "test"
## running on "localhost" using the default superuser username for each
## database type and an empty password.
##
## If you have setup your database in a secure manner, these connection
## attempts will fail, and the tests will be skipped. If you want to override
## these values, set the following environment variables before running tests.
## (The current values are shown in parentheses.)
##
## PostgreSQL:
##
## RDBO_PG_DSN (dbi:Pg:dbname=test;host=localhost)
## RDBO_PG_USER (postgres)
## RDBO_PG_PASS (<none>)
##
## MySQL:
##
## RDBO_MYSQL_DSN (dbi:mysql:database=test;host=localhost)
## RDBO_MYSQL_USER (root)
## RDBO_MYSQL_PASS (<none>)
##
## Oracle:
##
## RDBO_ORACLE_DSN (dbi:Oracle:dbname=test)
## RDBO_ORACLE_USER (<none>)
## RDBO_ORACLE_PASS (<none>)
##
## Informix:
##
## RDBO_INFORMIX_DSN (dbi:Informix:test@test)
## RDBO_INFORMIX_USER (<none>)
## RDBO_INFORMIX_PASS (<none>)
##
## SQLite: To disable the SQLite tests, set this environment varible
##
## RDBO_NO_SQLITE (<undef>)
##
## Press return to continue (or wait 60 seconds)
t/00-warning.t ..................... ok
t/as-tree.t ........................ ok
t/auto-setup.t ..................... ok
t/bind-param.t ..................... ok
t/column-triggers.t ................ ok
t/column-values.t .................. ok
t/db-migration.t ................... ok
t/db-object-auto.t ................. ok
t/db-object-cached.t ............... ok
t/db-object-changes-only-1.t ....... ok
t/db-object-changes-only-2.t ....... ok
t/db-object-convention.t ........... ok
t/db-object-foreign-key-auto.t ..... ok
t/db-object-foreign-key.t .......... ok
t/db-object-helpers.t .............. ok
t/db-object-loader-2.t ............. ok
t/db-object-loader-3.t ............. ok
t/db-object-loader-4.t ............. ok
t/db-object-loader-5.t ............. ok
t/db-object-loader-6.t ............. ok
t/db-object-loader-7.t ............. ok
t/db-object-loader-8.t ............. ok
t/db-object-loader-9.t ............. ok
t/db-object-loader.t ............... ok
t/db-object-manager-bulk-ops.t ..... ok
t/db-object-manager.t .............. ok
t/db-object-mapper.t ............... ok
t/db-object-metadata.t ............. ok
t/db-object-relationship-auto-2.t .. ok
t/db-object-relationship-auto.t .... ok
t/db-object-relationship.t ......... ok
t/db-object-std-cached.t ........... ok
t/db-object-std.t .................. ok
t/db-object.t ...................... ok
t/deep-joins.t ..................... ok
t/inheritance.t .................... ok
t/lazy-columns.t ................... ok
t/leaks.t .......................... ok
t/make-modules.t ................... ok
t/makemethods-db.t ................. ok
t/makemethods.t .................... ok
t/multi-many-the-hard-way.t ........ ok
t/multi-pk-sequences.t ............. ok
t/nested-joins.t ................... ok
t/one-to-many-reset.t .............. ok
t/pk-fk-columns.t .................. ok
t/pod.t ............................ ok
t/query-builder.t .................. ok
t/rt-cpan-45836.t .................. ok
t/save-cascade.t ................... ok
t/schema-override.t ................ ok
t/spot-check-01.t .................. ok
t/spot-check-02.t .................. ok
t/spot-check-03.t .................. ok
t/spot-check-04.t .................. ok
t/spot-check-05.t .................. ok
t/spot-check-06.t .................. ok
t/spot-check-07.t .................. ok
t/spot-check-08.t .................. ok
t/spot-check-09.t .................. ok
t/spot-check-10.t .................. ok
t/spot-check-11.t .................. ok
t/spot-check-12.t .................. ok
t/spot-check-13.t .................. ok
t/spot-check-14.t .................. ok
t/undef-overrides-default.t ........ ok
t/unique-key-prefs.t ............... ok
All tests successful.
Files=67, Tests=15335, 49 wallclock secs ( 1.04 usr 0.15 sys + 26.07 cusr 3.48 csys = 30.74 CPU)
Result: PASS
------------------------------
PREREQUISITES
------------------------------
Prerequisite modules loaded:
requires:
Module Need Have
-------------------- -------- --------
Bit::Vector 0 7.4
Clone 0.29 0.38
Cwd 0 3.47
Data::Dumper 2.121 2.154
DateTime 0 1.18
DBI 1.40 1.633
File::Path 0 2.09
File::Spec 0 3.47
List::MoreUtils 0 0.412
Math::BigInt 1.77 1.9993
perl 5.006000 5.018002
Rose::DateTime::Util 0.532 0.540
Rose::DB 0.763 0.777
Rose::Object 0.854 0.860
Scalar::Util 0 1.42
Test::More 0 1.001014
Time::Clock 1.00 1.03
build_requires:
Module Need Have
-------------------- -------- --------
ExtUtils::MakeMaker 0 7.04
configure_requires:
Module Need Have
-------------------- -------- --------
ExtUtils::MakeMaker 0 7.04
------------------------------
ENVIRONMENT AND OTHER CONTEXT
------------------------------
Environment variables:
AUTOMATED_TESTING = 1
LANG = en_US.UTF-8
LC_ALL = POSIX
LD_LIBRARY_PATH = :/net/traces01.be-md.ncbi.nlm.nih.gov/trace_software/vdb/mac/release/x86_64/lib
NO_NETWORK_TESTING = 1
PATH = /Users/hornenj/perl5/perlbrew/bin:/Users/hornenj/perl5/perlbrew/perls/perl-5.18.2/bin:/Users/hornenj/perl5/perlbrew/bin:/Users/hornenj/perl5/perlbrew/perls/perl-5.23.0/bin:/Users/hornenj/bin:/sw/lib/perl5/ExtUtils:/sw/bin:/am/ncbiapdata/bin:/usr/bin:/bin:/usr/X11R6/bin:/netopt/ncbi_tools/bin:/usr/local/ncbi/blast/bin:/net/traces01.be-md.ncbi.nlm.nih.gov/trace_software/vdb/mac/release/x86_64/bin
PERL5LIB = /Users/hornenj/.cpan/build/Rose-DB-0.777-D2MK_f/blib/arch:/Users/hornenj/.cpan/build/Rose-DB-0.777-D2MK_f/blib/lib:/Users/hornenj/.cpan/build/DateTime-Format-Oracle-0.06-9HKex9/blib/arch:/Users/hornenj/.cpan/build/DateTime-Format-Oracle-0.06-9HKex9/blib/lib:/Users/hornenj/.cpan/build/Convert-NLS_DATE_FORMAT-0.05-FnIDVF/blib/arch:/Users/hornenj/.cpan/build/Convert-NLS_DATE_FORMAT-0.05-FnIDVF/blib/lib:/Users/hornenj/.cpan/build/SQL-ReservedWords-0.8-HwX1zl/blib/arch:/Users/hornenj/.cpan/build/SQL-ReservedWords-0.8-HwX1zl/blib/lib:/Users/hornenj/.cpan/build/DateTime-Format-Pg-0.16011-cXygKD/blib/arch:/Users/hornenj/.cpan/build/DateTime-Format-Pg-0.16011-cXygKD/blib/lib:/Users/hornenj/.cpan/build/Clone-PP-1.06-YrlIEI/blib/arch:/Users/hornenj/.cpan/build/Clone-PP-1.06-YrlIEI/blib/lib:/Users/hornenj/.cpan/build/DateTime-Format-MySQL-0.05-Rbc7tG/blib/arch:/Users/hornenj/.cpan/build/DateTime-Format-MySQL-0.05-Rbc7tG/blib/lib:/Users/hornenj/.cpan/build/DateTime-Format-Builder-0.81-4731VB/blib/arch:/Users/hornenj/.cpan/build/DateTime-Format-Builder-0.81-4731VB/blib/lib:/Users/hornenj/.cpan/build/Class-Factory-Util-1.7-3u_0vN/blib/arch:/Users/hornenj/.cpan/build/Class-Factory-Util-1.7-3u_0vN/blib/lib:/Users/hornenj/.cpan/build/Time-Clock-1.03-x8ahlU/blib/arch:/Users/hornenj/.cpan/build/Time-Clock-1.03-x8ahlU/blib/lib:/Users/hornenj/.cpan/build/Rose-DateTime-0.540-HJFoBl/blib/arch:/Users/hornenj/.cpan/build/Rose-DateTime-0.540-HJFoBl/blib/lib:/Users/hornenj/.cpan/build/Rose-Object-0.860-xEYehN/blib/arch:/Users/hornenj/.cpan/build/Rose-Object-0.860-xEYehN/blib/lib
PERL5OPT =
PERL5_CPANPLUS_IS_RUNNING = 62416
PERL5_CPAN_IS_RUNNING = 62416
PERL5_MINISMOKEBOX = 0.58
PERLBREW_BASHRC_VERSION = 0.73
PERLBREW_HOME = /Users/hornenj/.perlbrew
PERLBREW_LIB =
PERLBREW_MANPATH = /Users/hornenj/perl5/perlbrew/perls/perl-5.18.2/man
PERLBREW_PATH = /Users/hornenj/perl5/perlbrew/bin:/Users/hornenj/perl5/perlbrew/perls/perl-5.18.2/bin
PERLBREW_PERL = perl-5.18.2
PERLBREW_ROOT = /Users/hornenj/perl5/perlbrew
PERLBREW_VERSION = 0.73
PERL_EXTUTILS_AUTOINSTALL = --defaultdeps
PERL_LOCAL_LIB_ROOT =
PERL_MM_USE_DEFAULT = 1
SHELL = /bin/bash
TERM = xterm-256color
TMPDIR = /var/folders/pz/pd7y1qjs6s3cbk170cw50fjc000c61/T/
VERSIONER_PERL_PREFER_32_BIT = no
VERSIONER_PERL_VERSION = 5.18
ac_cv_path_INTLTOOL_PERL = /usr/bin/perl
Perl special variables (and OS-specific diagnostics, for MSWin32):
$^X = /Users/hornenj/perl5/perlbrew/perls/perl-5.18.2/bin/perl
$UID/$EUID = 12481 / 12481
$GID = 14 14 5344 37103 527 241
$EGID = 14 14 5344 37103 527 241
Perl module toolchain versions installed:
Module Have
------------------- --------
CPAN 2.05
CPAN::Meta 2.150001
Cwd 3.47
ExtUtils::CBuilder 0.280223
ExtUtils::Command 1.20
ExtUtils::Install 2.04
ExtUtils::MakeMaker 7.04
ExtUtils::Manifest 1.70
ExtUtils::ParseXS 3.24
File::Spec 3.47
JSON 2.90
JSON::PP 2.27300
Module::Build 0.4212
Module::Signature n/a
Parse::CPAN::Meta 1.4414
Test::Harness 3.35
Test::More 1.001014
YAML 1.15
YAML::Syck 1.29
version 0.9912
--
Summary of my perl5 (revision 5 version 18 subversion 2) configuration:
Platform:
osname=darwin, osvers=12.5.0, archname=darwin-thread-multi-2level
uname='darwin ncbimac2008.ncbi.nlm.nih.gov 12.5.0 darwin kernel version 12.5.0: mon jul 29 16:33:49 pdt 2013; root:xnu-2050.48.11~1release_x86_64 x86_64 '
config_args='-Duseithreads -Dusemultiplicity -Dinstallprefix=/Users/hornenj/perl5/perlbrew/perls/perl-5.18.2 -Dprefix=/Users/hornenj/perl5/perlbrew/perls/perl-5.18.2 -de -Accflags=-O2 -W -Wformat=2 -Wswitch -Wshadow -Wwrite-strings -Wuninitialized -Wall -pipe -mtune=native -march=native -fomit-frame-pointer -msse2 -msse -mmmx -pedantic -D_FORTIFY_SOURCE=2 -Wpointer-arith -Wstrict-prototypes -fstack-protector -Wstack-protector -Wextra -Wbad-function-cast -Wcast-align -Wcast-qual -Wdisabled-optimization -Wendif-labels -Wfloat-equal -Wformat-nonliteral -Winline -Wmissing-declarations -Wmissing-prototypes -Wnested-externs -Wpointer-arith -Wundef -Wformat-security -fassociative-math -Acc=clang'
hint=recommended, useposix=true, d_sigaction=define
useithreads=define, usemultiplicity=define
useperlio=define, d_sfio=undef, uselargefiles=define, usesocks=undef
use64bitint=define, use64bitall=define, uselongdouble=undef
usemymalloc=n, bincompat5005=undef
Compiler:
cc=' clang', ccflags ='-fno-common -DPERL_DARWIN -O2 -W -Wformat=2 -Wswitch -Wshadow -Wwrite-strings -Wuninitialized -Wall -pipe -mtune=native -march=native -fomit-frame-pointer -msse2 -msse -mmmx -pedantic -D_FORTIFY_SOURCE=2 -Wpointer-arith -Wstrict-prototypes -fstack-protector -Wstack-protector -Wextra -Wbad-function-cast -Wcast-align -Wcast-qual -Wdisabled-optimization -Wendif-labels -Wfloat-equal -Wformat-nonliteral -Winline -Wmissing-declarations -Wmissing-prototypes -Wnested-externs -Wpointer-arith -Wundef -Wformat-security -fassociative-math -fno-strict-aliasing -I/usr/local/include',
optimize='-O3',
cppflags='-fno-common -DPERL_DARWIN -O2 -W -Wformat=2 -Wswitch -Wshadow -Wwrite-strings -Wuninitialized -Wall -pipe -mtune=native -march=native -fomit-frame-pointer -msse2 -msse -mmmx -pedantic -D_FORTIFY_SOURCE=2 -Wpointer-arith -Wstrict-prototypes -fstack-protector -Wstack-protector -Wextra -Wbad-function-cast -Wcast-align -Wcast-qual -Wdisabled-optimization -Wendif-labels -Wfloat-equal -Wformat-nonliteral -Winline -Wmissing-declarations -Wmissing-prototypes -Wnested-externs -Wpointer-arith -Wundef -Wformat-security -fassociative-math -fno-strict-aliasing -I/usr/local/include'
ccversion='', gccversion='4.2.1 Compatible Apple LLVM 4.2 (clang-425.0.24)', gccosandvers=''
intsize=4, longsize=8, ptrsize=8, doublesize=8, byteorder=12345678
d_longlong=define, longlongsize=8, d_longdbl=define, longdblsize=16
ivtype='long', ivsize=8, nvtype='double', nvsize=8, Off_t='off_t', lseeksize=8
alignbytes=8, prototype=define
Linker and Libraries:
ld='env MACOSX_DEPLOYMENT_TARGET=10.3 cc', ldflags =' -fstack-protector -L/usr/local/lib'
libpth=/usr/local/lib /usr/lib
libs=-ldbm -ldl -lm -lutil -lc
perllibs=-ldl -lm -lutil -lc
libc=, so=dylib, useshrplib=false, libperl=libperl.a
gnulibc_version=''
Dynamic Linking:
dlsrc=dl_dlopen.xs, dlext=bundle, d_dlsymun=undef, ccdlflags=' '
cccdlflags=' ', lddlflags=' -bundle -undefined dynamic_lookup -L/usr/local/lib -fstack-protector'
Characteristics of this binary (from libperl):
Compile-time options: HAS_TIMES MULTIPLICITY PERLIO_LAYERS
PERL_DONT_CREATE_GVSV
PERL_HASH_FUNC_ONE_AT_A_TIME_HARD
PERL_IMPLICIT_CONTEXT PERL_MALLOC_WRAP
PERL_PRESERVE_IVUV PERL_SAWAMPERSAND USE_64_BIT_ALL
USE_64_BIT_INT USE_ITHREADS USE_LARGE_FILES
USE_LOCALE USE_LOCALE_COLLATE USE_LOCALE_CTYPE
USE_LOCALE_NUMERIC USE_PERLIO USE_PERL_ATOF
USE_REENTRANT_API
Built under darwin
Compiled at Jan 7 2014 09:17:10
%ENV:
PERL5LIB="/Users/hornenj/.cpan/build/Rose-DB-0.777-D2MK_f/blib/arch:/Users/hornenj/.cpan/build/Rose-DB-0.777-D2MK_f/blib/lib:/Users/hornenj/.cpan/build/DateTime-Format-Oracle-0.06-9HKex9/blib/arch:/Users/hornenj/.cpan/build/DateTime-Format-Oracle-0.06-9HKex9/blib/lib:/Users/hornenj/.cpan/build/Convert-NLS_DATE_FORMAT-0.05-FnIDVF/blib/arch:/Users/hornenj/.cpan/build/Convert-NLS_DATE_FORMAT-0.05-FnIDVF/blib/lib:/Users/hornenj/.cpan/build/SQL-ReservedWords-0.8-HwX1zl/blib/arch:/Users/hornenj/.cpan/build/SQL-ReservedWords-0.8-HwX1zl/blib/lib:/Users/hornenj/.cpan/build/DateTime-Format-Pg-0.16011-cXygKD/blib/arch:/Users/hornenj/.cpan/build/DateTime-Format-Pg-0.16011-cXygKD/blib/lib:/Users/hornenj/.cpan/build/Clone-PP-1.06-YrlIEI/blib/arch:/Users/hornenj/.cpan/build/Clone-PP-1.06-YrlIEI/blib/lib:/Users/hornenj/.cpan/build/DateTime-Format-MySQL-0.05-Rbc7tG/blib/arch:/Users/hornenj/.cpan/build/DateTime-Format-MySQL-0.05-Rbc7tG/blib/lib:/Users/hornenj/.cpan/build/DateTime-Format-Builder-0.81-4731VB/blib/arch:/Users/hornenj/.cpan/build/DateTime-Format-Builder-0.81-4731VB/blib/lib:/Users/hornenj/.cpan/build/Class-Factory-Util-1.7-3u_0vN/blib/arch:/Users/hornenj/.cpan/build/Class-Factory-Util-1.7-3u_0vN/blib/lib:/Users/hornenj/.cpan/build/Time-Clock-1.03-x8ahlU/blib/arch:/Users/hornenj/.cpan/build/Time-Clock-1.03-x8ahlU/blib/lib:/Users/hornenj/.cpan/build/Rose-DateTime-0.540-HJFoBl/blib/arch:/Users/hornenj/.cpan/build/Rose-DateTime-0.540-HJFoBl/blib/lib:/Users/hornenj/.cpan/build/Rose-Object-0.860-xEYehN/blib/arch:/Users/hornenj/.cpan/build/Rose-Object-0.860-xEYehN/blib/lib"
PERL5OPT=""
PERL5_CPANPLUS_IS_RUNNING="62416"
PERL5_CPAN_IS_RUNNING="62416"
PERL5_MINISMOKEBOX="0.58"
PERLBREW_BASHRC_VERSION="0.73"
PERLBREW_HOME="/Users/hornenj/.perlbrew"
PERLBREW_LIB=""
PERLBREW_MANPATH="/Users/hornenj/perl5/perlbrew/perls/perl-5.18.2/man"
PERLBREW_PATH="/Users/hornenj/perl5/perlbrew/bin:/Users/hornenj/perl5/perlbrew/perls/perl-5.18.2/bin"
PERLBREW_PERL="perl-5.18.2"
PERLBREW_ROOT="/Users/hornenj/perl5/perlbrew"
PERLBREW_VERSION="0.73"
PERL_EXTUTILS_AUTOINSTALL="--defaultdeps"
PERL_LOCAL_LIB_ROOT=""
PERL_MM_USE_DEFAULT="1"
@INC:
/Users/hornenj/.cpan/build/Rose-DB-0.777-D2MK_f/blib/arch
/Users/hornenj/.cpan/build/Rose-DB-0.777-D2MK_f/blib/lib
/Users/hornenj/.cpan/build/DateTime-Format-Oracle-0.06-9HKex9/blib/arch
/Users/hornenj/.cpan/build/DateTime-Format-Oracle-0.06-9HKex9/blib/lib
/Users/hornenj/.cpan/build/Convert-NLS_DATE_FORMAT-0.05-FnIDVF/blib/arch
/Users/hornenj/.cpan/build/Convert-NLS_DATE_FORMAT-0.05-FnIDVF/blib/lib
/Users/hornenj/.cpan/build/SQL-ReservedWords-0.8-HwX1zl/blib/arch
/Users/hornenj/.cpan/build/SQL-ReservedWords-0.8-HwX1zl/blib/lib
/Users/hornenj/.cpan/build/DateTime-Format-Pg-0.16011-cXygKD/blib/arch
/Users/hornenj/.cpan/build/DateTime-Format-Pg-0.16011-cXygKD/blib/lib
/Users/hornenj/.cpan/build/Clone-PP-1.06-YrlIEI/blib/arch
/Users/hornenj/.cpan/build/Clone-PP-1.06-YrlIEI/blib/lib
/Users/hornenj/.cpan/build/DateTime-Format-MySQL-0.05-Rbc7tG/blib/arch
/Users/hornenj/.cpan/build/DateTime-Format-MySQL-0.05-Rbc7tG/blib/lib
/Users/hornenj/.cpan/build/DateTime-Format-Builder-0.81-4731VB/blib/arch
/Users/hornenj/.cpan/build/DateTime-Format-Builder-0.81-4731VB/blib/lib
/Users/hornenj/.cpan/build/Class-Factory-Util-1.7-3u_0vN/blib/arch
/Users/hornenj/.cpan/build/Class-Factory-Util-1.7-3u_0vN/blib/lib
/Users/hornenj/.cpan/build/Time-Clock-1.03-x8ahlU/blib/arch
/Users/hornenj/.cpan/build/Time-Clock-1.03-x8ahlU/blib/lib
/Users/hornenj/.cpan/build/Rose-DateTime-0.540-HJFoBl/blib/arch
/Users/hornenj/.cpan/build/Rose-DateTime-0.540-HJFoBl/blib/lib
/Users/hornenj/.cpan/build/Rose-Object-0.860-xEYehN/blib/arch
/Users/hornenj/.cpan/build/Rose-Object-0.860-xEYehN/blib/lib
/Users/hornenj/perl5/perlbrew/perls/perl-5.18.2/lib/site_perl/5.18.2/darwin-thread-multi-2level
/Users/hornenj/perl5/perlbrew/perls/perl-5.18.2/lib/site_perl/5.18.2
/Users/hornenj/perl5/perlbrew/perls/perl-5.18.2/lib/5.18.2/darwin-thread-multi-2level
/Users/hornenj/perl5/perlbrew/perls/perl-5.18.2/lib/5.18.2
.