Devel-CheckLib v1.11 Perl 5 v5.26.2 x86_64-linux

Status
Pass
From
Eric de Hont (EDEHONT)
Dist
Devel-CheckLib v1.11
Platform
Perl 5 v5.26.2 x86_64-linux
Date
2018-05-03 16:04:31
ID
aa47bbe2-4eeb-11e8-9df6-a1b30d13a0da
This distribution has been tested as part of the CPAN Testers
project, supporting the Perl programming language.  See
http://wiki.cpantesters.org/ for more information or email
questions to cpan-testers-discuss@perl.org


--
Dear MATTN,

This is a computer-generated report for Devel-CheckLib-1.11
on perl 5.26.2, created by App::cpanminus::reporter 0.17 (1.7043).

Thank you for uploading your work to CPAN.  Congratulations!
All tests were successful.

Sections of this report:

    * Tester comments
    * Program output
    * Prerequisites
    * Environment and other context

------------------------------
TESTER COMMENTS
------------------------------

Additional comments from tester:

none provided

------------------------------
PROGRAM OUTPUT
------------------------------

Output from '':

Building and testing Devel-CheckLib-1.11
cp lib/Devel/CheckLib.pm blib/lib/Devel/CheckLib.pm
cp bin/use-devel-checklib blib/script/use-devel-checklib
"/home/eric/perl5/perlbrew/perls/perl-5.26.2/bin/perl" -MExtUtils::MY -e 'MY->fixin(shift)' -- blib/script/use-devel-checklib
Manifying 1 pod document
Manifying 1 pod document
PERL_DL_NONLAZY=1 "/home/eric/perl5/perlbrew/perls/perl-5.26.2/bin/perl" "-MExtUtils::Command::MM" "-MTest::Harness" "-e" "undef *Test::Harness::Switches; test_harness(0, 'blib/lib', 'blib/arch')" t/*.t
t/00-load.t ................... ok
t/analyze-binary.t ............ ok
t/bad-single-word-compiler.t .. ok
t/cmdline-LIBS-INC.t .......... ok
t/custom-function.t ........... ok
t/dash-l-libs.t ............... ok
t/exit_with_message.t ......... ok
t/flags.t ..................... ok
t/found.t ..................... ok
t/headers.t ................... ok
t/multi-word-compiler.t ....... ok
t/not_found.t ................. ok
All tests successful.
Files=12, Tests=42,  3 wallclock secs ( 0.04 usr  0.00 sys +  1.70 cusr  0.41 csys =  2.15 CPU)
Result: PASS

------------------------------
PREREQUISITES
------------------------------

Prerequisite modules loaded:

    No requirements found

------------------------------
ENVIRONMENT AND OTHER CONTEXT
------------------------------

Environment variables:

    LANG = nl_NL.UTF-8
    LANGUAGE = nl_NL:nl:en
    LC_ADDRESS = nl_NL.UTF-8
    LC_IDENTIFICATION = nl_NL.UTF-8
    LC_MEASUREMENT = nl_NL.UTF-8
    LC_MONETARY = nl_NL.UTF-8
    LC_NAME = nl_NL.UTF-8
    LC_NUMERIC = nl_NL.UTF-8
    LC_PAPER = nl_NL.UTF-8
    LC_TELEPHONE = nl_NL.UTF-8
    LC_TIME = nl_NL.UTF-8
    PATH = /home/eric/perl5/perlbrew/bin:/home/eric/perl5/perlbrew/perls/perl-5.26.2/bin:/home/eric/rakudo-star/share/perl6/site/bin:/home/eric/rakudo-star/bin:/home/eric/bin:/usr/local/sbin:/usr/local/bin:/usr/sbin:/usr/bin:/sbin:/bin:/usr/games:/usr/local/games:/snap/bin
    PERL5LIB = /home/eric/Programmeren/lib
    PERLBREW_BASHRC_VERSION = 0.80
    PERLBREW_HOME = /home/eric/.perlbrew
    PERLBREW_MANPATH = /home/eric/perl5/perlbrew/perls/perl-5.26.2/man
    PERLBREW_PATH = /home/eric/perl5/perlbrew/bin:/home/eric/perl5/perlbrew/perls/perl-5.26.2/bin
    PERLBREW_PERL = perl-5.26.2
    PERLBREW_ROOT = /home/eric/perl5/perlbrew
    PERLBREW_VERSION = 0.80
    PERL_UNICODE = AS
    SHELL = /bin/bash
    TERM = xterm

Perl special variables (and OS-specific diagnostics, for MSWin32):

    EGID = 1000 4 24 27 30 46 115 131 134 1000 1001
    EUID = 1000
    EXECUTABLE_NAME = /home/eric/perl5/perlbrew/perls/perl-5.26.2/bin/perl
    GID = 1000 4 24 27 30 46 115 131 134 1000 1001
    UID = 1000

Perl module toolchain versions installed:

    Module              Have      
    ------------------- ----------
    CPAN                2.18      
    CPAN::Meta          2.150010  
    Cwd                 3.67      
    ExtUtils::CBuilder  0.280225  
    ExtUtils::Command   7.34      
    ExtUtils::Install   2.06      
    ExtUtils::MakeMaker 7.34      
    ExtUtils::Manifest  1.70      
    ExtUtils::ParseXS   3.34      
    File::Spec          3.67      
    JSON                2.97001   
    JSON::PP            2.27400_02
    Module::Build       0.4224    
    Module::Signature   n/a       
    Parse::CPAN::Meta   2.150010  
    Test::Harness       3.38      
    Test::More          1.302136  
    YAML                1.24      
    YAML::Syck          n/a       
    version             0.9917    


--

Summary of my perl5 (revision 5 version 26 subversion 2) configuration:
   
  Platform:
    osname=linux
    osvers=4.4.0-122-generic
    archname=x86_64-linux
    uname='linux hp-envy-e 4.4.0-122-generic #146-ubuntu smp mon apr 23 15:34:04 utc 2018 x86_64 x86_64 x86_64 gnulinux '
    config_args='-de -Dprefix=/home/eric/perl5/perlbrew/perls/perl-5.26.2 -Aeval:scriptdir=/home/eric/perl5/perlbrew/perls/perl-5.26.2/bin'
    hint=recommended
    useposix=true
    d_sigaction=define
    useithreads=undef
    usemultiplicity=undef
    use64bitint=define
    use64bitall=define
    uselongdouble=undef
    usemymalloc=n
    default_inc_excludes_dot=define
    bincompat5005=undef
  Compiler:
    cc='cc'
    ccflags ='-fwrapv -fno-strict-aliasing -pipe -fstack-protector-strong -I/usr/local/include -D_LARGEFILE_SOURCE -D_FILE_OFFSET_BITS=64'
    optimize='-O2'
    cppflags='-fwrapv -fno-strict-aliasing -pipe -fstack-protector-strong -I/usr/local/include'
    ccversion=''
    gccversion='5.4.0 20160609'
    gccosandvers=''
    intsize=4
    longsize=8
    ptrsize=8
    doublesize=8
    byteorder=12345678
    doublekind=3
    d_longlong=define
    longlongsize=8
    d_longdbl=define
    longdblsize=16
    longdblkind=3
    ivtype='long'
    ivsize=8
    nvtype='double'
    nvsize=8
    Off_t='off_t'
    lseeksize=8
    alignbytes=8
    prototype=define
  Linker and Libraries:
    ld='cc'
    ldflags =' -fstack-protector-strong -L/usr/local/lib'
    libpth=/usr/local/lib /usr/lib/gcc/x86_64-linux-gnu/5/include-fixed /usr/include/x86_64-linux-gnu /usr/lib /lib/x86_64-linux-gnu /lib/../lib /usr/lib/x86_64-linux-gnu /usr/lib/../lib /lib
    libs=-lpthread -lnsl -ldl -lm -lcrypt -lutil -lc
    perllibs=-lpthread -lnsl -ldl -lm -lcrypt -lutil -lc
    libc=libc-2.23.so
    so=so
    useshrplib=false
    libperl=libperl.a
    gnulibc_version='2.23'
  Dynamic Linking:
    dlsrc=dl_dlopen.xs
    dlext=so
    d_dlsymun=undef
    ccdlflags='-Wl,-E'
    cccdlflags='-fPIC'
    lddlflags='-shared -O2 -L/usr/local/lib -fstack-protector-strong'


Characteristics of this binary (from libperl): 
  Compile-time options:
    HAS_TIMES
    PERLIO_LAYERS
    PERL_COPY_ON_WRITE
    PERL_DONT_CREATE_GVSV
    PERL_MALLOC_WRAP
    PERL_OP_PARENT
    PERL_PRESERVE_IVUV
    USE_64_BIT_ALL
    USE_64_BIT_INT
    USE_LARGE_FILES
    USE_LOCALE
    USE_LOCALE_COLLATE
    USE_LOCALE_CTYPE
    USE_LOCALE_NUMERIC
    USE_LOCALE_TIME
    USE_PERLIO
    USE_PERL_ATOF
  Locally applied patches:
    Devel::PatchPerl 1.38
  Built under linux
  Compiled at May  3 2018 17:05:55
  %ENV:
    PERL5LIB="/home/eric/Programmeren/lib"
    PERLBREW_BASHRC_VERSION="0.80"
    PERLBREW_HOME="/home/eric/.perlbrew"
    PERLBREW_MANPATH="/home/eric/perl5/perlbrew/perls/perl-5.26.2/man"
    PERLBREW_PATH="/home/eric/perl5/perlbrew/bin:/home/eric/perl5/perlbrew/perls/perl-5.26.2/bin"
    PERLBREW_PERL="perl-5.26.2"
    PERLBREW_ROOT="/home/eric/perl5/perlbrew"
    PERLBREW_VERSION="0.80"
    PERL_UNICODE="AS"
  @INC:
    /home/eric/Programmeren/lib
    /home/eric/perl5/perlbrew/perls/perl-5.26.2/lib/site_perl/5.26.2/x86_64-linux
    /home/eric/perl5/perlbrew/perls/perl-5.26.2/lib/site_perl/5.26.2
    /home/eric/perl5/perlbrew/perls/perl-5.26.2/lib/5.26.2/x86_64-linux
    /home/eric/perl5/perlbrew/perls/perl-5.26.2/lib/5.26.2