Archive-Tar-Wrapper v0.33 Perl 5 v5.24.4 x86_64-linux-multi

Status
Pass
From
Serguei Trouchelle (STRO)
Dist
Archive-Tar-Wrapper v0.33
Platform
Perl 5 v5.24.4 x86_64-linux-multi
Date
2018-08-14 22:30:35
ID
a9b2a8b4-a011-11e8-9e3f-f12afdd4ab5d
This distribution has been tested as part of the CPAN Testers
project, supporting the Perl programming language.  See
http://wiki.cpantesters.org/ for more information or email
questions to cpan-testers-discuss@perl.org


--
Dear Alceu Rodrigues de Freitas Junior,

This is a computer-generated report for Archive-Tar-Wrapper-0.33
on perl 5.24.4, created by CPAN-Reporter-1.2018.

Thank you for uploading your work to CPAN.  Congratulations!
All tests were successful.

Sections of this report:

    * Tester comments
    * Program output
    * Prerequisites
    * Environment and other context

------------------------------
TESTER COMMENTS
------------------------------

Additional comments from tester:

none provided

------------------------------
PROGRAM OUTPUT
------------------------------

Output from '/usr/bin/make test':

PERL_DL_NONLAZY=1 "/home/stro/perl/5.24.4m/bin/perl" "-MExtUtils::Command::MM" "-MTest::Harness" "-e" "undef *Test::Harness::Switches; test_harness(0, 'blib/lib', 'blib/arch')" t/*.t
t/001Basic.t .............. ok
t/002Mult.t ............... ok
t/003Dirs.t ............... ok
t/004Utf8.t ............... ok
t/005Cwd.t ................ ok
t/006DirPerms.t ........... ok
t/007bzip.t ............... ok
# with grep: Ran 1274 iterations (241 outliers).
# with grep: Rounded run time per iteration: 0.000670 +/- 0.000000 (0.1%)
# with grep and compiled regex: Ran 1704 iterations (665 outliers).
# with grep and compiled regex: Rounded run time per iteration: 0.000928 +/- 0.000001 (0.1%)
# with eq: Ran 1337 iterations (317 outliers).
# with eq: Rounded run time per iteration: 0.000606 +/- 0.000000 (0.0%)
# with enhanced eq: Ran 1214 iterations (212 outliers).
# with enhanced eq: Rounded run time per iteration: 0.000593 +/- 0.000000 (0.0%)
# with enhanced eq mark2: Ran 1403 iterations (354 outliers).
# with enhanced eq mark2: Rounded run time per iteration: 0.000534 +/- 0.000000 (0.0%)
# with enhanced eq mark3: Ran 1337 iterations (302 outliers).
# with enhanced eq mark3: Rounded run time per iteration: 0.000477 +/- 0.000000 (0.1%)
# sort and shift: Ran 1403 iterations (353 outliers).
# sort and shift: Rounded run time per iteration: 0.000742 +/- 0.000001 (0.1%)
t/008performance.t ........ ok
# with grep: Ran 1274 iterations (257 outliers).
# with grep: Rounded run time per iteration: 0.000011 +/- 0.000000 (0.1%)
# with grep and compiled regex: Ran 1546 iterations (417 outliers).
# with grep and compiled regex: Rounded run time per iteration: 0.000013 +/- 0.000000 (0.0%)
# with eq: Ran 1473 iterations (211 outliers).
# with eq: Rounded run time per iteration: 0.000033 +/- 0.000000 (0.5%)
# with enhanced eq: Ran 1274 iterations (251 outliers).
# with enhanced eq: Rounded run time per iteration: 0.000045 +/- 0.000000 (0.1%)
# with enhanced eq mark2: Ran 1337 iterations (247 outliers).
# with enhanced eq mark2: Rounded run time per iteration: 0.000045 +/- 0.000000 (0.1%)
# with enhanced eq mark3: Ran 1546 iterations (524 outliers).
# with enhanced eq mark3: Rounded run time per iteration: 0.000009 +/- 0.000000 (0.0%)
# sort and shift: Ran 1473 iterations (460 outliers).
# sort and shift: Rounded run time per iteration: 0.000008 +/- 0.000000 (0.0%)
t/009performance-small.t .. ok
All tests successful.

Test Summary Report
-------------------
t/008performance.t      (Wstat: 0 Tests: 1 Failed: 0)
  TODO passed:   1
t/009performance-small.t (Wstat: 0 Tests: 1 Failed: 0)
  TODO passed:   1
Files=9, Tests=54, 58 wallclock secs ( 0.03 usr  0.00 sys + 27.37 cusr  4.20 csys = 31.60 CPU)
Result: PASS

------------------------------
PREREQUISITES
------------------------------

Prerequisite modules loaded:

requires:

    Module              Need     Have      
    ------------------- -------- ----------
    Cwd                 0        3.63_01   
    File::Temp          0        0.2304    
    File::Which         0        1.22      
    IPC::Run            0        20180523.0
    Log::Log4perl       0        1.49      
    perl                5.008001 5.024004  

build_requires:

    Module              Need     Have      
    ------------------- -------- ----------
    Dumbbench           0.111    0.111     
    ExtUtils::MakeMaker 0        7.10_02   
    Test::Simple        1.302073 1.302138  

configure_requires:

    Module              Need     Have      
    ------------------- -------- ----------
    ExtUtils::MakeMaker 0        7.10_02   
    File::Which         0        1.22      


------------------------------
ENVIRONMENT AND OTHER CONTEXT
------------------------------

Environment variables:

    LANG = en_US.UTF-8
    PATH = /usr/local/bin:/usr/bin:/bin:/usr/local/games:/usr/games
    PERL5LIB = 
    PERL5OPT = 
    PERL5_CPANPLUS_IS_RUNNING = 1149
    PERL5_CPAN_IS_RUNNING = 1149
    SHELL = /bin/bash
    TERM = xterm

Perl special variables (and OS-specific diagnostics, for MSWin32):

    $^X = /home/stro/perl/5.24.4m/bin/perl
    $UID/$EUID = 1000 / 1000
    $GID = 1000 24 25 29 30 44 46 108 114 1000
    $EGID = 1000 24 25 29 30 44 46 108 114 1000

Perl module toolchain versions installed:

    Module              Have      
    ------------------- ----------
    CPAN                2.16      
    CPAN::Meta          2.150005  
    Cwd                 3.63_01   
    ExtUtils::CBuilder  0.280225  
    ExtUtils::Command   7.10_02   
    ExtUtils::Install   2.04      
    ExtUtils::MakeMaker 7.10_02   
    ExtUtils::Manifest  1.70      
    ExtUtils::ParseXS   3.31      
    File::Spec          3.63_01   
    JSON                2.97001   
    JSON::PP            2.27300_01
    Module::Build       0.4224    
    Module::Signature   n/a       
    Parse::CPAN::Meta   1.4417_001
    Test::Harness       3.36_01   
    Test::More          1.302138  
    YAML                1.24      
    YAML::Syck          1.30      
    version             0.9916    


--

Summary of my perl5 (revision 5 version 24 subversion 4) configuration:
   
  Platform:
    osname=linux, osvers=3.16.0-4-amd64, archname=x86_64-linux-multi
    uname='linux vm-debian-001 3.16.0-4-amd64 #1 smp debian 3.16.7-ckt11-1 (2015-05-24) x86_64 gnulinux '
    config_args=''
    hint=recommended, useposix=true, d_sigaction=define
    useithreads=undef, usemultiplicity=define
    use64bitint=define, use64bitall=define, uselongdouble=undef
    usemymalloc=n, bincompat5005=undef
  Compiler:
    cc='cc', ccflags ='-fwrapv -fno-strict-aliasing -pipe -fstack-protector-strong -I/usr/local/include -D_LARGEFILE_SOURCE -D_FILE_OFFSET_BITS=64 -D_FORTIFY_SOURCE=2',
    optimize='-O2',
    cppflags='-fwrapv -fno-strict-aliasing -pipe -fstack-protector-strong -I/usr/local/include'
    ccversion='', gccversion='4.9.2', gccosandvers=''
    intsize=4, longsize=8, ptrsize=8, doublesize=8, byteorder=12345678, doublekind=3
    d_longlong=define, longlongsize=8, d_longdbl=define, longdblsize=16, longdblkind=3
    ivtype='long', ivsize=8, nvtype='double', nvsize=8, Off_t='off_t', lseeksize=8
    alignbytes=8, prototype=define
  Linker and Libraries:
    ld='cc', ldflags =' -fstack-protector-strong -L/usr/local/lib'
    libpth=/usr/local/lib /usr/lib/gcc/x86_64-linux-gnu/4.9/include-fixed /usr/include/x86_64-linux-gnu /usr/lib /lib/x86_64-linux-gnu /lib/../lib /usr/lib/x86_64-linux-gnu /usr/lib/../lib /lib
    libs=-lpthread -lnsl -ldl -lm -lcrypt -lutil -lc
    perllibs=-lpthread -lnsl -ldl -lm -lcrypt -lutil -lc
    libc=libc-2.19.so, so=so, useshrplib=false, libperl=libperl.a
    gnulibc_version='2.19'
  Dynamic Linking:
    dlsrc=dl_dlopen.xs, dlext=so, d_dlsymun=undef, ccdlflags='-Wl,-E'
    cccdlflags='-fPIC', lddlflags='-shared -O2 -L/usr/local/lib -fstack-protector-strong'


Characteristics of this binary (from libperl): 
  Compile-time options: HAS_TIMES MULTIPLICITY PERLIO_LAYERS
                        PERL_COPY_ON_WRITE PERL_DONT_CREATE_GVSV
                        PERL_HASH_FUNC_ONE_AT_A_TIME_HARD
                        PERL_IMPLICIT_CONTEXT PERL_MALLOC_WRAP
                        PERL_PRESERVE_IVUV USE_64_BIT_ALL USE_64_BIT_INT
                        USE_LARGE_FILES USE_LOCALE USE_LOCALE_COLLATE
                        USE_LOCALE_CTYPE USE_LOCALE_NUMERIC USE_LOCALE_TIME
                        USE_PERLIO USE_PERL_ATOF
  Built under linux
  Compiled at Apr 18 2018 01:49:13
  %ENV:
    PERL5LIB=""
    PERL5OPT=""
    PERL5_CPANPLUS_IS_RUNNING="1149"
    PERL5_CPAN_IS_RUNNING="1149"
  @INC:
    /home/stro/perl/5.24.4m/lib/site_perl/5.24.4/x86_64-linux-multi
    /home/stro/perl/5.24.4m/lib/site_perl/5.24.4
    /home/stro/perl/5.24.4m/lib/5.24.4/x86_64-linux-multi
    /home/stro/perl/5.24.4m/lib/5.24.4
    .