Report for Catalyst-Plugin-Authorization-ACL-0.15

Back
From: metabase:user:f705e168-b586-11df-8b01-064c5e9bc87f
Subject: PASS Catalyst-Plugin-Authorization-ACL-0.15 v5.10.0 
Date: 2010-11-24T17:05:54Z

This distribution has been tested as part of the CPAN Testers
project, supporting the Perl programming language.  See
http://wiki.cpantesters.org/ for more information or email
questions to cpan-testers-discuss@perl.org


--
Dear Rafael Kitover,

This is a computer-generated report for Catalyst-Plugin-Authorization-ACL-0.15
on perl 5.10.0, created by CPAN-Reporter-1.18.

Thank you for uploading your work to CPAN.  Congratulations!
All tests were successful.

Sections of this report:

    * Tester comments
    * Program output
    * Prerequisites
    * Environment and other context

------------------------------
TESTER COMMENTS
------------------------------

Additional comments from tester:

none provided

------------------------------
PROGRAM OUTPUT
------------------------------

Output from 'C:\strawberry\c\bin\dmake.EXE test':

C:\strawberry\perl\bin\perl.exe "-MExtUtils::Command::MM" "-e" "test_harness(0, 'inc', 'blib\lib', 'blib\arch')" t/01use.t t/02pod.t t/live_app.t t/more_live_app.t
t/01use.t .......... ok
t/02pod.t .......... skipped: set TEST_POD to enable this test
t/live_app.t ....... skipped: A bunch of plugins are required for this test... Look in the source if you really care... Can't locate Test/WWW/Mechanize/Catalyst.pm in @INC (@INC contains: t/lib C:\strawberry\cpan\build\Catalyst-Plugin-Authorization-ACL-0.15-Wpg3vW\inc C:\strawberry\cpan\build\Catalyst-Plugin-Authorization-ACL-0.15-Wpg3vW\blib\lib C:\strawberry\cpan\build\Catalyst-Plugin-Authorization-ACL-0.15-Wpg3vW\blib\arch C:/STRAWB~1/perl/lib C:/STRAWB~1/perl/site/lib .) at t/live_app.t line 12.
t/more_live_app.t .. skipped: Test::WWW::Mechanize::Catalyst required
All tests successful.
Files=4, Tests=1,  2 wallclock secs ( 0.09 usr +  0.16 sys =  0.25 CPU)
Result: PASS

------------------------------
PREREQUISITES
------------------------------

Prerequisite modules loaded:

requires:

    Module                                   Need    Have   
    ---------------------------------------- ------- -------
    Catalyst::Plugin::Authentication         0       0.10016
    Catalyst::Plugin::Authorization::Roles   0       0.08   
    Catalyst::Plugin::Session                0       0.31   
    Catalyst::Plugin::Session::State::Cookie 0       0.17   
    Catalyst::Runtime                        5.80013 5.80029
    Class::Data::Inheritable                 0       0.08   
    Class::Throwable                         0       0.11   
    ExtUtils::MakeMaker                      6.42    6.48   
    Moose                                    0       1.18   
    MRO::Compat                              0       0.11   
    namespace::autoclean                     0       0.11   
    Test::More                               0       0.96   
  ! Test::WWW::Mechanize::Catalyst           0       n/a    
    Tree::Simple                             0       1.18   
    Tree::Simple::Visitor::FindByPath        0       0.03   
    Tree::Simple::Visitor::GetAllDescendents 0       0.02   

configure_requires:

    Module                                   Need    Have   
    ---------------------------------------- ------- -------
    ExtUtils::MakeMaker                      6.42    6.48   


------------------------------
ENVIRONMENT AND OTHER CONTEXT
------------------------------

Environment variables:

    COMSPEC = C:\Windows\system32\cmd.exe
    INCLUDE = ;C:\strawberry\c\include;C:\strawberry\perl\lib\CORE
    LIB = ;C:\strawberry\c\lib;C:\strawberry\perl\bin
    NUMBER_OF_PROCESSORS = 2
    PATH = C:\Program Files\Far;C:\Program Files\ActiveState\Komodo Edit 6\;C:\Program Files\PC Connectivity Solution\;C:\Windows\system32;C:\Windows;C:\Windows\System32\Wbem;C:\Program Files\Common Files\Roxio Shared\DLLShared\;C:\Program Files\Common Files\Roxio Shared\10.0\DLLShared\;C:\strawberry\c\bin;C:\strawberry\perl\bin;C:\strawberry\c\bin;C:\strawberry\perl\bin;C:\Windows\System32\WindowsPowerShell\v1.0\;C:\Program Files\OpenVPN\bin
    PERL5LIB = 
    PERL5OPT = 
    PERL5_CPANPLUS_IS_RUNNING = 4004
    PERL5_CPAN_IS_RUNNING = 4004
    PERL_CPAN_REPORTER_DIR = C:\Home\.cpanreporter
    PROCESSOR_IDENTIFIER = x86 Family 6 Model 23 Stepping 6, GenuineIntel
    TEMP = C:\Users\Dionys\AppData\Local\Temp
    TERM = dumb

Perl special variables (and OS-specific diagnostics, for MSWin32):

    $^X = C:\strawberry\perl\bin\perl.exe
    $UID/$EUID = 0 / 0
    $GID = 0
    $EGID = 0
    Win32::GetOSName = WinVista
    Win32::GetOSVersion = Service Pack 2, 6, 0, 6002, 2, 2, 0, 768, 1
    Win32::FsType = NTFS
    Win32::IsAdminUser = 1

Perl module toolchain versions installed:

    Module              Have   
    ------------------- -------
    CPAN                1.9301 
    Cwd                 3.29   
    ExtUtils::CBuilder  0.24   
    ExtUtils::Command   1.16   
    ExtUtils::Install   1.52   
    ExtUtils::MakeMaker 6.48   
    ExtUtils::Manifest  1.56   
    ExtUtils::ParseXS   2.19   
    File::Spec          3.29   
    Module::Build       0.31012
    Module::Signature   n/a    
    Test::Harness       3.17   
    Test::More          0.96   
    YAML                0.68   
    YAML::Syck          1.07   
    version             0.76   


--

Summary of my perl5 (revision 5 version 10 subversion 0) configuration:
  Platform:
    osname=MSWin32, osvers=5.1, archname=MSWin32-x86-multi-thread
    uname=''
    config_args='undef'
    hint=recommended, useposix=true, d_sigaction=undef
    useithreads=define, usemultiplicity=define
    useperlio=define, d_sfio=undef, uselargefiles=define, usesocks=undef
    use64bitint=undef, use64bitall=undef, uselongdouble=undef
    usemymalloc=n, bincompat5005=undef
  Compiler:
    cc='gcc', ccflags =' -s -O2 -DWIN32 -DHAVE_DES_FCRYPT  -DPERL_IMPLICIT_CONTEXT -DPERL_IMPLICIT_SYS -fno-strict-aliasing -DPERL_MSVCRT_READFIX',
    optimize='-s -O2',
    cppflags='-DWIN32'
    ccversion='', gccversion='3.4.5', gccosandvers=''
    intsize=4, longsize=4, ptrsize=4, doublesize=8, byteorder=1234
    d_longlong=undef, longlongsize=8, d_longdbl=define, longdblsize=12
    ivtype='long', ivsize=4, nvtype='double', nvsize=8, Off_t='long long', lseeksize=8
    alignbytes=8, prototype=define
  Linker and Libraries:
    ld='g++', ldflags ='-s -L"C:\strawberry\perl\lib\CORE" -L"C:\strawberry\c\lib"'
    libpth=C:\strawberry\c\lib
    libs= -lmsvcrt -lmoldname -lkernel32 -luser32 -lgdi32 -lwinspool -lcomdlg32 -ladvapi32 -lshell32 -lole32 -loleaut32 -lnetapi32 -luuid -lws2_32 -lmpr -lwinmm -lversion -lodbc32 -lodbccp32
    perllibs= -lmsvcrt -lmoldname -lkernel32 -luser32 -lgdi32 -lwinspool -lcomdlg32 -ladvapi32 -lshell32 -lole32 -loleaut32 -lnetapi32 -luuid -lws2_32 -lmpr -lwinmm -lversion -lodbc32 -lodbccp32
    libc=-lmsvcrt, so=dll, useshrplib=true, libperl=libperl510.a
    gnulibc_version=''
  Dynamic Linking:
    dlsrc=dl_win32.xs, dlext=dll, d_dlsymun=undef, ccdlflags=' '
    cccdlflags=' ', lddlflags='-mdll -s -L"C:\strawberry\perl\lib\CORE" -L"C:\strawberry\c\lib"'


Characteristics of this binary (from libperl): 
  Compile-time options: MULTIPLICITY PERL_DONT_CREATE_GVSV
                        PERL_IMPLICIT_CONTEXT PERL_IMPLICIT_SYS
                        PERL_MALLOC_WRAP PL_OP_SLAB_ALLOC USE_ITHREADS
                        USE_LARGE_FILES USE_PERLIO
  Built under MSWin32
  Compiled at Jan 29 2009 20:56:38
  %ENV:
    PERL5_CPANPLUS_IS_RUNNING="4004"
    PERL5_CPAN_IS_RUNNING="4004"
    PERL_CPAN_REPORTER_DIR="C:\Home\.cpanreporter"
  @INC:
    C:/strawberry/perl/lib
    C:/strawberry/perl/site/lib
    .