LaTeXML v0.8.5_2 Perl 5 v5.32.0 MSWin32-x86-multi-thread-64int
- Status
- Pass
- From
- gregor herrmann
- Dist
-
LaTeXML v0.8.5_2
- Platform
- Perl 5 v5.32.0 MSWin32-x86-multi-thread-64int
- Date
- 2020-11-13 08:31:39
- ID
- a8fbf29f-6cf7-1014-b206-0fbe5b5bbbe5
This distribution has been tested as part of the CPAN Testers
project, supporting the Perl programming language. See
http://wiki.cpantesters.org/ for more information or email
questions to cpan-testers-discuss@perl.org
--
Dear Bruce Miller,
This is a computer-generated report for LaTeXML-0.8.5_2
on perl 5.32.0, created by CPAN-Reporter-1.2018.
Thank you for uploading your work to CPAN. Congratulations!
All tests were successful.
Sections of this report:
* Tester comments
* Program output
* Prerequisites
* Environment and other context
------------------------------
TESTER COMMENTS
------------------------------
Additional comments from tester:
this report is from an automated smoke testing program
and was not reviewed by a human for accuracy
------------------------------
PROGRAM OUTPUT
------------------------------
Output from 'C:\strawberry\c\bin\gmake.EXE test':
Das System kann die angegebene Datei nicht finden.
"C:\Strawberry\perl\bin\perl.exe" "-MExtUtils::Command::MM" "-MTest::Harness" "-e" "undef *Test::Harness::Switches; test_harness(0, 'blib\lib', 'blib\arch')" t/*.t
t/002_unit_findfile.t ..... ok
t/00_unittest.t ........... ok
t/05_tokenize.t ........... ok
# Skip: Missing requirement etoolbox.sty for t/expansion/etoolbox
# Skip: Missing requirement ifthen.sty for t/expansion/ifthen
# Skip: Missing requirement t1enc.def for t/expansion/meaning
# Skip: Missing requirement textcase.sty for t/expansion/textcase
t/10_expansion.t .......... ok
t/12_grouping.t ........... ok
t/170_grammar_coverage.t .. skipped: Only checked in continuous integration.
t/20_digestion.t .......... ok
t/22_fonts.t .............. ok
# Skip: Missing requirement ansinew.def for t/encoding/ansinew
# Skip: Missing requirement applemac.def for t/encoding/applemac
# Skip: Missing requirement cp1250.def for t/encoding/cp1250
# Skip: Missing requirement cp1252.def for t/encoding/cp1252
# Skip: Missing requirement cp437.def for t/encoding/cp437
# Skip: Missing requirement cp437de.def for t/encoding/cp437de
# Skip: Missing requirement cp850.def for t/encoding/cp850
# Skip: Missing requirement cp852.def for t/encoding/cp852
# Skip: Missing requirement cp858.def for t/encoding/cp858
# Skip: Missing requirement cp865.def for t/encoding/cp865
# Skip: Missing requirement decmulti.def for t/encoding/decmulti
# Skip: Missing requirement latin1.def for t/encoding/latin1
# Skip: Missing requirement latin10.def for t/encoding/latin10
# Skip: Missing requirement latin2.def for t/encoding/latin2
# Skip: Missing requirement latin3.def for t/encoding/latin3
# Skip: Missing requirement latin4.def for t/encoding/latin4
# Skip: Missing requirement latin5.def for t/encoding/latin5
# Skip: Missing requirement latin9.def for t/encoding/latin9
# Skip: Missing requirement ly1enc.def for t/encoding/ly1
# Skip: Missing requirement ot1enc.def for t/encoding/ot1
# Skip: Missing requirement t1enc.def for t/encoding/t1
# Skip: Missing requirement t2aenc.def for t/encoding/t2a
# Skip: Missing requirement t2benc.def for t/encoding/t2b
# Skip: Missing requirement t2cenc.def for t/encoding/t2c
# Skip: Missing requirement ts1enc.def for t/encoding/ts1
t/30_encoding.t ........... ok
# Skip: Missing requirement xkvview.sty for t/keyval/xkeyvalview
t/32_keyval.t ............. ok
t/33_keyval_options.t ..... ok
t/40_math.t ............... ok
# Skip: Missing requirement amsart.cls for t/structure/amsarticle
# Skip: Missing requirement csquotes.sty for t/structure/csquotes
# Skip: Missing requirement glossaries.sty for t/structure/glossary
t/50_structure.t .......... ok
t/52_namespace.t .......... ok
# Skip: Missing requirement algorithm.sty for t/alignment/algx
# Skip: Missing requirement makecell.sty for t/alignment/cells
# Skip: Missing requirement listings.cfg for t/alignment/listing
t/53_alignment.t .......... ok
# Skip: Missing requirement ntheorem.std for t/theorem/ntheorem
t/55_theorem.t ............ ok
t/56_ams.t ................ ok
# Skip: Missing requirement dvipsnam.def for t/graphics/colors
# Skip: Missing requirement dvipsnam.def for t/graphics/xcolors
t/65_graphics.t ........... ok
t/70_parse.t .............. ok
# Skip: Missing requirement siunitx.sty for t/complex/si
t/80_complex.t ............ ok
# Skip: Missing requirement babel.sty for t/babel/csquotes
# Skip: Missing requirement babel.sty for t/babel/french
# Skip: Missing requirement babel.sty for t/babel/german
# Skip: Missing requirement babel.sty for t/babel/greek
# Skip: Missing requirement babel.sty for t/babel/numprints
# Skip: Missing requirement babel.sty for t/babel/page545
t/81_babel.t .............. ok
t/82_moderncv.t ........... ok
# Skip: Missing requirement expl3.sty for t/expl3/tilde_tricks
# Skip: Missing requirement expl3.sty for t/expl3/xparse
t/83_expl3.t .............. ok
t/90_latexmlpost.t ........ ok
t/91_latexmlc_api.t ....... ok
# Skip: Missing requirement dvipsnam.def for t/daemon/profiles/fragment
# Skip: Missing requirement dvipsnam.def for t/daemon/profiles/math
t/92_profiles.t ........... ok
t/931_epub.t .............. ok
# Skip: Missing requirement amsart.cls for t/daemon/formats/jats
# Skip: Missing requirement amsart.cls for t/daemon/formats/tei
t/93_formats.t ............ ok
t/94_runtimes.t ........... ok
t/95_complex_config.t ..... ok
Der Prozess kann nicht auf die Datei zugreifen, da sie von einem anderen Prozess verwendet wird.
t/96_fatal.t .............. ok
t/97_manifest.t ........... skipped: Only checked in continuous integration.
All tests successful.
Files=32, Tests=425, 2061 wallclock secs ( 0.27 usr + 0.05 sys = 0.31 CPU)
Result: PASS
------------------------------
PREREQUISITES
------------------------------
Prerequisite modules loaded:
requires:
Module Need Have
------------------- -------- ---------
Archive::Zip 0 1.68
DB_File 0 1.855
File::Which 0 1.23
Getopt::Long 2.37 2.52
Image::Size 0 3.300
IO::String 0 1.08
JSON::XS 0 4.03
LWP 0 6.49
MIME::Base64 0 3.16
Parse::RecDescent 0 1.967015
perl 5.010001 5.032000
Pod::Parser 0 1.63
Test::More 0 1.302183
Text::Unidecode 0 1.30
Time::HiRes 0 1.9764_02
URI 0 5.05
version 0 0.9928
XML::LibXML 1.61 2.0205
XML::LibXSLT 1.58 1.99
build_requires:
Module Need Have
------------------- -------- ---------
ExtUtils::MakeMaker 0 7.53_01
configure_requires:
Module Need Have
------------------- -------- ---------
version 0.77 0.9928
------------------------------
ENVIRONMENT AND OTHER CONTEXT
------------------------------
Environment variables:
AUTOMATED_TESTING = 1
COMSPEC = C:\WINDOWS.0\system32\cmd.exe
NONINTERACTIVE_TESTING = 1
NUMBER_OF_PROCESSORS = 1
PATH = C:\WINDOWS.0\system32;C:\strawberry\c\bin;C:\strawberry\perl\site\bin;C:\strawberry\perl\bin
PERL5LIB =
PERL5OPT =
PERL5_CPANPLUS_IS_RUNNING = 4024
PERL5_CPAN_IS_RUNNING = 4024
PERL5_CPAN_IS_RUNNING_IN_RECURSION = 3140,4024
PERL_CR_SMOKER_CURRENT = LaTeXML-0.8.5_2
PERL_EXTUTILS_AUTOINSTALL = --defaultdeps
PERL_MM_USE_DEFAULT = 1
PERL_USE_UNSAFE_INC = 1
PROCESSOR_IDENTIFIER = x86 Family 6 Model 14 Stepping 8, GenuineIntel
TEMP = C:\DOKUME~1\smoker\LOKALE~1\Temp
TERM = dumb
Perl special variables (and OS-specific diagnostics, for MSWin32):
$^X = C:\Strawberry\perl\bin\perl.exe
$UID/$EUID = 0 / 0
$GID = 0
$EGID = 0
Win32::GetOSName = WinXP/.Net
Win32::GetOSVersion = Service Pack 3, 5, 1, 2600, 2, 3, 0, 256, 1
Win32::FsType = NTFS
Win32::IsAdminUser = 1
Perl module toolchain versions installed:
Module Have
------------------- --------
CPAN 2.28
CPAN::Meta 2.150010
Cwd 3.78
ExtUtils::CBuilder 0.280235
ExtUtils::Command 7.53_01
ExtUtils::Install 2.18
ExtUtils::MakeMaker 7.53_01
ExtUtils::Manifest 1.72
ExtUtils::ParseXS 3.40
File::Spec 3.78
JSON 4.02
JSON::PP 4.05
Module::Build 0.4231
Module::Signature 0.87
Parse::CPAN::Meta 2.150010
Test::Harness 3.42
Test::More 1.302183
YAML 1.30
YAML::Syck 1.34
version 0.9928
--
Summary of my perl5 (revision 5 version 32 subversion 0) configuration:
Platform:
osname=MSWin32
osvers=10.0.19041.388
archname=MSWin32-x86-multi-thread-64int
uname='Win32 strawberry-perl 5.32.0.1 #1 Sun Aug 2 17:22:48 2020 i386'
config_args='undef'
hint=recommended
useposix=true
d_sigaction=undef
useithreads=define
usemultiplicity=define
use64bitint=define
use64bitall=undef
uselongdouble=undef
usemymalloc=n
default_inc_excludes_dot=define
bincompat5005=undef
Compiler:
cc='gcc'
ccflags =' -DWIN32 -D__USE_MINGW_ANSI_STDIO -DPERL_TEXTMODE_SCRIPTS -DPERL_IMPLICIT_CONTEXT -DPERL_IMPLICIT_SYS -DUSE_PERLIO -fwrapv -fno-strict-aliasing -mms-bitfields'
optimize='-s -O2'
cppflags='-DWIN32'
ccversion=''
gccversion='8.3.0'
gccosandvers=''
intsize=4
longsize=4
ptrsize=4
doublesize=8
byteorder=12345678
doublekind=3
d_longlong=define
longlongsize=8
d_longdbl=define
longdblsize=12
longdblkind=3
ivtype='long long'
ivsize=8
nvtype='double'
nvsize=8
Off_t='long long'
lseeksize=8
alignbytes=8
prototype=define
Linker and Libraries:
ld='g++'
ldflags ='-s -L"C:\STRAWB~1\perl\lib\CORE" -L"C:\STRAWB~1\c\lib"'
libpth=C:\STRAWB~1\c\lib C:\STRAWB~1\c\i686-w64-mingw32\lib C:\STRAWB~1\c\lib\gcc\i686-w64-mingw32\8.3.0
libs= -lmoldname -lkernel32 -luser32 -lgdi32 -lwinspool -lcomdlg32 -ladvapi32 -lshell32 -lole32 -loleaut32 -lnetapi32 -luuid -lws2_32 -lmpr -lwinmm -lversion -lodbc32 -lodbccp32 -lcomctl32
perllibs= -lmoldname -lkernel32 -luser32 -lgdi32 -lwinspool -lcomdlg32 -ladvapi32 -lshell32 -lole32 -loleaut32 -lnetapi32 -luuid -lws2_32 -lmpr -lwinmm -lversion -lodbc32 -lodbccp32 -lcomctl32
libc=
so=dll
useshrplib=true
libperl=libperl532.a
gnulibc_version=''
Dynamic Linking:
dlsrc=dl_win32.xs
dlext=xs.dll
d_dlsymun=undef
ccdlflags=' '
cccdlflags=' '
lddlflags='-mdll -s -L"C:\STRAWB~1\perl\lib\CORE" -L"C:\STRAWB~1\c\lib"'
Characteristics of this binary (from libperl):
Compile-time options:
HAS_TIMES
HAVE_INTERP_INTERN
MULTIPLICITY
PERLIO_LAYERS
PERL_COPY_ON_WRITE
PERL_DONT_CREATE_GVSV
PERL_IMPLICIT_CONTEXT
PERL_IMPLICIT_SYS
PERL_MALLOC_WRAP
PERL_OP_PARENT
PERL_PRESERVE_IVUV
USE_64_BIT_INT
USE_ITHREADS
USE_LARGE_FILES
USE_LOCALE
USE_LOCALE_COLLATE
USE_LOCALE_CTYPE
USE_LOCALE_NUMERIC
USE_LOCALE_TIME
USE_PERLIO
USE_PERL_ATOF
Built under MSWin32
Compiled at Aug 2 2020 17:27:39
%ENV:
PERL5_CPANPLUS_IS_RUNNING="4024"
PERL5_CPAN_IS_RUNNING="4024"
PERL5_CPAN_IS_RUNNING_IN_RECURSION="3140,4024"
PERL_CR_SMOKER_CURRENT="LaTeXML-0.8.5_2"
PERL_EXTUTILS_AUTOINSTALL="--defaultdeps"
PERL_MM_USE_DEFAULT="1"
PERL_USE_UNSAFE_INC="1"
@INC:
C:/Strawberry/perl/site/lib/MSWin32-x86-multi-thread-64int
C:/Strawberry/perl/site/lib
C:/Strawberry/perl/vendor/lib
C:/Strawberry/perl/lib
.