Map-Tube v4.03 Perl 5 v5.32.0 amd64-freebsd
        
            - Status
- Pass
- From
- David Cantrell (DCANTRELL)
- Dist
- 
                Map-Tube v4.03
            
- Platform
- Perl 5 v5.32.0 amd64-freebsd
- Date
- 2025-03-29 00:06:27
- ID
- a8a2376c-0c31-11f0-84ad-f01e03793d38
This distribution has been tested as part of the CPAN Testers
project, supporting the Perl programming language.  See
http://wiki.cpantesters.org/ for more information or email
questions to cpan-testers-discuss@perl.org
--
Dear Mohammad Sajid Anwar,
This is a computer-generated report for Map-Tube-4.03
on perl 5.32.0, created by CPAN-Reporter-1.2018.
Thank you for uploading your work to CPAN.  Congratulations!
All tests were successful.
Sections of this report:
    * Tester comments
    * Program output
    * Prerequisites
    * Environment and other context
------------------------------
TESTER COMMENTS
------------------------------
Additional comments from tester:
this report is from an automated smoke testing program
and was not reviewed by a human for accuracy
------------------------------
PROGRAM OUTPUT
------------------------------
Output from '/usr/bin/make test':
Skip blib/lib/auto/share/dist/Map-Tube/color-names.txt (unchanged)
PERL_DL_NONLAZY=1 "/usr/home/david/cpantesting/perl-5.32.0/bin/perl" "-MExtUtils::Command::MM" "-MTest::Harness" "-e" "undef *Test::Harness::Switches; test_harness(0, 'blib/lib', 'blib/arch')" t/*.t xt/*.t t/test-the-test/*.t
# Testing Map::Tube 4.03, Perl 5.032000, /usr/home/david/cpantesting/perl-5.32.0/bin/perl
t/00-load.t ....................................... ok
t/99-casetest.t ................................... ok
t/common-lines-map.t .............................. ok
t/invalid-role.t .................................. ok
t/line-stations.t ................................. skipped: Map::Tube::London 0.87 required.
t/map.t ........................................... ok
t/metachars.t ..................................... ok
t/not_ok_map.t .................................... ok
t/ok_map.t ........................................ ok
t/ok_map_forked.t ................................. ok
t/ok_map_functions.t .............................. ok
t/ok_map_routes.t ................................. ok
t/preferred-route.t ............................... skipped: Map::Tube::London 1.36 required for this test
t/test-the-test/01-map-loadable.t ................. ok
t/test-the-test/02-line-names-unique.t ............ ok
t/test-the-test/03-line-ids-unique.t .............. ok
t/test-the-test/04-station-names-different.t ...... skipped: This test requires the Text::Levenshtein::XS module to be installed
t/test-the-test/05-station-names-prefix.t ......... ok
t/test-the-test/06-lines-used.t ................... ok
t/test-the-test/07-stations-linked-share-lines.t .. ok
t/test-the-test/08-lines-bidirectional.t .......... ok
t/test-the-test/09-lines-indexed.t ................ ok
t/test-the-test/10-lines-run-through.t ............ ok
t/test-the-test/11-map-connected.t ................ ok
t/test-the-test/12-station_ids.t .................. ok
t/test-the-test/13-stations_linked.t .............. ok
t/test-the-test/14-line-definitions.t ............. ok
t/test-the-test/15-station-self-linked.t .......... ok
t/test-the-test/16-station-multilinked.t .......... ok
t/test-the-test/17-station-multilined.t ........... ok
t/test-the-test/30-ok-map-data.t .................. ok
t/test-the-test/31-ok-map.t ....................... ok
t/test-the-test/32-ok-map-data-json.t ............. ok
t/test-the-test/33-not-ok-map.t ................... ok
t/unidirection-map.t .............................. ok
xt/changes.t ...................................... skipped: Test::CPAN::Changes required for this test
xt/manifest.t ..................................... skipped: Test::CheckManifest 0.9 required
xt/meta-json.t .................................... skipped: Test::CPAN::Meta::JSON required for testing MYMETA.json
xt/meta-yml.t ..................................... skipped: Test::CPAN::Meta required for testing MYMETA.yml
xt/pod.t .......................................... ok
xt/version.t ...................................... skipped: these tests are for authors only!
All tests successful.
Files=41, Tests=167, 32 wallclock secs ( 0.25 usr  0.10 sys + 27.78 cusr  3.51 csys = 31.64 CPU)
Result: PASS
------------------------------
PREREQUISITES
------------------------------
Prerequisite modules loaded:
requires:
    Module                       Need     Have    
    ---------------------------- -------- --------
    Data::Compare                1.25     1.29    
    File::Basename               2.6      2.85    
    File::ShareDir               1.114    1.118   
    JSON                         2.90     4.10    
    Map::Tube::Exception         3.24     3.24    
    Map::Tube::Plugin::Formatter 0.16     0.17    
    Module::Pluggable            5.1      6.2     
    Moo                          2.000000 2.005005
    Moo::Role                    2.000000 2.005005
    MooX::Options                4.023    4.103   
    namespace::autoclean         0.28     0.31    
    overload                     0        1.31    
    perl                         5.006    5.032000
    Role::Tiny                   2.000000 2.002004
    Taint::Util                  0.08     0.08    
    Throwable                    0        1.001   
    Type::Tiny                   1.000005 2.006000
    XML::Parser                  2.23     2.47    
    XML::Twig                    3.48     3.53    
build_requires:
    Module                       Need     Have    
    ---------------------------- -------- --------
    Graph                        0        0.9735  
    Test::Exception              0        0.43    
    Test::Lib                    0        0.003   
    Test::More                   1.001014 1.302207
configure_requires:
    Module                       Need     Have    
    ---------------------------- -------- --------
    ExtUtils::MakeMaker          0        7.70    
    File::ShareDir::Install      0.13     0.14    
------------------------------
ENVIRONMENT AND OTHER CONTEXT
------------------------------
Environment variables:
    AUTOMATED_TESTING = 1
    LANG = en_GB.UTF-8
    NONINTERACTIVE_TESTING = 1
    PATH = /home/david/perl5/perlbrew/bin:/home/david/perl5/perlbrew/perls/perl-5.30.2/bin:/home/david/.cargo/bin:/sbin:/bin:/usr/sbin:/usr/bin:/usr/local/sbin:/usr/local/bin:/home/david/bin
    PERL = 5.32.0
    PERL5LIB = 
    PERL5OPT = 
    PERL5_CPANPLUS_IS_RUNNING = 42164
    PERL5_CPAN_IS_RUNNING = 42164
    PERLBREW_HOME = /home/david/.perlbrew
    PERLBREW_MANPATH = /home/david/perl5/perlbrew/perls/perl-5.30.2/man
    PERLBREW_PATH = /home/david/perl5/perlbrew/bin:/home/david/perl5/perlbrew/perls/perl-5.30.2/bin
    PERLBREW_PERL = perl-5.30.2
    PERLBREW_ROOT = /home/david/perl5/perlbrew
    PERLBREW_SHELLRC_VERSION = 0.89
    PERLBREW_VERSION = 0.89
    PERLVER = 5.32.0
    PERL_INLINE_DIRECTORY = /home/david/.Inline-5.32.0
    PERL_MM_USE_DEFAULT = 1
    PERL_USE_UNSAFE_INC = 0
    SHELL = /usr/local/bin/bash
    TERM = screen
Perl special variables (and OS-specific diagnostics, for MSWin32):
    $^X = /usr/home/david/cpantesting/perl-5.32.0/bin/perl
    $UID/$EUID = 1001 / 1001
    $GID = 1001 1001 0
    $EGID = 1001 1001 0
Perl module toolchain versions installed:
    Module              Have    
    ------------------- --------
    CPAN                2.27    
    CPAN::Meta          2.150010
    Cwd                 3.75    
    ExtUtils::CBuilder  0.280236
    ExtUtils::Command   7.70    
    ExtUtils::Install   2.22    
    ExtUtils::MakeMaker 7.70    
    ExtUtils::Manifest  1.75    
    ExtUtils::ParseXS   3.51    
    File::Spec          3.75    
    JSON                4.10    
    JSON::PP            4.16    
    Module::Build       0.4234  
    Module::Signature   n/a     
    Parse::CPAN::Meta   2.150010
    Test::Harness       3.50    
    Test::More          1.302207
    YAML                1.31    
    YAML::Syck          n/a     
    version             0.9933  
--
Summary of my perl5 (revision 5 version 32 subversion 0) configuration:
   
  Platform:
    osname=freebsd
    osvers=13.0-release-p7
    archname=amd64-freebsd
    uname='freebsd cpantesting-freebsd-utm.local 13.0-release-p7 freebsd 13.0-release-p7 #0: mon jan 31 18:24:03 utc 2022 root@amd64-builder.daemonology.net:usrobjusrsrcamd64.amd64sysgeneric amd64 '
    config_args='-de -Dprefix=/home/david/cpantesting/perl-5.32.0'
    hint=recommended
    useposix=true
    d_sigaction=define
    useithreads=undef
    usemultiplicity=undef
    use64bitint=define
    use64bitall=define
    uselongdouble=undef
    usemymalloc=n
    default_inc_excludes_dot=define
    bincompat5005=undef
  Compiler:
    cc='cc'
    ccflags ='-DHAS_FPSETMASK -DHAS_FLOATINGPOINT_H -fno-strict-aliasing -pipe -fstack-protector-strong -I/usr/local/include'
    optimize='-O2'
    cppflags='-DHAS_FPSETMASK -DHAS_FLOATINGPOINT_H -fno-strict-aliasing -pipe -fstack-protector-strong -I/usr/local/include'
    ccversion=''
    gccversion='FreeBSD Clang 11.0.1 (git@github.com:llvm/llvm-project.git llvmorg-11.0.1-0-g43ff75f2c3fe)'
    gccosandvers=''
    intsize=4
    longsize=8
    ptrsize=8
    doublesize=8
    byteorder=12345678
    doublekind=3
    d_longlong=define
    longlongsize=8
    d_longdbl=define
    longdblsize=16
    longdblkind=3
    ivtype='long'
    ivsize=8
    nvtype='double'
    nvsize=8
    Off_t='off_t'
    lseeksize=8
    alignbytes=8
    prototype=define
  Linker and Libraries:
    ld='cc'
    ldflags ='-Wl,-E  -fstack-protector-strong -L/usr/local/lib'
    libpth=/usr/lib /usr/local/lib /usr/lib/clang/11.0.1/lib /usr/lib
    libs=-lpthread -lgdbm -ldl -lm -lcrypt -lutil -lc
    perllibs=-lpthread -ldl -lm -lcrypt -lutil -lc
    libc=
    so=so
    useshrplib=false
    libperl=libperl.a
    gnulibc_version=''
  Dynamic Linking:
    dlsrc=dl_dlopen.xs
    dlext=so
    d_dlsymun=undef
    ccdlflags=' '
    cccdlflags='-DPIC -fPIC'
    lddlflags='-shared  -L/usr/local/lib -fstack-protector-strong'
Characteristics of this binary (from libperl): 
  Compile-time options:
    HAS_TIMES
    PERLIO_LAYERS
    PERL_COPY_ON_WRITE
    PERL_DONT_CREATE_GVSV
    PERL_MALLOC_WRAP
    PERL_OP_PARENT
    PERL_PRESERVE_IVUV
    USE_64_BIT_ALL
    USE_64_BIT_INT
    USE_LARGE_FILES
    USE_LOCALE
    USE_LOCALE_COLLATE
    USE_LOCALE_CTYPE
    USE_LOCALE_NUMERIC
    USE_LOCALE_TIME
    USE_PERLIO
    USE_PERL_ATOF
  Locally applied patches:
    Devel::PatchPerl 2.08
  Built under freebsd
  Compiled at Feb  3 2022 13:37:09
  %ENV:
    PERL="5.32.0"
    PERL5LIB=""
    PERL5OPT=""
    PERL5_CPANPLUS_IS_RUNNING="42164"
    PERL5_CPAN_IS_RUNNING="42164"
    PERLBREW_HOME="/home/david/.perlbrew"
    PERLBREW_MANPATH="/home/david/perl5/perlbrew/perls/perl-5.30.2/man"
    PERLBREW_PATH="/home/david/perl5/perlbrew/bin:/home/david/perl5/perlbrew/perls/perl-5.30.2/bin"
    PERLBREW_PERL="perl-5.30.2"
    PERLBREW_ROOT="/home/david/perl5/perlbrew"
    PERLBREW_SHELLRC_VERSION="0.89"
    PERLBREW_VERSION="0.89"
    PERLVER="5.32.0"
    PERL_INLINE_DIRECTORY="/home/david/.Inline-5.32.0"
    PERL_MM_USE_DEFAULT="1"
    PERL_USE_UNSAFE_INC="0"
  @INC:
    /home/david/cpantesting/perl-5.32.0/lib/site_perl/5.32.0/amd64-freebsd
    /home/david/cpantesting/perl-5.32.0/lib/site_perl/5.32.0
    /home/david/cpantesting/perl-5.32.0/lib/5.32.0/amd64-freebsd
    /home/david/cpantesting/perl-5.32.0/lib/5.32.0