Report for RSH-Logging-0.4.3

Back
From: metabase:user:30ae4450-2aae-11df-837a-5e0a49663a4f
Subject: PASS RSH-Logging-0.4.3 v5.14.3 
Date: 2013-03-19T17:34:16Z

This distribution has been tested as part of the CPAN Testers
project, supporting the Perl programming language.  See
http://wiki.cpantesters.org/ for more information or email
questions to cpan-testers-discuss@perl.org


--
Dear Matt Luker,

This is a computer-generated report for RSH-Logging-0.4.3
on perl 5.14.3, created by CPAN-Reporter-1.2009.

Thank you for uploading your work to CPAN.  Congratulations!
All tests were successful.

Sections of this report:

    * Tester comments
    * Program output
    * Prerequisites
    * Environment and other context

------------------------------
TESTER COMMENTS
------------------------------

Additional comments from tester:

this report is from an automated smoke testing program
and was not reviewed by a human for accuracy

------------------------------
PROGRAM OUTPUT
------------------------------

Output from 'C:\strawberry5143\c\bin\dmake.exe test':

C:\strawberry5143\perl\bin\perl.exe "-MExtUtils::Command::MM" "-e" "test_harness(0, 'inc', 'blib\lib', 'blib\arch')" t/000.load.t t/010.RSH-Logging.t t/011.RSH-Logging-chunking.t t/999.perlcritic.t t/999.pod-coverage.t t/999.pod.t
# Testing RSH::Logging 0.4.3
t/000.load.t .................. ok
TOTAL TIME 3.1e-005s (32258.065/s)
.----------------------------------------------------------------+-----------.
| Event                                                          | Time      |
+----------------------------------------------------------------+-----------+
| + foo                                                          | 0.000031s |
'----------------------------------------------------------------+-----------'

TOTAL TIME 0.001632s (612.745/s)
.----------------------------------------------------------------+-----------.
| Event                                                          | Time      |
+----------------------------------------------------------------+-----------+
| + foo                                                          | 0.001632s |
|   + sub1a                                                      | 0.001302s |
|     + sub2a                                                    | 0.000094s |
|     + sub2b                                                    | 0.000092s |
'----------------------------------------------------------------+-----------'

TOTAL TIME 0.00143s (699.301/s)
.----------------------------------------------------------------+-----------.
| Event                                                          | Time      |
+----------------------------------------------------------------+-----------+
| + main                                                         | 0.001430s |
|   + main                                                       | 0.001232s |
|     + main                                                     | 0.000805s |
|     + main                                                     | 0.000091s |
'----------------------------------------------------------------+-----------'

DEBUG Logging.pm:407, RSH::Logging::__ANON__: TOTAL TIME 0.000682s (1466.276/s)
.----------------------------------------------------------------+-----------.
| Event                                                          | Time      |
+----------------------------------------------------------------+-----------+
| + foo                                                          | 0.000682s |
|   + sub1a                                                      | 0.000436s |
|     + sub2a                                                    | 0.000088s |
|     + sub2b                                                    | 0.000087s |
'----------------------------------------------------------------+-----------'

TOTAL TIME 0.004596s (217.581/s)
.----------------------------------------------------------------+-----------.
| Event                                                          | Time      |
+----------------------------------------------------------------+-----------+
| + foo                                                          | 0.004596s |
|   + sub1a                                                      | 0.004159s |
|     + sub2a                                                    | 0.000087s |
|     + sub2b                                                    | 0.000089s |
'----------------------------------------------------------------+-----------'

TOTAL TIME 0.001767s (565.931/s)
.----------------------------------------------------------------+-----------.
| Event                                                          | Time      |
+----------------------------------------------------------------+-----------+
| + foo                                                          | 0.001767s |
|   + sub1a (notation 1)                                         | 0.001030s |
|     + sub2a (notation 2)                                       | 0.000090s |
|     + sub2b (this is a very long note, which you shouldn't do- | 0.000659s |
| , but it can't be helped that people don't think things throu- |           |
| gh from time to time.)                                         |           |
'----------------------------------------------------------------+-----------'

TOTAL TIME 0.001308s (764.526/s)
.----------------------------------------------------------------+-----------.
| Event                                                          | Time      |
+----------------------------------------------------------------+-----------+
| + foo                                                          | 0.001308s |
|   + sub1a                                                      | 0.000434s |
|     + sub2a                                                    | 0.000088s |
|     + sub2b                                                    | 0.000088s |
'----------------------------------------------------------------+-----------'

TOTAL TIME 0.00146s (684.932/s)
.----------------------------------------------------------------+-----------.
| Event                                                          | Time      |
+----------------------------------------------------------------+-----------+
| + foo2                                                         | 0.001460s |
|   + sub1a                                                      | 0.001228s |
|     + sub2a                                                    | 0.000087s |
|     + sub2b                                                    | 0.000085s |
'----------------------------------------------------------------+-----------'

TOTAL TIME 0.00215s (465.116/s)
.----------------------------------------------------------------+-----------.
| Event                                                          | Time      |
+----------------------------------------------------------------+-----------+
| + foo                                                          | 0.002150s |
|   + sub1a                                                      | 0.001969s |
|     + sub2a                                                    | 0.000087s |
|     + sub2b                                                    | 0.001619s |
|       + foo2                                                   | 0.001446s |
|         + sub1a                                                | 0.001271s |
|           + sub2a                                              | 0.000822s |
|           + sub2b                                              | 0.000089s |
'----------------------------------------------------------------+-----------'

TOTAL TIME 0.000781s (1280.410/s)
.----------------------------------------------------------------+-----------.
| Event                                                          | Time      |
+----------------------------------------------------------------+-----------+
| + foo                                                          | 0.000781s |
|   + sub1a                                                      | 0.000605s |
|     + sub2a                                                    | 0.000275s |
|     + sub2b                                                    | 0.000107s |
'----------------------------------------------------------------+-----------'

t/010.RSH-Logging.t ........... ok
DEBUG Logging.pm:407, RSH::Logging::__ANON__: TOTAL TIME 0.003086s (324.044/s)
DEBUG Logging.pm:407, RSH::Logging::__ANON__: .----------------------------------------------------------------+-----------.
DEBUG Logging.pm:407, RSH::Logging::__ANON__: | Event                                                          | Time      |
DEBUG Logging.pm:407, RSH::Logging::__ANON__: +----------------------------------------------------------------+-----------+
DEBUG Logging.pm:407, RSH::Logging::__ANON__: | + foo                                                          | 0.003086s |
DEBUG Logging.pm:407, RSH::Logging::__ANON__: |   + sub1a                                                      | 0.002100s |
DEBUG Logging.pm:407, RSH::Logging::__ANON__: |     + sub2a                                                    | 0.000454s |
DEBUG Logging.pm:407, RSH::Logging::__ANON__: |     + sub2b                                                    | 0.000381s |
DEBUG Logging.pm:407, RSH::Logging::__ANON__: '----------------------------------------------------------------+-----------'
DEBUG Logging.pm:407, RSH::Logging::__ANON__: 
TOTAL TIME 0.001657s (603.500/s)
.----------------------------------------------------------------+-----------.
| Event                                                          | Time      |
+----------------------------------------------------------------+-----------+
| + foo                                                          | 0.001657s |
|   + sub1a                                                      | 0.000810s |
|     + sub2a                                                    | 0.000173s |
|     + sub2b                                                    | 0.000152s |
'----------------------------------------------------------------+-----------'

DEBUG Logging.pm:407, RSH::Logging::__ANON__: TOTAL TIME 0.001841s (543.183/s)
.----------------------------------------------------------------+-----------.
| Event                                                          | Time      |
+----------------------------------------------------------------+-----------+
| + foo                                                          | 0.001841s |
|   + sub1a                                                      | 0.001405s |
|     + sub2a                                                    | 0.000102s |
|     + sub2b                                                    | 0.000097s |
|   + sub0                                                       | 0.000042s |
|   + sub1                                                       | 0.000005s |
|   + sub2                                                       | 0.000005s |
|   + sub3                                                       | 0.000005s |
|   + sub4                                                       | 0.000005s |
'----------------------------------------------------------------+-----------'

DEBUG Logging.pm:407, RSH::Logging::__ANON__: TOTAL TIME 0.001676s (596.659/s)
DEBUG Logging.pm:407, RSH::Logging::__ANON__: .----------------------------------------------------------------+-----------.
DEBUG Logging.pm:407, RSH::Logging::__ANON__: | Event                                                          | Time      |
DEBUG Logging.pm:407, RSH::Logging::__ANON__: +----------------------------------------------------------------+-----------+
DEBUG Logging.pm:407, RSH::Logging::__ANON__: | + foo                                                          | 0.001676s |
DEBUG Logging.pm:407, RSH::Logging::__ANON__: |   + sub1a                                                      | 0.001188s |
DEBUG Logging.pm:407, RSH::Logging::__ANON__: |     + sub2a                                                    | 0.000786s |
DEBUG Logging.pm:407, RSH::Logging::__ANON__: |     + sub2b                                                    | 0.000091s |
DEBUG Logging.pm:407, RSH::Logging::__ANON__: |   + sub0                                                       | 0.000006s |
DEBUG Logging.pm:407, RSH::Logging::__ANON__: |   + sub1                                                       | 0.000005s |
DEBUG Logging.pm:407, RSH::Logging::__ANON__: |   + sub2                                                       | 0.000005s |
DEBUG Logging.pm:407, RSH::Logging::__ANON__: |   + sub3                                                       | 0.000005s |
DEBUG Logging.pm:407, RSH::Logging::__ANON__: |   + sub4                                                       | 0.000005s |
DEBUG Logging.pm:407, RSH::Logging::__ANON__: |   + sub5                                                       | 0.000005s |
DEBUG Logging.pm:407, RSH::Logging::__ANON__: |   + sub6                                                       | 0.000005s |
DEBUG Logging.pm:407, RSH::Logging::__ANON__: |   + sub7                                                       | 0.000005s |
DEBUG Logging.pm:407, RSH::Logging::__ANON__: |   + sub8                                                       | 0.000004s |
DEBUG Logging.pm:407, RSH::Logging::__ANON__: |   + sub9                                                       | 0.000004s |
DEBUG Logging.pm:407, RSH::Logging::__ANON__: |   + sub10                                                      | 0.000005s |
DEBUG Logging.pm:407, RSH::Logging::__ANON__: |   + sub11                                                      | 0.000006s |
DEBUG Logging.pm:407, RSH::Logging::__ANON__: |   + sub12                                                      | 0.000005s |
DEBUG Logging.pm:407, RSH::Logging::__ANON__: |   + sub13                                                      | 0.000005s |
DEBUG Logging.pm:407, RSH::Logging::__ANON__: |   + sub14                                                      | 0.000005s |
DEBUG Logging.pm:407, RSH::Logging::__ANON__: |   + sub15                                                      | 0.000005s |
DEBUG Logging.pm:407, RSH::Logging::__ANON__: |   + sub16                                                      | 0.000005s |
DEBUG Logging.pm:407, RSH::Logging::__ANON__: |   + sub17                                                      | 0.000004s |
DEBUG Logging.pm:407, RSH::Logging::__ANON__: |   + sub18                                                      | 0.000005s |
DEBUG Logging.pm:407, RSH::Logging::__ANON__: |   + sub19                                                      | 0.000005s |
DEBUG Logging.pm:407, RSH::Logging::__ANON__: |   + sub20                                                      | 0.000004s |
DEBUG Logging.pm:407, RSH::Logging::__ANON__: |   + sub21                                                      | 0.000004s |
DEBUG Logging.pm:407, RSH::Logging::__ANON__: |   + sub22                                                      | 0.000005s |
DEBUG Logging.pm:407, RSH::Logging::__ANON__: |   + sub23                                                      | 0.000005s |
DEBUG Logging.pm:407, RSH::Logging::__ANON__: |   + sub24                                                      | 0.000005s |
DEBUG Logging.pm:407, RSH::Logging::__ANON__: '----------------------------------------------------------------+-----------'
DEBUG Logging.pm:407, RSH::Logging::__ANON__: 
t/011.RSH-Logging-chunking.t .. ok
t/999.perlcritic.t ............ skipped: Not worrying about perl critic right now.
t/999.pod-coverage.t .......... ok
t/999.pod.t ................... ok
All tests successful.
Files=6, Tests=160,  4 wallclock secs ( 0.03 usr +  0.02 sys =  0.05 CPU)
Result: PASS

------------------------------
PREREQUISITES
------------------------------

Prerequisite modules loaded:

requires:

    Module              Need  Have    
    ------------------- ----- --------
    IO::File            0     1.15    
    Log::Log4perl       0     1.40    
    perl                5.008 5.014003
    Scalar::Util        0     1.25    
    Test::More          0     0.98    
    Text::SimpleTable   0     2.03    
    Time::HiRes         0     1.9725  

build_requires:

    Module              Need  Have    
    ------------------- ----- --------
    ExtUtils::MakeMaker 6.42  6.62    
    Test::More          0     0.98    

configure_requires:

    Module              Need  Have    
    ------------------- ----- --------
    ExtUtils::MakeMaker 6.42  6.62    


------------------------------
ENVIRONMENT AND OTHER CONTEXT
------------------------------

Environment variables:

    AUTOMATED_TESTING = 1
    COMSPEC = C:\WINDOWS\system32\cmd.exe
    NUMBER_OF_PROCESSORS = 1
    PATH = C:\Program Files\Far Manager\;C:\IM\ImageMagick-6.8.2-Q16;C:\WINDOWS\system32;C:\WINDOWS;C:\WINDOWS\System32\Wbem;C:\strawberry5143\c\bin;C:\strawberry5143\perl\site\bin;C:\strawberry5143\perl\bin
    PERL5LIB = 
    PERL5OPT = 
    PERL5_CPANPLUS_IS_RUNNING = 636
    PERL5_CPAN_IS_RUNNING = 636
    PERL5_CPAN_IS_RUNNING_IN_RECURSION = 1204,636
    PERL_CR_SMOKER_CURRENT = RSH-Logging-0.4.3
    PERL_EXTUTILS_AUTOINSTALL = --defaultdeps
    PERL_MM_USE_DEFAULT = 1
    PROCESSOR_IDENTIFIER = x86 Family 16 Model 5 Stepping 3, AuthenticAMD
    TEMP = C:\DOCUME~1\c\LOCALS~1\Temp
    TERM = dumb

Perl special variables (and OS-specific diagnostics, for MSWin32):

    $^X = C:\strawberry5143\perl\bin\perl.exe
    $UID/$EUID = 0 / 0
    $GID = 0
    $EGID = 0
    Win32::GetOSName = WinXP/.Net
    Win32::GetOSVersion = Service Pack 3, 5, 1, 2600, 2, 3, 0, 256, 1
    Win32::FsType = NTFS
    Win32::IsAdminUser = 1

Perl module toolchain versions installed:

    Module              Have    
    ------------------- --------
    CPAN                1.9800  
    CPAN::Meta          2.120921
    Cwd                 3.36    
    ExtUtils::CBuilder  0.280205
    ExtUtils::Command   1.17    
    ExtUtils::Install   1.56    
    ExtUtils::MakeMaker 6.62    
    ExtUtils::Manifest  1.61    
    ExtUtils::ParseXS   3.15    
    File::Spec          3.33    
    JSON                2.53    
    JSON::PP            2.27200 
    Module::Build       0.4003  
    Module::Signature   0.68    
    Parse::CPAN::Meta   1.4404  
    Test::Harness       3.25    
    Test::More          0.98    
    YAML                0.84    
    YAML::Syck          1.22    
    version             0.9901  


--

Summary of my perl5 (revision 5 version 14 subversion 3) configuration:
   
  Platform:
    osname=MSWin32, osvers=4.0, archname=MSWin32-x86-multi-thread
    uname='Win32 strawberry-perl 5.14.3.1 #1 Wed Oct 17 22:51:55 2012 i386'
    config_args='undef'
    hint=recommended, useposix=true, d_sigaction=undef
    useithreads=define, usemultiplicity=define
    useperlio=define, d_sfio=undef, uselargefiles=define, usesocks=undef
    use64bitint=undef, use64bitall=undef, uselongdouble=undef
    usemymalloc=n, bincompat5005=undef
  Compiler:
    cc='gcc', ccflags =' -s -O2 -DWIN32  -DPERL_TEXTMODE_SCRIPTS -DPERL_IMPLICIT_CONTEXT -DPERL_IMPLICIT_SYS -fno-strict-aliasing -mms-bitfields',
    optimize='-s -O2',
    cppflags='-DWIN32'
    ccversion='', gccversion='4.6.3', gccosandvers=''
    intsize=4, longsize=4, ptrsize=4, doublesize=8, byteorder=1234
    d_longlong=undef, longlongsize=8, d_longdbl=define, longdblsize=12
    ivtype='long', ivsize=4, nvtype='double', nvsize=8, Off_t='long long', lseeksize=8
    alignbytes=8, prototype=define
  Linker and Libraries:
    ld='g++', ldflags ='-s -L"C:\strawberry5143\perl\lib\CORE" -L"C:\strawberry5143\c\lib"'
    libpth=C:\strawberry5143\c\lib C:\strawberry5143\c\i686-w64-mingw32\lib
    libs=-lmoldname -lkernel32 -luser32 -lgdi32 -lwinspool -lcomdlg32 -ladvapi32 -lshell32 -lole32 -loleaut32 -lnetapi32 -luuid -lws2_32 -lmpr -lwinmm -lversion -lodbc32 -lodbccp32 -lcomctl32
    perllibs=-lmoldname -lkernel32 -luser32 -lgdi32 -lwinspool -lcomdlg32 -ladvapi32 -lshell32 -lole32 -loleaut32 -lnetapi32 -luuid -lws2_32 -lmpr -lwinmm -lversion -lodbc32 -lodbccp32 -lcomctl32
    libc=, so=dll, useshrplib=true, libperl=libperl514.a
    gnulibc_version=''
  Dynamic Linking:
    dlsrc=dl_win32.xs, dlext=dll, d_dlsymun=undef, ccdlflags=' '
    cccdlflags=' ', lddlflags='-mdll -s -L"C:\strawberry5143\perl\lib\CORE" -L"C:\strawberry5143\c\lib"'


Characteristics of this binary (from libperl): 
  Compile-time options: MULTIPLICITY PERL_DONT_CREATE_GVSV
                        PERL_IMPLICIT_CONTEXT PERL_IMPLICIT_SYS
                        PERL_MALLOC_WRAP PERL_PRESERVE_IVUV PL_OP_SLAB_ALLOC
                        USE_ITHREADS USE_LARGE_FILES USE_PERLIO
                        USE_PERL_ATOF
  Built under MSWin32
  Compiled at Oct 17 2012 23:05:06
  %ENV:
    PERL5_CPANPLUS_IS_RUNNING="636"
    PERL5_CPAN_IS_RUNNING="636"
    PERL5_CPAN_IS_RUNNING_IN_RECURSION="1204,636"
    PERL_CR_SMOKER_CURRENT="RSH-Logging-0.4.3"
    PERL_EXTUTILS_AUTOINSTALL="--defaultdeps"
    PERL_MM_USE_DEFAULT="1"
  @INC:
    C:/strawberry5143/perl/site/lib
    C:/strawberry5143/perl/vendor/lib
    C:/strawberry5143/perl/lib
    .