Dist-Zilla-Plugin-Git v2.043 Perl 5 v5.26.1 x86_64-linux
- Status
- Pass
- From
- NONAME
- Dist
-
Dist-Zilla-Plugin-Git v2.043
- Platform
- Perl 5 v5.26.1 x86_64-linux
- Date
- 2017-12-10 23:27:15
- ID
- a81e467a-de01-11e7-a856-1e8734c87a14
This distribution has been tested as part of the CPAN Testers
project, supporting the Perl programming language. See
http://wiki.cpantesters.org/ for more information or email
questions to cpan-testers-discuss@perl.org
--
Dear ETHER,
This is a computer-generated report for Dist-Zilla-Plugin-Git-2.043
on perl 5.26.1, created by App::cpanminus::reporter 0.17 (1.7027).
Thank you for uploading your work to CPAN. Congratulations!
All tests were successful.
Sections of this report:
* Tester comments
* Program output
* Prerequisites
* Environment and other context
------------------------------
TESTER COMMENTS
------------------------------
Additional comments from tester:
none provided
------------------------------
PROGRAM OUTPUT
------------------------------
Output from '':
Building and testing Dist-Zilla-Plugin-Git-2.043
cp lib/Dist/Zilla/Plugin/Git/Init.pm blib/lib/Dist/Zilla/Plugin/Git/Init.pm
cp lib/Dist/Zilla/Role/Git/StringFormatter.pm blib/lib/Dist/Zilla/Role/Git/StringFormatter.pm
cp lib/Dist/Zilla/Role/Git/Repo.pm blib/lib/Dist/Zilla/Role/Git/Repo.pm
cp lib/Dist/Zilla/PluginBundle/Git.pm blib/lib/Dist/Zilla/PluginBundle/Git.pm
cp lib/Dist/Zilla/Plugin/Git/Tag.pm blib/lib/Dist/Zilla/Plugin/Git/Tag.pm
cp lib/Dist/Zilla/Plugin/Git/CommitBuild.pm blib/lib/Dist/Zilla/Plugin/Git/CommitBuild.pm
cp lib/Dist/Zilla/Plugin/Git/NextVersion.pm blib/lib/Dist/Zilla/Plugin/Git/NextVersion.pm
cp lib/Dist/Zilla/Role/Git/DirtyFiles.pm blib/lib/Dist/Zilla/Role/Git/DirtyFiles.pm
cp lib/Dist/Zilla/Plugin/Git/Check.pm blib/lib/Dist/Zilla/Plugin/Git/Check.pm
cp lib/Dist/Zilla/Plugin/Git/Push.pm blib/lib/Dist/Zilla/Plugin/Git/Push.pm
cp lib/Dist/Zilla/Plugin/Git/Commit.pm blib/lib/Dist/Zilla/Plugin/Git/Commit.pm
cp lib/Dist/Zilla/Plugin/Git.pm blib/lib/Dist/Zilla/Plugin/Git.pm
cp lib/Dist/Zilla/Plugin/Git/GatherDir.pm blib/lib/Dist/Zilla/Plugin/Git/GatherDir.pm
Manifying 13 pod documents
"/home/rr/perl5/perlbrew/perls/perl-5.26.1/bin/perl" "-Iblib/arch" "-Iblib/lib" Makefile_git.PL Makefile_git
PERL_DL_NONLAZY=1 "/home/rr/perl5/perlbrew/perls/perl-5.26.1/bin/perl" "-MExtUtils::Command::MM" "-MTest::Harness" "-e" "undef *Test::Harness::Switches; test_harness(0, 'blib/lib', 'blib/arch')" t/*.t
#
# Versions for all modules listed in MYMETA.json (including optional ones):
#
# === Configure Requires ===
#
# Module Want Have
# ------------------- ---- ------
# ExtUtils::MakeMaker any 7.24
# Text::ParseWords any 3.30
# version any 0.9917
#
# === Build Requires ===
#
# Module Want Have
# ------------------- ---- ----
# ExtUtils::MakeMaker any 7.24
#
# === Test Requires ===
#
# Module Want Have
# -------------------------------- ----- --------
# CPAN::Meta::Check 0.011 0.014
# CPAN::Meta::Requirements any 2.140
# Devel::SimpleTrace any 0.08
# Dist::Zilla::File::InMemory any 6.010
# Dist::Zilla::Plugin::Config::Git any 0.92
# Dist::Zilla::Role::Releaser any 6.010
# Dist::Zilla::Tester any 6.010
# Encode any 2.88
# Exporter any 5.72
# ExtUtils::MakeMaker any 7.24
# File::Copy any 2.32
# File::Copy::Recursive any 0.38
# File::Path 2.07 2.12_01
# File::Spec any 3.67
# File::Which any 1.22
# File::pushd any 1.014
# Log::Dispatchouli any 2.015
# Test::DZil any 6.010
# Test::Fatal any 0.014
# Test::More 0.88 1.302120
# lib any 0.64
# utf8 any 1.19
#
# === Test Recommends ===
#
# Module Want Have
# ---------- -------- --------
# CPAN::Meta 2.120900 2.150010
#
# === Runtime Requires ===
#
# Module Want Have
# ---------------------------------- -------- --------
# Cwd any 3.67
# DateTime any 1.44
# Dist::Zilla 4 6.010
# Dist::Zilla::Plugin::GatherDir 4.200016 6.010
# Dist::Zilla::Role::AfterBuild any 6.010
# Dist::Zilla::Role::AfterMint any 6.010
# Dist::Zilla::Role::AfterRelease any 6.010
# Dist::Zilla::Role::BeforeRelease any 6.010
# Dist::Zilla::Role::FilePruner any 6.010
# Dist::Zilla::Role::GitConfig any 0.92
# Dist::Zilla::Role::PluginBundle any 6.010
# Dist::Zilla::Role::VersionProvider any 6.010
# File::Spec::Functions any 3.67
# File::Temp any 0.2304
# File::chdir any 0.1010
# Git::Wrapper 0.021 0.047
# IPC::Open3 any 1.20
# IPC::System::Simple any 1.25
# List::Util 1.45 1.46_02
# Module::Runtime any 0.016
# Moose any 2.2009
# Moose::Role any 2.2009
# Moose::Util::TypeConstraints any 2.2009
# MooseX::Has::Sugar any 1.000006
# MooseX::Types::Moose any 0.50
# MooseX::Types::Path::Tiny 0.010 0.012
# Path::Tiny 0.048 0.104
# String::Formatter any 0.102084
# Try::Tiny any 0.28
# Version::Next any 1.000
# constant any 1.33
# namespace::autoclean 0.09 0.28
# strict any 1.11
# version 0.80 0.9917
# warnings any 1.37
#
# === Other Modules ===
#
# Module Have
# ------------- ----------
# JSON::PP 2.27400_02
# Pod::Coverage missing
# Sub::Name 0.21
# YAML missing
# autodie 2.29
#
t/00-report-prereqs.t ........... ok
# git version 2.7.4
t/000-report-git-version.t ...... ok
t/check.t ....................... ok
t/commit-build-custom.t ......... ok
t/commit-build-src-as-parent.t .. ok
t/commit-build.t ................ ok
t/commit-dirtydir.t ............. ok
t/commit-message.t .............. ok
t/commit-utf8.t ................. ok
t/commit-ws.t ................... ok
t/commit.t ...................... ok
t/gatherdir-multi.t ............. ok
t/gatherdir.t ................... ok
t/push-gitconfig.t .............. ok
t/push-multi.t .................. ok
t/push.t ........................ ok
t/repo-dir.t .................... ok
t/tag-signed.t .................. ok
t/tag.t ......................... ok
t/version-by-branch.t ........... ok
t/version-default.t ............. ok
t/version-extraction.t .......... ok
t/version-regexp.t .............. ok
t/zzz-check-breaks.t ............ ok
All tests successful.
Files=24, Tests=207, 22 wallclock secs ( 0.09 usr 0.02 sys + 17.35 cusr 1.90 csys = 19.36 CPU)
Result: PASS
------------------------------
PREREQUISITES
------------------------------
Prerequisite modules loaded:
No requirements found
------------------------------
ENVIRONMENT AND OTHER CONTEXT
------------------------------
Environment variables:
LANG = en_GB.UTF-8
LANGUAGE = en_GB:en
PATH = /home/rr/perl5/perlbrew/bin:/home/rr/perl5/perlbrew/perls/perl-5.26.1/bin:/home/rr/bin:/usr/local/sbin:/usr/local/bin:/usr/sbin:/usr/bin:/sbin:/bin:/usr/games:/usr/local/games:/snap/bin
PERLBREW_BASHRC_VERSION = 0.71
PERLBREW_HOME = /home/rr/.perlbrew
PERLBREW_MANPATH = /home/rr/perl5/perlbrew/perls/perl-5.26.1/man
PERLBREW_PATH = /home/rr/perl5/perlbrew/bin:/home/rr/perl5/perlbrew/perls/perl-5.26.1/bin
PERLBREW_PERL = perl-5.26.1
PERLBREW_ROOT = /home/rr/perl5/perlbrew
PERLBREW_VERSION = 0.74
SHELL = /bin/bash
TERM = xterm
Perl special variables (and OS-specific diagnostics, for MSWin32):
EGID = 1000 4 24 27 30 46 105 108 124 1000
EUID = 1000
EXECUTABLE_NAME = /home/rr/perl5/perlbrew/perls/perl-5.26.1/bin/perl
GID = 1000 4 24 27 30 46 105 108 124 1000
UID = 1000
Perl module toolchain versions installed:
Module Have
------------------- ----------
CPAN 2.18
CPAN::Meta 2.150010
Cwd 3.67
ExtUtils::CBuilder 0.280225
ExtUtils::Command 7.24
ExtUtils::Install 2.04
ExtUtils::MakeMaker 7.24
ExtUtils::Manifest 1.70
ExtUtils::ParseXS 3.34
File::Spec 3.67
JSON 2.97000
JSON::PP 2.27400_02
Module::Build 0.4224
Module::Signature n/a
Parse::CPAN::Meta 2.150010
Test::Harness 3.38
Test::More 1.302120
YAML 1.24
YAML::Syck n/a
version 0.9917
--
Summary of my perl5 (revision 5 version 26 subversion 1) configuration:
Platform:
osname=linux
osvers=4.4.0-97-generic
archname=x86_64-linux
uname='linux lightheart 4.4.0-97-generic #120-ubuntu smp tue sep 19 17:28:18 utc 2017 x86_64 x86_64 x86_64 gnulinux '
config_args='-de -Dprefix=/home/rr/perl5/perlbrew/perls/perl-5.26.1 -Aeval:scriptdir=/home/rr/perl5/perlbrew/perls/perl-5.26.1/bin'
hint=recommended
useposix=true
d_sigaction=define
useithreads=undef
usemultiplicity=undef
use64bitint=define
use64bitall=define
uselongdouble=undef
usemymalloc=n
default_inc_excludes_dot=define
bincompat5005=undef
Compiler:
cc='cc'
ccflags ='-fwrapv -fno-strict-aliasing -pipe -fstack-protector-strong -I/usr/local/include -D_LARGEFILE_SOURCE -D_FILE_OFFSET_BITS=64'
optimize='-O2'
cppflags='-fwrapv -fno-strict-aliasing -pipe -fstack-protector-strong -I/usr/local/include'
ccversion=''
gccversion='5.4.0 20160609'
gccosandvers=''
intsize=4
longsize=8
ptrsize=8
doublesize=8
byteorder=12345678
doublekind=3
d_longlong=define
longlongsize=8
d_longdbl=define
longdblsize=16
longdblkind=3
ivtype='long'
ivsize=8
nvtype='double'
nvsize=8
Off_t='off_t'
lseeksize=8
alignbytes=8
prototype=define
Linker and Libraries:
ld='cc'
ldflags =' -fstack-protector-strong -L/usr/local/lib'
libpth=/usr/local/lib /usr/lib/gcc/x86_64-linux-gnu/5/include-fixed /usr/include/x86_64-linux-gnu /usr/lib /lib/x86_64-linux-gnu /lib/../lib /usr/lib/x86_64-linux-gnu /usr/lib/../lib /lib
libs=-lpthread -lnsl -ldl -lm -lcrypt -lutil -lc
perllibs=-lpthread -lnsl -ldl -lm -lcrypt -lutil -lc
libc=libc-2.23.so
so=so
useshrplib=false
libperl=libperl.a
gnulibc_version='2.23'
Dynamic Linking:
dlsrc=dl_dlopen.xs
dlext=so
d_dlsymun=undef
ccdlflags='-Wl,-E'
cccdlflags='-fPIC'
lddlflags='-shared -O2 -L/usr/local/lib -fstack-protector-strong'
Characteristics of this binary (from libperl):
Compile-time options:
HAS_TIMES
PERLIO_LAYERS
PERL_COPY_ON_WRITE
PERL_DONT_CREATE_GVSV
PERL_MALLOC_WRAP
PERL_OP_PARENT
PERL_PRESERVE_IVUV
USE_64_BIT_ALL
USE_64_BIT_INT
USE_LARGE_FILES
USE_LOCALE
USE_LOCALE_COLLATE
USE_LOCALE_CTYPE
USE_LOCALE_NUMERIC
USE_LOCALE_TIME
USE_PERLIO
USE_PERL_ATOF
Locally applied patches:
Devel::PatchPerl 1.40
Built under linux
Compiled at Oct 31 2017 15:57:15
%ENV:
PERLBREW_BASHRC_VERSION="0.71"
PERLBREW_HOME="/home/rr/.perlbrew"
PERLBREW_MANPATH="/home/rr/perl5/perlbrew/perls/perl-5.26.1/man"
PERLBREW_PATH="/home/rr/perl5/perlbrew/bin:/home/rr/perl5/perlbrew/perls/perl-5.26.1/bin"
PERLBREW_PERL="perl-5.26.1"
PERLBREW_ROOT="/home/rr/perl5/perlbrew"
PERLBREW_VERSION="0.74"
@INC:
/home/rr/perl5/perlbrew/perls/perl-5.26.1/lib/site_perl/5.26.1/x86_64-linux
/home/rr/perl5/perlbrew/perls/perl-5.26.1/lib/site_perl/5.26.1
/home/rr/perl5/perlbrew/perls/perl-5.26.1/lib/5.26.1/x86_64-linux
/home/rr/perl5/perlbrew/perls/perl-5.26.1/lib/5.26.1