Report for Spreadsheet-WriteExcel-2.40

Back
From: metabase:user:cd035d39-6d5b-1014-ab3a-39c0c09612a1
Subject: PASS Spreadsheet-WriteExcel-2.40 v5.20.2 GNU/Linux
Date: 2015-03-09T15:40:47Z

This distribution has been tested as part of the CPAN Testers
project, supporting the Perl programming language.  See
http://wiki.cpantesters.org/ for more information or email
questions to cpan-testers-discuss@perl.org


--
Dear John McNamara,

This is a computer-generated report for Spreadsheet-WriteExcel-2.40
on perl 5.20.2, created by CPAN-Reporter-1.2011.

Thank you for uploading your work to CPAN.  Congratulations!
All tests were successful.

Sections of this report:

    * Tester comments
    * Program output
    * Prerequisites
    * Environment and other context

------------------------------
TESTER COMMENTS
------------------------------

Additional comments from tester:

this report is from an automated smoke testing program
and was not reviewed by a human for accuracy

------------------------------
PROGRAM OUTPUT
------------------------------

Output from '/usr/bin/make test':

PERL_DL_NONLAZY=1 "/srv/smoker/perl5/perlbrew/perls/perl-5.20.2/bin/perl" "-MExtUtils::Command::MM" "-MTest::Harness" "-e" "undef *Test::Harness::Switches; test_harness(0, 'blib/lib', 'blib/arch')" t/*.t
t/00_IEEE_double.t ............ ok
t/01_add_worksheet.t .......... ok
t/02_merge_formats.t .......... ok
t/03_cleanup.t ................ ok
t/04_dimensions.t ............. ok
t/05_rows.t ................... ok
t/06_extsst.t ................. ok
t/07_set_propertes.t .......... ok
t/11_date_time.t .............. ok
t/12_date_only.t .............. ok
t/13_date_seconds.t ........... ok
t/21_escher.t ................. ok
t/22_mso_drawing_group.t ...... ok
t/23_note.t ................... ok
t/24_txo.t .................... ok
t/25_position_object.t ........ ok
t/26_autofilter.t ............. ok
t/27_autofilter.t ............. ok
t/28_autofilter.t ............. ok
t/29_process_jpg.t ............ ok
t/30_validation_dval.t ........ ok
t/31_validation_dv_strings.t .. ok
t/32_validation_dv_formula.t .. ok
t/33_validation_dv.t .......... ok
t/40_property_types.t ......... ok
t/41_properties.t ............. ok
t/42_set_properties.t ......... ok
t/50_name_stored.t ............ ok
t/51_name_print_area.t ........ ok
t/52_name_print_titles.t ...... ok
t/53_name_autofilter.t ........ ok
t/60_chart_generic.t .......... ok
t/61_chart_subclasses.t ....... ok
t/62_chart_formats.t .......... ok
t/63_chart_area_formats.t ..... ok
All tests successful.
Files=35, Tests=1254, 286 wallclock secs ( 4.32 usr  0.39 sys + 133.70 cusr  4.70 csys = 143.11 CPU)
Result: PASS

------------------------------
PREREQUISITES
------------------------------

Prerequisite modules loaded:

requires:

    Module              Need Have    
    ------------------- ---- --------
    File::Temp          0    0.2304  
    OLE::Storage_Lite   0.19 0.19    
    Parse::RecDescent   0    1.967009

build_requires:

    Module              Need Have    
    ------------------- ---- --------
    ExtUtils::MakeMaker 0    7.04    

configure_requires:

    Module              Need Have    
    ------------------- ---- --------
    ExtUtils::MakeMaker 0    7.04    


------------------------------
ENVIRONMENT AND OTHER CONTEXT
------------------------------

Environment variables:

    AUTOMATED_TESTING = 1
    LC_CTYPE = de_AT.utf8
    LD_LIBRARY_PATH = /usr/lib/libeatmydata
    NONINTERACTIVE_TESTING = 1
    PATH = /srv/smoker/bin:/usr/lib/ccache:/srv/smoker/perl5/perlbrew/bin:/srv/smoker/perl5/perlbrew/perls/perl-5.20.2/bin:/usr/local/bin:/usr/bin:/bin:/usr/local/games:/usr/games
    PERL5LIB = /srv/smoker/cpan/build/indirect-0.33-mLjHOg/blib/arch:/srv/smoker/cpan/build/indirect-0.33-mLjHOg/blib/lib:/srv/smoker/cpan/build/Spreadsheet-ParseExcel-0.65-XE31Y3/blib/arch:/srv/smoker/cpan/build/Spreadsheet-ParseExcel-0.65-XE31Y3/blib/lib:/srv/smoker/cpan/build/Crypt-RC4-2.02-k3uLyp/blib/arch:/srv/smoker/cpan/build/Crypt-RC4-2.02-k3uLyp/blib/lib:/srv/smoker/cpan/build/Digest-Perl-MD5-1.9-OgeaVR/blib/arch:/srv/smoker/cpan/build/Digest-Perl-MD5-1.9-OgeaVR/blib/lib:/srv/smoker/cpan/build/OLE-Storage_Lite-0.19-xOzO_q/blib/arch:/srv/smoker/cpan/build/OLE-Storage_Lite-0.19-xOzO_q/blib/lib:/srv/smoker/cpan/build/Smart-Comments-1.000005-4cz33a/blib/arch:/srv/smoker/cpan/build/Smart-Comments-1.000005-4cz33a/blib/lib
    PERL5OPT = 
    PERL5_CPANPLUS_IS_RUNNING = 2641
    PERL5_CPAN_IS_RUNNING = 2641
    PERL5_CPAN_IS_RUNNING_IN_RECURSION = 29170,2641
    PERLBREW_BASHRC_VERSION = 0.73
    PERLBREW_HOME = /srv/smoker/.perlbrew
    PERLBREW_MANPATH = /srv/smoker/perl5/perlbrew/perls/perl-5.20.2/man
    PERLBREW_PATH = /srv/smoker/perl5/perlbrew/bin:/srv/smoker/perl5/perlbrew/perls/perl-5.20.2/bin
    PERLBREW_PERL = perl-5.20.2
    PERLBREW_ROOT = /srv/smoker/perl5/perlbrew
    PERLBREW_VERSION = 0.73
    PERL_CR_SMOKER_CURRENT = VSGDR-UnitTest-TestSet-1.31
    PERL_EXTUTILS_AUTOINSTALL = --defaultdeps
    PERL_MM_USE_DEFAULT = 1
    SHELL = /bin/bash
    TERM = screen-256color
    TMPDIR = /srv/smoker/tmp

Perl special variables (and OS-specific diagnostics, for MSWin32):

    $^X = /srv/smoker/perl5/perlbrew/perls/perl-5.20.2/bin/perl
    $UID/$EUID = 1111 / 1111
    $GID = 65534 65534
    $EGID = 65534 65534

Perl module toolchain versions installed:

    Module              Have    
    ------------------- --------
    CPAN                2.05    
    CPAN::Meta          2.143240
    Cwd                 3.48_01 
    ExtUtils::CBuilder  0.280220
    ExtUtils::Command   1.20    
    ExtUtils::Install   2.04    
    ExtUtils::MakeMaker 7.04    
    ExtUtils::Manifest  1.70    
    ExtUtils::ParseXS   3.24    
    File::Spec          3.48_01 
    JSON                2.90    
    JSON::PP            2.27300 
    Module::Build       0.4211  
    Module::Signature   n/a     
    Parse::CPAN::Meta   1.4414  
    Test::Harness       3.35    
    Test::More          1.001014
    YAML                1.14    
    YAML::Syck          n/a     
    version             0.9912  


--

Summary of my perl5 (revision 5 version 20 subversion 2) configuration:
   
  Platform:
    osname=linux, osvers=3.12.18+, archname=armv6l-linux
    uname='linux smoker 3.12.18+ #13 preempt sat may 3 02:09:01 cest 2014 armv6l gnulinux '
    config_args='-de -Dprefix=/srv/smoker/perl5/perlbrew/perls/perl-5.20.2 -Aeval:scriptdir=/srv/smoker/perl5/perlbrew/perls/perl-5.20.2/bin'
    hint=recommended, useposix=true, d_sigaction=define
    useithreads=undef, usemultiplicity=undef
    use64bitint=undef, use64bitall=undef, uselongdouble=undef
    usemymalloc=n, bincompat5005=undef
  Compiler:
    cc='cc', ccflags ='-fwrapv -fno-strict-aliasing -pipe -fstack-protector -I/usr/local/include -D_LARGEFILE_SOURCE -D_FILE_OFFSET_BITS=64',
    optimize='-O2',
    cppflags='-fwrapv -fno-strict-aliasing -pipe -fstack-protector -I/usr/local/include'
    ccversion='', gccversion='4.9.1', gccosandvers=''
    intsize=4, longsize=4, ptrsize=4, doublesize=8, byteorder=1234
    d_longlong=define, longlongsize=8, d_longdbl=define, longdblsize=8
    ivtype='long', ivsize=4, nvtype='double', nvsize=8, Off_t='off_t', lseeksize=8
    alignbytes=8, prototype=define
  Linker and Libraries:
    ld='cc', ldflags =' -fstack-protector -L/usr/local/lib'
    libpth=/usr/local/lib /usr/lib/gcc/arm-linux-gnueabihf/4.9/include-fixed /usr/include/arm-linux-gnueabihf /usr/lib /lib/arm-linux-gnueabihf /lib /usr/lib/arm-linux-gnueabihf
    libs=-lnsl -ldl -lm -lcrypt -lutil -lc
    perllibs=-lnsl -ldl -lm -lcrypt -lutil -lc
    libc=, so=so, useshrplib=false, libperl=libperl.a
    gnulibc_version='2.19'
  Dynamic Linking:
    dlsrc=dl_dlopen.xs, dlext=so, d_dlsymun=undef, ccdlflags='-Wl,-E'
    cccdlflags='-fPIC', lddlflags='-shared -O2 -L/usr/local/lib -fstack-protector'


Characteristics of this binary (from libperl): 
  Compile-time options: HAS_TIMES PERLIO_LAYERS PERL_DONT_CREATE_GVSV
                        PERL_HASH_FUNC_ONE_AT_A_TIME_HARD PERL_MALLOC_WRAP
                        PERL_NEW_COPY_ON_WRITE PERL_PRESERVE_IVUV
                        USE_LARGE_FILES USE_LOCALE USE_LOCALE_COLLATE
                        USE_LOCALE_CTYPE USE_LOCALE_NUMERIC USE_PERLIO
                        USE_PERL_ATOF
  Built under linux
  Compiled at Feb 15 2015 03:42:32
  %ENV:
    PERL5LIB="/srv/smoker/cpan/build/indirect-0.33-mLjHOg/blib/arch:/srv/smoker/cpan/build/indirect-0.33-mLjHOg/blib/lib:/srv/smoker/cpan/build/Spreadsheet-ParseExcel-0.65-XE31Y3/blib/arch:/srv/smoker/cpan/build/Spreadsheet-ParseExcel-0.65-XE31Y3/blib/lib:/srv/smoker/cpan/build/Crypt-RC4-2.02-k3uLyp/blib/arch:/srv/smoker/cpan/build/Crypt-RC4-2.02-k3uLyp/blib/lib:/srv/smoker/cpan/build/Digest-Perl-MD5-1.9-OgeaVR/blib/arch:/srv/smoker/cpan/build/Digest-Perl-MD5-1.9-OgeaVR/blib/lib:/srv/smoker/cpan/build/OLE-Storage_Lite-0.19-xOzO_q/blib/arch:/srv/smoker/cpan/build/OLE-Storage_Lite-0.19-xOzO_q/blib/lib:/srv/smoker/cpan/build/Smart-Comments-1.000005-4cz33a/blib/arch:/srv/smoker/cpan/build/Smart-Comments-1.000005-4cz33a/blib/lib"
    PERL5OPT=""
    PERL5_CPANPLUS_IS_RUNNING="2641"
    PERL5_CPAN_IS_RUNNING="2641"
    PERL5_CPAN_IS_RUNNING_IN_RECURSION="29170,2641"
    PERLBREW_BASHRC_VERSION="0.73"
    PERLBREW_HOME="/srv/smoker/.perlbrew"
    PERLBREW_MANPATH="/srv/smoker/perl5/perlbrew/perls/perl-5.20.2/man"
    PERLBREW_PATH="/srv/smoker/perl5/perlbrew/bin:/srv/smoker/perl5/perlbrew/perls/perl-5.20.2/bin"
    PERLBREW_PERL="perl-5.20.2"
    PERLBREW_ROOT="/srv/smoker/perl5/perlbrew"
    PERLBREW_VERSION="0.73"
    PERL_CR_SMOKER_CURRENT="VSGDR-UnitTest-TestSet-1.31"
    PERL_EXTUTILS_AUTOINSTALL="--defaultdeps"
    PERL_MM_USE_DEFAULT="1"
  @INC:
    /srv/smoker/cpan/build/indirect-0.33-mLjHOg/blib/arch
    /srv/smoker/cpan/build/indirect-0.33-mLjHOg/blib/lib
    /srv/smoker/cpan/build/Spreadsheet-ParseExcel-0.65-XE31Y3/blib/arch
    /srv/smoker/cpan/build/Spreadsheet-ParseExcel-0.65-XE31Y3/blib/lib
    /srv/smoker/cpan/build/Crypt-RC4-2.02-k3uLyp/blib/arch
    /srv/smoker/cpan/build/Crypt-RC4-2.02-k3uLyp/blib/lib
    /srv/smoker/cpan/build/Digest-Perl-MD5-1.9-OgeaVR/blib/arch
    /srv/smoker/cpan/build/Digest-Perl-MD5-1.9-OgeaVR/blib/lib
    /srv/smoker/cpan/build/OLE-Storage_Lite-0.19-xOzO_q/blib/arch
    /srv/smoker/cpan/build/OLE-Storage_Lite-0.19-xOzO_q/blib/lib
    /srv/smoker/cpan/build/Smart-Comments-1.000005-4cz33a/blib/arch
    /srv/smoker/cpan/build/Smart-Comments-1.000005-4cz33a/blib/lib
    /srv/smoker/perl5/perlbrew/perls/perl-5.20.2/lib/site_perl/5.20.2/armv6l-linux
    /srv/smoker/perl5/perlbrew/perls/perl-5.20.2/lib/site_perl/5.20.2
    /srv/smoker/perl5/perlbrew/perls/perl-5.20.2/lib/5.20.2/armv6l-linux
    /srv/smoker/perl5/perlbrew/perls/perl-5.20.2/lib/5.20.2
    .