Math-Random-ISAAC v1.004 Perl 5 v5.29.9 x86_64-linux

Status
Pass
From
Graham Ollis
Dist
Math-Random-ISAAC v1.004
Platform
Perl 5 v5.29.9 x86_64-linux
Date
2019-05-15 03:29:32
ID
a773733a-76c1-11e9-bea7-c0809947476f
This distribution has been tested as part of the CPAN Testers
project, supporting the Perl programming language.  See
http://wiki.cpantesters.org/ for more information or email
questions to cpan-testers-discuss@perl.org


--
Dear Jonathan Yu,

This is a computer-generated report for Math-Random-ISAAC-1.004
on perl 5.29.9, created by CPAN-Reporter-1.2018.

Thank you for uploading your work to CPAN.  Congratulations!
All tests were successful.

Sections of this report:

    * Tester comments
    * Program output
    * Prerequisites
    * Environment and other context

------------------------------
TESTER COMMENTS
------------------------------

Additional comments from tester:

none provided

------------------------------
PROGRAM OUTPUT
------------------------------

Output from '/usr/bin/make test':

PERL_DL_NONLAZY=1 "/home/ollisg/opt/perl/5.29.9/bin/perl5.29.9" "-MExtUtils::Command::MM" "-MTest::Harness" "-e" "undef *Test::Harness::Switches; test_harness(0, 'blib/lib', 'blib/arch')" t/*.t
t/01compile.t .............. ok
t/02sequence.t ............. ok
t/03memory.t ............... ok
t/04uniform.t .............. skipped: Author tests not required for installation
t/05fallback.t ............. skipped: Test::Without::Module and Math::Random::ISAAC::XS required to test fallback ability
t/06exceptions.t ........... ok
t/release-dist-manifest.t .. skipped: these tests are for release candidate testing
t/release-kwalitee.t ....... skipped: these tests are for release candidate testing
t/release-pod-coverage.t ... skipped: these tests are for release candidate testing
t/release-pod-syntax.t ..... skipped: these tests are for release candidate testing
t/release-portability.t .... skipped: these tests are for release candidate testing
All tests successful.
Files=11, Tests=609,  1 wallclock secs ( 0.10 usr  0.02 sys +  0.89 cusr  0.09 csys =  1.10 CPU)
Result: PASS

------------------------------
PREREQUISITES
------------------------------

Prerequisite modules loaded:

build_requires:

    Module                  Need  Have    
    ----------------------- ----- --------
    Test::More              0.62  1.302164
    Test::NoWarnings        0.084 1.04    

configure_requires:

    Module                  Need  Have    
    ----------------------- ----- --------
    ExtUtils::MakeMaker     6.31  7.34    

opt_requires:

    Module                  Need  Have    
    ----------------------- ----- --------
  ! Math::Random::ISAAC::XS 0     n/a     


------------------------------
ENVIRONMENT AND OTHER CONTEXT
------------------------------

Environment variables:

    LANG = en_US.utf8
    LC_COLLATE = C
    NEWRELIC_AGENT_FFI_TEST = b22e06031329e5fcc373dc893892d86b2ddb5de5
    PATH = /home/ollisg/.cargo/bin:/home/ollisg/opt/perl/5.29.9/bin:/home/ollisg/opt/sbt/bin:/home/ollisg/opt/scala/2.11.1/bin:/home/ollisg/bin:/usr/local/bin:/usr/bin:/bin:/usr/games
    PERL5LIB = 
    PERL5OPT = 
    PERL5_CPANPLUS_IS_RUNNING = 19483
    PERL5_CPAN_IS_RUNNING = 19483
    PERL_AE_WS_C_TEST_PROXY_ON = 1
    PERL_AE_WS_C_TEST_PROXY_ON = 1
    PERL_AE_WS_C_TEST_PROXY_URL = http://127.0.0.1:3128
    PERL_AE_WS_C_TEST_PROXY_URL = http://127.0.0.1:3128
    PERL_CPANM_OPT = --mirror http://mirror.sydney.wdlabs.com/cpan/ --mirror-only --no-man-pages --auto-cleanup 1
    PERL_PKG_CONFIG_SCRIPTS = ppkg-config
    PERL_USE_UNSAFE_INC = 1
    SHELL = /bin/tcsh
    TERM = xterm-256color

Perl special variables (and OS-specific diagnostics, for MSWin32):

    $^X = /home/ollisg/opt/perl/5.29.9/bin/perl5.29.9
    $UID/$EUID = 1000 / 1000
    $GID = 1000 24 25 27 29 30 44 46 108 110 113 999 1000
    $EGID = 1000 24 25 27 29 30 44 46 108 110 113 999 1000

Perl module toolchain versions installed:

    Module              Have    
    ------------------- --------
    CPAN                2.22    
    CPAN::Meta          2.150010
    Cwd                 3.77    
    ExtUtils::CBuilder  0.280230
    ExtUtils::Command   7.34    
    ExtUtils::Install   2.14    
    ExtUtils::MakeMaker 7.34    
    ExtUtils::Manifest  1.72    
    ExtUtils::ParseXS   3.40    
    File::Spec          3.77    
    JSON                4.02    
    JSON::PP            4.02    
    Module::Build       0.4224  
    Module::Signature   n/a     
    Parse::CPAN::Meta   2.150010
    Test::Harness       3.42    
    Test::More          1.302164
    YAML                1.27    
    YAML::Syck          n/a     
    version             0.9924  


--

Summary of my perl5 (revision 5 version 29 subversion 9) configuration:
   
  Platform:
    osname=linux
    osvers=4.19.0-1-amd64
    archname=x86_64-linux
    uname='linux twin 4.19.0-1-amd64 #1 smp debian 4.19.12-1 (2018-12-22) x86_64 gnulinux '
    config_args='-Dprefix=/home/ollisg/opt/perl/5.29.9 -de -Dcc=clang -Dusedevel -Dman1dir=none -Dman3dir=none -A'eval:scriptdir=/home/ollisg/opt/perl/5.29.9/bin''
    hint=recommended
    useposix=true
    d_sigaction=define
    useithreads=undef
    usemultiplicity=undef
    use64bitint=define
    use64bitall=define
    uselongdouble=undef
    usemymalloc=n
    default_inc_excludes_dot=define
    bincompat5005=undef
  Compiler:
    cc='clang'
    ccflags ='-fno-strict-aliasing -pipe -fstack-protector-strong -I/usr/local/include -D_LARGEFILE_SOURCE -D_FILE_OFFSET_BITS=64 -D_FORTIFY_SOURCE=2'
    optimize='-O2'
    cppflags='-fno-strict-aliasing -pipe -fstack-protector-strong -I/usr/local/include'
    ccversion=''
    gccversion='4.2.1 Compatible Clang 7.0.1 (tags/RELEASE_701/final)'
    gccosandvers=''
    intsize=4
    longsize=8
    ptrsize=8
    doublesize=8
    byteorder=12345678
    doublekind=3
    d_longlong=define
    longlongsize=8
    d_longdbl=define
    longdblsize=16
    longdblkind=3
    ivtype='long'
    ivsize=8
    nvtype='double'
    nvsize=8
    Off_t='off_t'
    lseeksize=8
    alignbytes=8
    prototype=define
  Linker and Libraries:
    ld='clang'
    ldflags =' -fstack-protector-strong -L/usr/local/lib'
    libpth=/usr/local/lib /usr/lib/llvm-7/lib/clang/7.0.1/lib /usr/include/x86_64-linux-gnu /usr/lib /lib/x86_64-linux-gnu /lib/../lib /usr/lib/x86_64-linux-gnu /usr/lib/../lib /lib
    libs=-lpthread -lnsl -ldb -ldl -lm -lcrypt -lutil -lc
    perllibs=-lpthread -lnsl -ldl -lm -lcrypt -lutil -lc
    libc=libc-2.28.so
    so=so
    useshrplib=false
    libperl=libperl.a
    gnulibc_version='2.28'
  Dynamic Linking:
    dlsrc=dl_dlopen.xs
    dlext=so
    d_dlsymun=undef
    ccdlflags='-Wl,-E'
    cccdlflags='-fPIC'
    lddlflags='-shared -O2 -L/usr/local/lib -fstack-protector-strong'


Characteristics of this binary (from libperl): 
  Compile-time options:
    HAS_TIMES
    PERLIO_LAYERS
    PERL_COPY_ON_WRITE
    PERL_DONT_CREATE_GVSV
    PERL_MALLOC_WRAP
    PERL_OP_PARENT
    PERL_PRESERVE_IVUV
    PERL_USE_DEVEL
    USE_64_BIT_ALL
    USE_64_BIT_INT
    USE_LARGE_FILES
    USE_LOCALE
    USE_LOCALE_COLLATE
    USE_LOCALE_CTYPE
    USE_LOCALE_NUMERIC
    USE_LOCALE_TIME
    USE_PERLIO
    USE_PERL_ATOF
  Locally applied patches:
    Devel::PatchPerl 1.52
  Built under linux
  Compiled at Mar 30 2019 09:05:08
  %ENV:
    PERL5LIB=""
    PERL5OPT=""
    PERL5_CPANPLUS_IS_RUNNING="19483"
    PERL5_CPAN_IS_RUNNING="19483"
    PERL_AE_WS_C_TEST_PROXY_ON="1"
    PERL_AE_WS_C_TEST_PROXY_URL="http://127.0.0.1:3128"
    PERL_CPANM_OPT="--mirror http://mirror.sydney.wdlabs.com/cpan/ --mirror-only --no-man-pages --auto-cleanup 1"
    PERL_PKG_CONFIG_SCRIPTS="ppkg-config"
    PERL_USE_UNSAFE_INC="1"
  @INC:
    /home/ollisg/opt/perl/5.29.9/lib/site_perl/5.29.9/x86_64-linux
    /home/ollisg/opt/perl/5.29.9/lib/site_perl/5.29.9
    /home/ollisg/opt/perl/5.29.9/lib/5.29.9/x86_64-linux
    /home/ollisg/opt/perl/5.29.9/lib/5.29.9
    .