Net-Async-WebSocket v0.13 Perl 5 v5.24.1 MSWin32-x64-multi-thread
- Status
- Pass
- From
- Dist
-
Net-Async-WebSocket v0.13
- Platform
- Perl 5 v5.24.1 MSWin32-x64-multi-thread
- Date
- 2020-04-30 14:21:08
- ID
- a75cd894-6c02-1014-9084-dbd7031ef651
This distribution has been tested as part of the CPAN Testers
project, supporting the Perl programming language. See
http://wiki.cpantesters.org/ for more information or email
questions to cpan-testers-discuss@perl.org
--
Dear Paul Evans,
This is a computer-generated report for Net-Async-WebSocket-0.13
on perl 5.24.1, created by CPAN-Reporter-1.2018.
Thank you for uploading your work to CPAN. Congratulations!
All tests were successful.
Sections of this report:
* Tester comments
* Program output
* Prerequisites
* Environment and other context
------------------------------
TESTER COMMENTS
------------------------------
Additional comments from tester:
none provided
------------------------------
PROGRAM OUTPUT
------------------------------
Output from 'C:\ulisse\perl5.24-64b\perl\bin\perl.exe ./Build test':
t\00use.t ..... ok
t\01client.t .. ok
t\02server.t .. ok
t\03cross.t ... ok
t\99pod.t ..... ok
All tests successful.
Files=5, Tests=29, 3 wallclock secs ( 0.05 usr + 0.03 sys = 0.08 CPU)
Result: PASS
------------------------------
PREREQUISITES
------------------------------
Prerequisite modules loaded:
requires:
Module Need Have
-------------------------------------- ------ --------
IO::Async::Listener 0.61 0.75
IO::Async::Notifier 0.63 0.75
IO::Async::Stream 0.34 0.75
perl 5.010 5.024001
Protocol::WebSocket 0.22 0.24
Protocol::WebSocket::Frame 0 0
Protocol::WebSocket::Handshake::Client 0 0
Protocol::WebSocket::Handshake::Server 0 0
Sub::Util 1.40 1.47
URI 0 1.71
build_requires:
Module Need Have
-------------------------------------- ------ --------
IO::Async::OS 0 0.75
Test::More 0.88 1.302141
configure_requires:
Module Need Have
-------------------------------------- ------ --------
Module::Build 0.4004 0.4220
------------------------------
ENVIRONMENT AND OTHER CONTEXT
------------------------------
Environment variables:
COMSPEC = C:\Windows\system32\cmd.exe
NUMBER_OF_PROCESSORS = 4
PATH = C:\ulisse\perl5.24-64b\perl\site\bin;C:\ulisse\perl5.24-64b\perl\bin;C:\ulisse\perl5.24-64b\c\bin;C:\ulisse\bin\UnxUtils\usr\local\wbin;C:\Windows;C:\Windows\system32;;.;
PERL5LIB =
PERL5OPT =
PERL5_CPANPLUS_IS_RUNNING = 4576
PERL5_CPAN_IS_RUNNING = 4576
PERL_GAMETERM_DEBUG = 2
PERL_JSON_BACKEND = JSON::XS
PERL_RL = Perl
PERL_USE_UNSAFE_INC = 1
PERL_YAML_BACKEND = YAML
PROCESSOR_IDENTIFIER = Intel64 Family 6 Model 42 Stepping 7, GenuineIntel
TEMP = C:\Users\io\AppData\Local\Temp
TERM = dumb
Perl special variables (and OS-specific diagnostics, for MSWin32):
$^X = C:\ulisse\perl5.24-64b\perl\bin\perl.exe
$UID/$EUID = 0 / 0
$GID = 0
$EGID = 0
Win32::GetOSName = Win7
Win32::GetOSVersion = Service Pack 1, 6, 1, 7601, 2, 1, 0, 768, 1
Win32::FsType = NTFS
Win32::IsAdminUser = 0
Perl module toolchain versions installed:
Module Have
------------------- --------
CPAN 2.22
CPAN::Meta 2.150010
Cwd 3.63_01
ExtUtils::CBuilder 0.280225
ExtUtils::Command 7.34
ExtUtils::Install 2.06
ExtUtils::MakeMaker 7.34
ExtUtils::Manifest 1.70
ExtUtils::ParseXS 3.31
File::Spec 3.63_01
JSON 2.90
JSON::PP 2.97001
Module::Build 0.4220
Module::Signature n/a
Parse::CPAN::Meta 2.150010
Test::Harness 3.36_01
Test::More 1.302141
YAML 1.27
YAML::Syck n/a
version 0.9917
--
Summary of my perl5 (revision 5 version 24 subversion 1) configuration:
Platform:
osname=MSWin32, osvers=6.3, archname=MSWin32-x64-multi-thread
uname='Win32 strawberry-perl 5.24.1.1 #1 Mon Jan 16 02:00:29 2017 x64'
config_args='undef'
hint=recommended, useposix=true, d_sigaction=undef
useithreads=define, usemultiplicity=define
use64bitint=define, use64bitall=undef, uselongdouble=undef
usemymalloc=n, bincompat5005=undef
Compiler:
cc='gcc', ccflags =' -s -O2 -DWIN32 -DWIN64 -DCONSERVATIVE -DPERL_TEXTMODE_SCRIPTS -DPERL_IMPLICIT_CONTEXT -DPERL_IMPLICIT_SYS -fwrapv -fno-strict-aliasing -mms-bitfields',
optimize='-s -O2',
cppflags='-DWIN32'
ccversion='', gccversion='4.9.2', gccosandvers=''
intsize=4, longsize=4, ptrsize=8, doublesize=8, byteorder=12345678, doublekind=3
d_longlong=define, longlongsize=8, d_longdbl=define, longdblsize=16, longdblkind=3
ivtype='long long', ivsize=8, nvtype='double', nvsize=8, Off_t='long long', lseeksize=8
alignbytes=8, prototype=define
Linker and Libraries:
ld='g++.exe', ldflags ='-s -L"C:\ulisse\perl5.24-64b\perl\lib\CORE" -L"C:\ulisse\perl5.24-64b\c\lib"'
libpth=C:\ulisse\perl5.24-64b\c\lib C:\ulisse\perl5.24-64b\c\x86_64-w64-mingw32\lib C:\ulisse\perl5.24-64b\c\lib\gcc\x86_64-w64-mingw32\4.9.2
libs=-lmoldname -lkernel32 -luser32 -lgdi32 -lwinspool -lcomdlg32 -ladvapi32 -lshell32 -lole32 -loleaut32 -lnetapi32 -luuid -lws2_32 -lmpr -lwinmm -lversion -lodbc32 -lodbccp32 -lcomctl32
perllibs=-lmoldname -lkernel32 -luser32 -lgdi32 -lwinspool -lcomdlg32 -ladvapi32 -lshell32 -lole32 -loleaut32 -lnetapi32 -luuid -lws2_32 -lmpr -lwinmm -lversion -lodbc32 -lodbccp32 -lcomctl32
libc=, so=dll, useshrplib=true, libperl=libperl524.a
gnulibc_version=''
Dynamic Linking:
dlsrc=dl_win32.xs, dlext=xs.dll, d_dlsymun=undef, ccdlflags=' '
cccdlflags=' ', lddlflags='-mdll -s -L"C:\ulisse\perl5.24-64b\perl\lib\CORE" -L"C:\ulisse\perl5.24-64b\c\lib"'
Characteristics of this binary (from libperl):
Compile-time options: HAS_TIMES HAVE_INTERP_INTERN MULTIPLICITY
PERLIO_LAYERS PERL_COPY_ON_WRITE
PERL_DONT_CREATE_GVSV
PERL_HASH_FUNC_ONE_AT_A_TIME_HARD
PERL_IMPLICIT_CONTEXT PERL_IMPLICIT_SYS
PERL_MALLOC_WRAP PERL_PRESERVE_IVUV USE_64_BIT_INT
USE_ITHREADS USE_LARGE_FILES USE_LOCALE
USE_LOCALE_COLLATE USE_LOCALE_CTYPE
USE_LOCALE_NUMERIC USE_LOCALE_TIME USE_PERLIO
USE_PERL_ATOF
Built under MSWin32
Compiled at Jan 16 2017 02:12:13
%ENV:
PERL5_CPANPLUS_IS_RUNNING="4576"
PERL5_CPAN_IS_RUNNING="4576"
PERL_GAMETERM_DEBUG="2"
PERL_JSON_BACKEND="JSON::XS"
PERL_RL="Perl"
PERL_USE_UNSAFE_INC="1"
PERL_YAML_BACKEND="YAML"
@INC:
C:/ulisse/perl5.24-64b/perl/site/lib/MSWin32-x64-multi-thread
C:/ulisse/perl5.24-64b/perl/site/lib
C:/ulisse/perl5.24-64b/perl/vendor/lib
C:/ulisse/perl5.24-64b/perl/lib
.