Bio-Sketch-Mash v0.9 Perl 5 v5.30.3 x86_64-linux
- Status
- Pass
- From
- Slaven Rezić (SREZIC)
- Dist
-
Bio-Sketch-Mash v0.9
- Platform
- Perl 5 v5.30.3 x86_64-linux
- Date
- 2020-08-30 17:38:45
- ID
- a7301f40-eae7-11ea-a11f-c5851f24ea8f
This distribution has been tested as part of the CPAN Testers
project, supporting the Perl programming language. See
http://wiki.cpantesters.org/ for more information or email
questions to cpan-testers-discuss@perl.org
--
Dear Lee S. Katz,
This is a computer-generated report for Bio-Sketch-Mash-0.9
on perl 5.30.3, created by CPAN-Reporter-1.2018.
Thank you for uploading your work to CPAN. Congratulations!
All tests were successful.
Sections of this report:
* Tester comments
* Program output
* Prerequisites
* Environment and other context
------------------------------
TESTER COMMENTS
------------------------------
Additional comments from tester:
none provided
------------------------------
PROGRAM OUTPUT
------------------------------
Output from '/usr/bin/make test':
PERL_DL_NONLAZY=1 "/opt/perl-5.30.3/bin/perl" "-MExtUtils::Command::MM" "-MTest::Harness" "-e" "undef *Test::Harness::Switches; test_harness(0, 'blib/lib', 'blib/arch')" t/*.t
# uncompressing capnproto
# Configuring capnproto
# making capnproto
In file included from ./src/kj/memory.h:28,
from ./src/kj/array.h:28,
from ./src/kj/string.h:29,
from ./src/capnp/common.h:33,
from ./src/capnp/raw-schema.h:28,
from ./src/capnp/generated-header-support.h:30,
from ./src/capnp/compiler/lexer.capnp.h:6,
from src/capnp/compiler/lexer.h:28,
from src/capnp/compiler/capnp.c++:26:
./src/kj/common.h: In instantiation of âÂÂconstexpr kj::ArrayPtr<T>::ArrayPtr(std::initializer_list<typename kj::RemoveConstOrDisable_<T>::Type>) [with T = const kj::ArrayPtr<const unsigned char>; typename kj::RemoveConstOrDisable_<T>::Type = kj::ArrayPtr<const unsigned char>]âÂÂ:
src/capnp/compiler/capnp.c++:1111:69: required from here
./src/kj/common.h:1267:45: warning: initializing âÂÂkj::ArrayPtr<const kj::ArrayPtr<const unsigned char> >::ptrâ from âÂÂstd::initializer_list<kj::ArrayPtr<const unsigned char> >::beginâ does not extend the lifetime of the underlying array [-Winit-list-lifetime]
1267 | : ptr(init.begin()), size_(init.size()) {}
| ^
ar: `u' modifier ignored since `D' is the default (see `U')
ar: `u' modifier ignored since `D' is the default (see `U')
ar: `u' modifier ignored since `D' is the default (see `U')
ar: `u' modifier ignored since `D' is the default (see `U')
In file included from src/kj/memory.h:28,
from src/kj/exception.h:28,
from src/kj/async-prelude.h:31,
from src/kj/async.h:28,
from src/kj/async-io.h:28,
from src/kj/async-io.c++:28:
src/kj/common.h: In instantiation of âÂÂconstexpr kj::ArrayPtr<T>::ArrayPtr(std::initializer_list<typename kj::RemoveConstOrDisable_<T>::Type>) [with T = const unsigned char; typename kj::RemoveConstOrDisable_<T>::Type = unsigned char]âÂÂ:
src/kj/async-io.c++:1497:47: required from here
src/kj/common.h:1267:45: warning: initializing âÂÂkj::ArrayPtr<const unsigned char>::ptrâ from âÂÂstd::initializer_list<unsigned char>::beginâ does not extend the lifetime of the underlying array [-Winit-list-lifetime]
1267 | : ptr(init.begin()), size_(init.size()) {}
| ^
ar: `u' modifier ignored since `D' is the default (see `U')
ar: `u' modifier ignored since `D' is the default (see `U')
ar: `u' modifier ignored since `D' is the default (see `U')
ar: `u' modifier ignored since `D' is the default (see `U')
ar: `u' modifier ignored since `D' is the default (see `U')
In file included from src/kj/common-test.c++:22:
src/kj/common.h: In instantiation of âÂÂconstexpr kj::ArrayPtr<T>::ArrayPtr(std::initializer_list<typename kj::RemoveConstOrDisable_<T>::Type>) [with T = const int; typename kj::RemoveConstOrDisable_<T>::Type = int]âÂÂ:
src/kj/common-test.c++:493:3: required from here
src/kj/common.h:1267:45: warning: initializing âÂÂkj::ArrayPtr<const int>::ptrâ from âÂÂstd::initializer_list<int>::beginâ does not extend the lifetime of the underlying array [-Winit-list-lifetime]
1267 | : ptr(init.begin()), size_(init.size()) {}
| ^
src/kj/common.h: In instantiation of âÂÂconstexpr kj::ArrayPtr<T>::ArrayPtr(std::initializer_list<typename kj::RemoveConstOrDisable_<T>::Type>) [with T = const short int; typename kj::RemoveConstOrDisable_<T>::Type = short int]âÂÂ:
src/kj/common-test.c++:498:3: required from here
src/kj/common.h:1267:45: warning: initializing âÂÂkj::ArrayPtr<const short int>::ptrâ from âÂÂstd::initializer_list<short int>::beginâ does not extend the lifetime of the underlying array [-Winit-list-lifetime]
src/kj/common.h: In instantiation of âÂÂconstexpr kj::ArrayPtr<T>::ArrayPtr(std::initializer_list<typename kj::RemoveConstOrDisable_<T>::Type>) [with T = const kj::StringPtr; typename kj::RemoveConstOrDisable_<T>::Type = kj::StringPtr]âÂÂ:
src/kj/common-test.c++:503:3: required from here
src/kj/common.h:1267:45: warning: initializing âÂÂkj::ArrayPtr<const kj::StringPtr>::ptrâ from âÂÂstd::initializer_list<kj::StringPtr>::beginâ does not extend the lifetime of the underlying array [-Winit-list-lifetime]
src/kj/common.h: In instantiation of âÂÂconstexpr kj::ArrayPtr<T>::ArrayPtr(std::initializer_list<typename kj::RemoveConstOrDisable_<T>::Type>) [with T = const char* const; typename kj::RemoveConstOrDisable_<T>::Type = const char*]âÂÂ:
src/kj/common-test.c++:503:3: required from here
src/kj/common.h:1267:45: warning: initializing âÂÂkj::ArrayPtr<const char* const>::ptrâ from âÂÂstd::initializer_list<const char*>::beginâ does not extend the lifetime of the underlying array [-Winit-list-lifetime]
In file included from src/capnp/layout.h:35,
from src/capnp/any.h:28,
from src/capnp/any-test.c++:22:
./src/kj/common.h: In instantiation of âÂÂconstexpr kj::ArrayPtr<T>::ArrayPtr(std::initializer_list<typename kj::RemoveConstOrDisable_<T>::Type>) [with T = const unsigned int; typename kj::RemoveConstOrDisable_<T>::Type = unsigned int]âÂÂ:
src/capnp/any.h:838:35: required from âÂÂvoid capnp::AnyPointer::Builder::setAs(std::initializer_list<typename capnp::ReaderFor_<typename capnp::ListElementType_<T>::Type, kind<typename capnp::ListElementType_<T>::Type>()>::Type>) [with T = capnp::List<unsigned int, capnp::Kind::PRIMITIVE>; typename capnp::ReaderFor_<typename capnp::ListElementType_<T>::Type, kind<typename capnp::ListElementType_<T>::Type>()>::Type = unsigned int]âÂÂ
src/capnp/any-test.c++:48:68: required from here
./src/kj/common.h:1267:45: warning: initializing âÂÂkj::ArrayPtr<const unsigned int>::ptrâ from âÂÂstd::initializer_list<unsigned int>::beginâ does not extend the lifetime of the underlying array [-Winit-list-lifetime]
1267 | : ptr(init.begin()), size_(init.size()) {}
| ^
./src/kj/common.h: In instantiation of âÂÂconstexpr kj::ArrayPtr<T>::ArrayPtr(std::initializer_list<typename kj::RemoveConstOrDisable_<T>::Type>) [with T = const capnp::Text::Reader; typename kj::RemoveConstOrDisable_<T>::Type = capnp::Text::Reader]âÂÂ:
src/capnp/any.h:838:35: required from âÂÂvoid capnp::AnyPointer::Builder::setAs(std::initializer_list<typename capnp::ReaderFor_<typename capnp::ListElementType_<T>::Type, kind<typename capnp::ListElementType_<T>::Type>()>::Type>) [with T = capnp::List<capnp::Text, capnp::Kind::BLOB>; typename capnp::ReaderFor_<typename capnp::ListElementType_<T>::Type, kind<typename capnp::ListElementType_<T>::Type>()>::Type = capnp::Text::Reader]âÂÂ
src/capnp/any-test.c++:68:63: required from here
./src/kj/common.h:1267:45: warning: initializing âÂÂkj::ArrayPtr<const capnp::Text::Reader>::ptrâ from âÂÂstd::initializer_list<capnp::Text::Reader>::beginâ does not extend the lifetime of the underlying array [-Winit-list-lifetime]
In file included from ./src/kj/memory.h:28,
from ./src/kj/array.h:28,
from ./src/kj/string.h:29,
from ./src/capnp/common.h:33,
from ./src/capnp/raw-schema.h:28,
from ./src/capnp/generated-header-support.h:30,
from ./src/capnp/test-import.capnp.h:6,
from src/capnp/encoding-test.c++:22:
./src/kj/common.h: In instantiation of âÂÂconstexpr kj::ArrayPtr<T>::ArrayPtr(std::initializer_list<typename kj::RemoveConstOrDisable_<T>::Type>) [with T = const short unsigned int; typename kj::RemoveConstOrDisable_<T>::Type = short unsigned int]âÂÂ:
./src/capnp/any.h:838:35: required from âÂÂvoid capnp::AnyPointer::Builder::setAs(std::initializer_list<typename capnp::ReaderFor_<typename capnp::ListElementType_<T>::Type, kind<typename capnp::ListElementType_<T>::Type>()>::Type>) [with T = capnp::List<short unsigned int, capnp::Kind::PRIMITIVE>; typename capnp::ReaderFor_<typename capnp::ListElementType_<T>::Type, kind<typename capnp::ListElementType_<T>::Type>()>::Type = short unsigned int]âÂÂ
src/capnp/encoding-test.c++:619:63: required from here
./src/kj/common.h:1267:45: warning: initializing âÂÂkj::ArrayPtr<const short unsigned int>::ptrâ from âÂÂstd::initializer_list<short unsigned int>::beginâ does not extend the lifetime of the underlying array [-Winit-list-lifetime]
1267 | : ptr(init.begin()), size_(init.size()) {}
| ^
./src/kj/common.h: In instantiation of âÂÂconstexpr kj::ArrayPtr<T>::ArrayPtr(std::initializer_list<typename kj::RemoveConstOrDisable_<T>::Type>) [with T = const bool; typename kj::RemoveConstOrDisable_<T>::Type = bool]âÂÂ:
./src/capnp/any.h:838:35: required from âÂÂvoid capnp::AnyPointer::Builder::setAs(std::initializer_list<typename capnp::ReaderFor_<typename capnp::ListElementType_<T>::Type, kind<typename capnp::ListElementType_<T>::Type>()>::Type>) [with T = capnp::List<bool, capnp::Kind::PRIMITIVE>; typename capnp::ReaderFor_<typename capnp::ListElementType_<T>::Type, kind<typename capnp::ListElementType_<T>::Type>()>::Type = bool]âÂÂ
src/capnp/encoding-test.c++:753:72: required from here
./src/kj/common.h:1267:45: warning: initializing âÂÂkj::ArrayPtr<const bool>::ptrâ from âÂÂstd::initializer_list<bool>::beginâ does not extend the lifetime of the underlying array [-Winit-list-lifetime]
./src/kj/common.h: In instantiation of âÂÂconstexpr kj::ArrayPtr<T>::ArrayPtr(std::initializer_list<typename kj::RemoveConstOrDisable_<T>::Type>) [with T = const capnp::Void; typename kj::RemoveConstOrDisable_<T>::Type = capnp::Void]âÂÂ:
./src/capnp/any.h:838:35: required from âÂÂvoid capnp::AnyPointer::Builder::setAs(std::initializer_list<typename capnp::ReaderFor_<typename capnp::ListElementType_<T>::Type, kind<typename capnp::ListElementType_<T>::Type>()>::Type>) [with T = capnp::List<capnp::Void, capnp::Kind::PRIMITIVE>; typename capnp::ReaderFor_<typename capnp::ListElementType_<T>::Type, kind<typename capnp::ListElementType_<T>::Type>()>::Type = capnp::Void]âÂÂ
src/capnp/encoding-test.c++:1097:71: required from here
./src/kj/common.h:1267:45: warning: initializing âÂÂkj::ArrayPtr<const capnp::Void>::ptrâ from âÂÂstd::initializer_list<capnp::Void>::beginâ does not extend the lifetime of the underlying array [-Winit-list-lifetime]
./src/kj/common.h: In instantiation of âÂÂconstexpr kj::ArrayPtr<T>::ArrayPtr(std::initializer_list<typename kj::RemoveConstOrDisable_<T>::Type>) [with T = const unsigned char; typename kj::RemoveConstOrDisable_<T>::Type = unsigned char]âÂÂ:
./src/capnp/any.h:838:35: required from âÂÂvoid capnp::AnyPointer::Builder::setAs(std::initializer_list<typename capnp::ReaderFor_<typename capnp::ListElementType_<T>::Type, kind<typename capnp::ListElementType_<T>::Type>()>::Type>) [with T = capnp::List<unsigned char, capnp::Kind::PRIMITIVE>; typename capnp::ReaderFor_<typename capnp::ListElementType_<T>::Type, kind<typename capnp::ListElementType_<T>::Type>()>::Type = unsigned char]âÂÂ
src/capnp/encoding-test.c++:1129:76: required from here
./src/kj/common.h:1267:45: warning: initializing âÂÂkj::ArrayPtr<const unsigned char>::ptrâ from âÂÂstd::initializer_list<unsigned char>::beginâ does not extend the lifetime of the underlying array [-Winit-list-lifetime]
./src/kj/common.h: In instantiation of âÂÂconstexpr kj::ArrayPtr<T>::ArrayPtr(std::initializer_list<typename kj::RemoveConstOrDisable_<T>::Type>) [with T = const unsigned int; typename kj::RemoveConstOrDisable_<T>::Type = unsigned int]âÂÂ:
./src/capnp/any.h:838:35: required from âÂÂvoid capnp::AnyPointer::Builder::setAs(std::initializer_list<typename capnp::ReaderFor_<typename capnp::ListElementType_<T>::Type, kind<typename capnp::ListElementType_<T>::Type>()>::Type>) [with T = capnp::List<unsigned int, capnp::Kind::PRIMITIVE>; typename capnp::ReaderFor_<typename capnp::ListElementType_<T>::Type, kind<typename capnp::ListElementType_<T>::Type>()>::Type = unsigned int]âÂÂ
src/capnp/encoding-test.c++:1165:101: required from here
./src/kj/common.h:1267:45: warning: initializing âÂÂkj::ArrayPtr<const unsigned int>::ptrâ from âÂÂstd::initializer_list<unsigned int>::beginâ does not extend the lifetime of the underlying array [-Winit-list-lifetime]
./src/kj/common.h: In instantiation of âÂÂconstexpr kj::ArrayPtr<T>::ArrayPtr(std::initializer_list<typename kj::RemoveConstOrDisable_<T>::Type>) [with T = const long unsigned int; typename kj::RemoveConstOrDisable_<T>::Type = long unsigned int]âÂÂ:
./src/capnp/any.h:838:35: required from âÂÂvoid capnp::AnyPointer::Builder::setAs(std::initializer_list<typename capnp::ReaderFor_<typename capnp::ListElementType_<T>::Type, kind<typename capnp::ListElementType_<T>::Type>()>::Type>) [with T = capnp::List<long unsigned int, capnp::Kind::PRIMITIVE>; typename capnp::ReaderFor_<typename capnp::ListElementType_<T>::Type, kind<typename capnp::ListElementType_<T>::Type>()>::Type = long unsigned int]âÂÂ
src/capnp/encoding-test.c++:1183:93: required from here
./src/kj/common.h:1267:45: warning: initializing âÂÂkj::ArrayPtr<const long unsigned int>::ptrâ from âÂÂstd::initializer_list<long unsigned int>::beginâ does not extend the lifetime of the underlying array [-Winit-list-lifetime]
./src/kj/common.h: In instantiation of âÂÂconstexpr kj::ArrayPtr<T>::ArrayPtr(std::initializer_list<typename kj::RemoveConstOrDisable_<T>::Type>) [with T = const capnp::Text::Reader; typename kj::RemoveConstOrDisable_<T>::Type = capnp::Text::Reader]âÂÂ:
./src/capnp/any.h:838:35: required from âÂÂvoid capnp::AnyPointer::Builder::setAs(std::initializer_list<typename capnp::ReaderFor_<typename capnp::ListElementType_<T>::Type, kind<typename capnp::ListElementType_<T>::Type>()>::Type>) [with T = capnp::List<capnp::Text, capnp::Kind::BLOB>; typename capnp::ReaderFor_<typename capnp::ListElementType_<T>::Type, kind<typename capnp::ListElementType_<T>::Type>()>::Type = capnp::Text::Reader]âÂÂ
src/capnp/encoding-test.c++:1201:70: required from here
./src/kj/common.h:1267:45: warning: initializing âÂÂkj::ArrayPtr<const capnp::Text::Reader>::ptrâ from âÂÂstd::initializer_list<capnp::Text::Reader>::beginâ does not extend the lifetime of the underlying array [-Winit-list-lifetime]
In file included from src/capnp/message.h:22,
from src/capnp/orphan-test.c++:22:
./src/kj/common.h: In instantiation of âÂÂconstexpr kj::ArrayPtr<T>::ArrayPtr(std::initializer_list<typename kj::RemoveConstOrDisable_<T>::Type>) [with T = const unsigned int; typename kj::RemoveConstOrDisable_<T>::Type = unsigned int]âÂÂ:
src/capnp/orphan-test.c++:89:34: required from here
./src/kj/common.h:1267:45: warning: initializing âÂÂkj::ArrayPtr<const unsigned int>::ptrâ from âÂÂstd::initializer_list<unsigned int>::beginâ does not extend the lifetime of the underlying array [-Winit-list-lifetime]
1267 | : ptr(init.begin()), size_(init.size()) {}
| ^
./src/kj/common.h: In instantiation of âÂÂconstexpr kj::ArrayPtr<T>::ArrayPtr(std::initializer_list<typename kj::RemoveConstOrDisable_<T>::Type>) [with T = const unsigned char; typename kj::RemoveConstOrDisable_<T>::Type = unsigned char]âÂÂ:
src/capnp/orphan-test.c++:1436:29: required from here
./src/kj/common.h:1267:45: warning: initializing âÂÂkj::ArrayPtr<const unsigned char>::ptrâ from âÂÂstd::initializer_list<unsigned char>::beginâ does not extend the lifetime of the underlying array [-Winit-list-lifetime]
In file included from src/capnp/message.h:22,
from src/capnp/serialize.h:47,
from src/capnp/serialize-packed.h:28,
from src/capnp/serialize-packed-test.c++:22:
./src/kj/common.h: In instantiation of âÂÂconstexpr kj::ArrayPtr<T>::ArrayPtr(std::initializer_list<typename kj::RemoveConstOrDisable_<T>::Type>) [with T = const unsigned char; typename kj::RemoveConstOrDisable_<T>::Type = unsigned char]âÂÂ:
src/capnp/serialize-packed-test.c++:203:41: required from here
./src/kj/common.h:1267:45: warning: initializing âÂÂkj::ArrayPtr<const unsigned char>::ptrâ from âÂÂstd::initializer_list<unsigned char>::beginâ does not extend the lifetime of the underlying array [-Winit-list-lifetime]
1267 | : ptr(init.begin()), size_(init.size()) {}
| ^
In file included from src/kj/memory.h:28,
from src/kj/exception.h:28,
from src/kj/async-prelude.h:31,
from src/kj/async.h:28,
from src/kj/async-io.h:28,
from src/kj/async-io-test.c++:28:
src/kj/common.h: In instantiation of âÂÂconstexpr kj::ArrayPtr<T>::ArrayPtr(std::initializer_list<typename kj::RemoveConstOrDisable_<T>::Type>) [with T = const unsigned char; typename kj::RemoveConstOrDisable_<T>::Type = unsigned char]âÂÂ:
src/kj/async-io-test.c++:520:3: required from here
src/kj/common.h:1267:45: warning: initializing âÂÂkj::ArrayPtr<const unsigned char>::ptrâ from âÂÂstd::initializer_list<unsigned char>::beginâ does not extend the lifetime of the underlying array [-Winit-list-lifetime]
1267 | : ptr(init.begin()), size_(init.size()) {}
| ^
src/kj/common.h: In instantiation of âÂÂconstexpr kj::ArrayPtr<T>::ArrayPtr(std::initializer_list<typename kj::RemoveConstOrDisable_<T>::Type>) [with T = const short unsigned int; typename kj::RemoveConstOrDisable_<T>::Type = short unsigned int]âÂÂ:
src/kj/async-io-test.c++:521:3: required from here
src/kj/common.h:1267:45: warning: initializing âÂÂkj::ArrayPtr<const short unsigned int>::ptrâ from âÂÂstd::initializer_list<short unsigned int>::beginâ does not extend the lifetime of the underlying array [-Winit-list-lifetime]
src/kj/common.h: In instantiation of âÂÂconstexpr kj::ArrayPtr<T>::ArrayPtr(std::initializer_list<typename kj::RemoveConstOrDisable_<T>::Type>) [with T = const kj::StringPtr; typename kj::RemoveConstOrDisable_<T>::Type = kj::StringPtr]âÂÂ:
src/kj/async-io-test.c++:591:49: required from here
src/kj/common.h:1267:45: warning: initializing âÂÂkj::ArrayPtr<const kj::StringPtr>::ptrâ from âÂÂstd::initializer_list<kj::StringPtr>::beginâ does not extend the lifetime of the underlying array [-Winit-list-lifetime]
In file included from ./src/kj/memory.h:28,
from ./src/kj/array.h:28,
from ./src/kj/string.h:29,
from src/kj/compat/url.h:24,
from src/kj/compat/url-test.c++:22:
./src/kj/common.h: In instantiation of âÂÂconstexpr kj::ArrayPtr<T>::ArrayPtr(std::initializer_list<typename kj::RemoveConstOrDisable_<T>::Type>) [with T = const kj::StringPtr; typename kj::RemoveConstOrDisable_<T>::Type = kj::StringPtr]âÂÂ:
src/kj/compat/url-test.c++:83:5: required from here
./src/kj/common.h:1267:45: warning: initializing âÂÂkj::ArrayPtr<const kj::StringPtr>::ptrâ from âÂÂstd::initializer_list<kj::StringPtr>::beginâ does not extend the lifetime of the underlying array [-Winit-list-lifetime]
1267 | : ptr(init.begin()), size_(init.size()) {}
| ^
In file included from ./src/kj/memory.h:28,
from ./src/kj/array.h:28,
from ./src/kj/string.h:29,
from src/kj/compat/http.h:37,
from src/kj/compat/http-test.c++:24:
./src/kj/common.h: In instantiation of âÂÂconstexpr kj::ArrayPtr<T>::ArrayPtr(std::initializer_list<typename kj::RemoveConstOrDisable_<T>::Type>) [with T = const kj::ArrayPtr<const unsigned char>; typename kj::RemoveConstOrDisable_<T>::Type = kj::ArrayPtr<const unsigned char>]âÂÂ:
src/kj/compat/http-test.c++:1900:87: required from here
./src/kj/common.h:1267:45: warning: initializing âÂÂkj::ArrayPtr<const kj::ArrayPtr<const unsigned char> >::ptrâ from âÂÂstd::initializer_list<kj::ArrayPtr<const unsigned char> >::beginâ does not extend the lifetime of the underlying array [-Winit-list-lifetime]
1267 | : ptr(init.begin()), size_(init.size()) {}
| ^
In file included from ./src/kj/memory.h:28,
from ./src/kj/array.h:28,
from ./src/kj/string.h:29,
from ./src/capnp/common.h:33,
from ./src/capnp/raw-schema.h:28,
from ./src/capnp/generated-header-support.h:30,
from ./src/capnp/schema.capnp.h:6,
from ./src/capnp/schema.h:32,
from src/capnp/compat/json.h:24,
from src/capnp/compat/json-test.c++:22:
./src/kj/common.h: In instantiation of âÂÂconstexpr kj::ArrayPtr<T>::ArrayPtr(std::initializer_list<typename kj::RemoveConstOrDisable_<T>::Type>) [with T = const capnp::schemas::TestJsonAnnotatedEnum_eca76f3df6b22dbb; typename kj::RemoveConstOrDisable_<T>::Type = capnp::schemas::TestJsonAnnotatedEnum_eca76f3df6b22dbb]âÂÂ:
src/capnp/compat/json-test.c++:933:6: required from here
./src/kj/common.h:1267:45: warning: initializing âÂÂkj::ArrayPtr<const capnp::schemas::TestJsonAnnotatedEnum_eca76f3df6b22dbb>::ptrâ from âÂÂstd::initializer_list<capnp::schemas::TestJsonAnnotatedEnum_eca76f3df6b22dbb>::beginâ does not extend the lifetime of the underlying array [-Winit-list-lifetime]
1267 | : ptr(init.begin()), size_(init.size()) {}
| ^
In file included from ./src/kj/memory.h:28,
from ./src/kj/array.h:28,
from ./src/kj/string.h:29,
from ./src/capnp/common.h:33,
from ./src/capnp/raw-schema.h:28,
from ./src/capnp/generated-header-support.h:30,
from ./src/capnp/test.capnp.h:6,
from src/capnp/test-util.h:28,
from src/capnp/test-util.c++:22:
./src/kj/common.h: In instantiation of âÂÂconstexpr kj::ArrayPtr<T>::ArrayPtr(std::initializer_list<typename kj::RemoveConstOrDisable_<T>::Type>) [with T = const capnp::Void; typename kj::RemoveConstOrDisable_<T>::Type = capnp::Void]âÂÂ:
src/capnp/test-util.c++:70:5: required from âÂÂvoid capnp::_::{anonymous}::genericInitTestMessage(Builder) [with Builder = capnproto_test::capnp::test::TestAllTypes::Builder]âÂÂ
src/capnp/test-util.c++:834:85: required from here
./src/kj/common.h:1267:45: warning: initializing âÂÂkj::ArrayPtr<const capnp::Void>::ptrâ from âÂÂstd::initializer_list<capnp::Void>::beginâ does not extend the lifetime of the underlying array [-Winit-list-lifetime]
1267 | : ptr(init.begin()), size_(init.size()) {}
| ^
./src/kj/common.h: In instantiation of âÂÂconstexpr kj::ArrayPtr<T>::ArrayPtr(std::initializer_list<typename kj::RemoveConstOrDisable_<T>::Type>) [with T = const bool; typename kj::RemoveConstOrDisable_<T>::Type = bool]âÂÂ:
src/capnp/test-util.c++:71:5: required from âÂÂvoid capnp::_::{anonymous}::genericInitTestMessage(Builder) [with Builder = capnproto_test::capnp::test::TestAllTypes::Builder]âÂÂ
src/capnp/test-util.c++:834:85: required from here
./src/kj/common.h:1267:45: warning: initializing âÂÂkj::ArrayPtr<const bool>::ptrâ from âÂÂstd::initializer_list<bool>::beginâ does not extend the lifetime of the underlying array [-Winit-list-lifetime]
./src/kj/common.h: In instantiation of âÂÂconstexpr kj::ArrayPtr<T>::ArrayPtr(std::initializer_list<typename kj::RemoveConstOrDisable_<T>::Type>) [with T = const signed char; typename kj::RemoveConstOrDisable_<T>::Type = signed char]âÂÂ:
src/capnp/test-util.c++:72:5: required from âÂÂvoid capnp::_::{anonymous}::genericInitTestMessage(Builder) [with Builder = capnproto_test::capnp::test::TestAllTypes::Builder]âÂÂ
src/capnp/test-util.c++:834:85: required from here
./src/kj/common.h:1267:45: warning: initializing âÂÂkj::ArrayPtr<const signed char>::ptrâ from âÂÂstd::initializer_list<signed char>::beginâ does not extend the lifetime of the underlying array [-Winit-list-lifetime]
./src/kj/common.h: In instantiation of âÂÂconstexpr kj::ArrayPtr<T>::ArrayPtr(std::initializer_list<typename kj::RemoveConstOrDisable_<T>::Type>) [with T = const short int; typename kj::RemoveConstOrDisable_<T>::Type = short int]âÂÂ:
src/capnp/test-util.c++:73:5: required from âÂÂvoid capnp::_::{anonymous}::genericInitTestMessage(Builder) [with Builder = capnproto_test::capnp::test::TestAllTypes::Builder]âÂÂ
src/capnp/test-util.c++:834:85: required from here
./src/kj/common.h:1267:45: warning: initializing âÂÂkj::ArrayPtr<const short int>::ptrâ from âÂÂstd::initializer_list<short int>::beginâ does not extend the lifetime of the underlying array [-Winit-list-lifetime]
./src/kj/common.h: In instantiation of âÂÂconstexpr kj::ArrayPtr<T>::ArrayPtr(std::initializer_list<typename kj::RemoveConstOrDisable_<T>::Type>) [with T = const int; typename kj::RemoveConstOrDisable_<T>::Type = int]âÂÂ:
src/capnp/test-util.c++:75:5: required from âÂÂvoid capnp::_::{anonymous}::genericInitTestMessage(Builder) [with Builder = capnproto_test::capnp::test::TestAllTypes::Builder]âÂÂ
src/capnp/test-util.c++:834:85: required from here
./src/kj/common.h:1267:45: warning: initializing âÂÂkj::ArrayPtr<const int>::ptrâ from âÂÂstd::initializer_list<int>::beginâ does not extend the lifetime of the underlying array [-Winit-list-lifetime]
./src/kj/common.h: In instantiation of âÂÂconstexpr kj::ArrayPtr<T>::ArrayPtr(std::initializer_list<typename kj::RemoveConstOrDisable_<T>::Type>) [with T = const long int; typename kj::RemoveConstOrDisable_<T>::Type = long int]âÂÂ:
src/capnp/test-util.c++:76:5: required from âÂÂvoid capnp::_::{anonymous}::genericInitTestMessage(Builder) [with Builder = capnproto_test::capnp::test::TestAllTypes::Builder]âÂÂ
src/capnp/test-util.c++:834:85: required from here
./src/kj/common.h:1267:45: warning: initializing âÂÂkj::ArrayPtr<const long int>::ptrâ from âÂÂstd::initializer_list<long int>::beginâ does not extend the lifetime of the underlying array [-Winit-list-lifetime]
./src/kj/common.h: In instantiation of âÂÂconstexpr kj::ArrayPtr<T>::ArrayPtr(std::initializer_list<typename kj::RemoveConstOrDisable_<T>::Type>) [with T = const unsigned char; typename kj::RemoveConstOrDisable_<T>::Type = unsigned char]âÂÂ:
src/capnp/test-util.c++:77:5: required from âÂÂvoid capnp::_::{anonymous}::genericInitTestMessage(Builder) [with Builder = capnproto_test::capnp::test::TestAllTypes::Builder]âÂÂ
src/capnp/test-util.c++:834:85: required from here
./src/kj/common.h:1267:45: warning: initializing âÂÂkj::ArrayPtr<const unsigned char>::ptrâ from âÂÂstd::initializer_list<unsigned char>::beginâ does not extend the lifetime of the underlying array [-Winit-list-lifetime]
./src/kj/common.h: In instantiation of âÂÂconstexpr kj::ArrayPtr<T>::ArrayPtr(std::initializer_list<typename kj::RemoveConstOrDisable_<T>::Type>) [with T = const short unsigned int; typename kj::RemoveConstOrDisable_<T>::Type = short unsigned int]âÂÂ:
src/capnp/test-util.c++:78:5: required from âÂÂvoid capnp::_::{anonymous}::genericInitTestMessage(Builder) [with Builder = capnproto_test::capnp::test::TestAllTypes::Builder]âÂÂ
src/capnp/test-util.c++:834:85: required from here
./src/kj/common.h:1267:45: warning: initializing âÂÂkj::ArrayPtr<const short unsigned int>::ptrâ from âÂÂstd::initializer_list<short unsigned int>::beginâ does not extend the lifetime of the underlying array [-Winit-list-lifetime]
./src/kj/common.h: In instantiation of âÂÂconstexpr kj::ArrayPtr<T>::ArrayPtr(std::initializer_list<typename kj::RemoveConstOrDisable_<T>::Type>) [with T = const unsigned int; typename kj::RemoveConstOrDisable_<T>::Type = unsigned int]âÂÂ:
src/capnp/test-util.c++:79:5: required from âÂÂvoid capnp::_::{anonymous}::genericInitTestMessage(Builder) [with Builder = capnproto_test::capnp::test::TestAllTypes::Builder]âÂÂ
src/capnp/test-util.c++:834:85: required from here
./src/kj/common.h:1267:45: warning: initializing âÂÂkj::ArrayPtr<const unsigned int>::ptrâ from âÂÂstd::initializer_list<unsigned int>::beginâ does not extend the lifetime of the underlying array [-Winit-list-lifetime]
./src/kj/common.h: In instantiation of âÂÂconstexpr kj::ArrayPtr<T>::ArrayPtr(std::initializer_list<typename kj::RemoveConstOrDisable_<T>::Type>) [with T = const long unsigned int; typename kj::RemoveConstOrDisable_<T>::Type = long unsigned int]âÂÂ:
src/capnp/test-util.c++:80:5: required from âÂÂvoid capnp::_::{anonymous}::genericInitTestMessage(Builder) [with Builder = capnproto_test::capnp::test::TestAllTypes::Builder]âÂÂ
src/capnp/test-util.c++:834:85: required from here
./src/kj/common.h:1267:45: warning: initializing âÂÂkj::ArrayPtr<const long unsigned int>::ptrâ from âÂÂstd::initializer_list<long unsigned int>::beginâ does not extend the lifetime of the underlying array [-Winit-list-lifetime]
./src/kj/common.h: In instantiation of âÂÂconstexpr kj::ArrayPtr<T>::ArrayPtr(std::initializer_list<typename kj::RemoveConstOrDisable_<T>::Type>) [with T = const float; typename kj::RemoveConstOrDisable_<T>::Type = float]âÂÂ:
src/capnp/test-util.c++:81:5: required from âÂÂvoid capnp::_::{anonymous}::genericInitTestMessage(Builder) [with Builder = capnproto_test::capnp::test::TestAllTypes::Builder]âÂÂ
src/capnp/test-util.c++:834:85: required from here
./src/kj/common.h:1267:45: warning: initializing âÂÂkj::ArrayPtr<const float>::ptrâ from âÂÂstd::initializer_list<float>::beginâ does not extend the lifetime of the underlying array [-Winit-list-lifetime]
./src/kj/common.h: In instantiation of âÂÂconstexpr kj::ArrayPtr<T>::ArrayPtr(std::initializer_list<typename kj::RemoveConstOrDisable_<T>::Type>) [with T = const double; typename kj::RemoveConstOrDisable_<T>::Type = double]âÂÂ:
src/capnp/test-util.c++:82:5: required from âÂÂvoid capnp::_::{anonymous}::genericInitTestMessage(Builder) [with Builder = capnproto_test::capnp::test::TestAllTypes::Builder]âÂÂ
src/capnp/test-util.c++:834:85: required from here
./src/kj/common.h:1267:45: warning: initializing âÂÂkj::ArrayPtr<const double>::ptrâ from âÂÂstd::initializer_list<double>::beginâ does not extend the lifetime of the underlying array [-Winit-list-lifetime]
./src/kj/common.h: In instantiation of âÂÂconstexpr kj::ArrayPtr<T>::ArrayPtr(std::initializer_list<typename kj::RemoveConstOrDisable_<T>::Type>) [with T = const capnp::Text::Reader; typename kj::RemoveConstOrDisable_<T>::Type = capnp::Text::Reader]âÂÂ:
src/capnp/test-util.c++:83:5: required from âÂÂvoid capnp::_::{anonymous}::genericInitTestMessage(Builder) [with Builder = capnproto_test::capnp::test::TestAllTypes::Builder]âÂÂ
src/capnp/test-util.c++:834:85: required from here
./src/kj/common.h:1267:45: warning: initializing âÂÂkj::ArrayPtr<const capnp::Text::Reader>::ptrâ from âÂÂstd::initializer_list<capnp::Text::Reader>::beginâ does not extend the lifetime of the underlying array [-Winit-list-lifetime]
./src/kj/common.h: In instantiation of âÂÂconstexpr kj::ArrayPtr<T>::ArrayPtr(std::initializer_list<typename kj::RemoveConstOrDisable_<T>::Type>) [with T = const capnp::Data::Reader; typename kj::RemoveConstOrDisable_<T>::Type = capnp::Data::Reader]âÂÂ:
src/capnp/test-util.c++:84:5: required from âÂÂvoid capnp::_::{anonymous}::genericInitTestMessage(Builder) [with Builder = capnproto_test::capnp::test::TestAllTypes::Builder]âÂÂ
src/capnp/test-util.c++:834:85: required from here
./src/kj/common.h:1267:45: warning: initializing âÂÂkj::ArrayPtr<const capnp::Data::Reader>::ptrâ from âÂÂstd::initializer_list<capnp::Data::Reader>::beginâ does not extend the lifetime of the underlying array [-Winit-list-lifetime]
./src/kj/common.h: In instantiation of âÂÂconstexpr kj::ArrayPtr<T>::ArrayPtr(std::initializer_list<typename kj::RemoveConstOrDisable_<T>::Type>) [with T = const capnp::schemas::TestEnum_9c8e9318b29d9cd3; typename kj::RemoveConstOrDisable_<T>::Type = capnp::schemas::TestEnum_9c8e9318b29d9cd3]âÂÂ:
src/capnp/test-util.c++:91:5: required from âÂÂvoid capnp::_::{anonymous}::genericInitTestMessage(Builder) [with Builder = capnproto_test::capnp::test::TestAllTypes::Builder]âÂÂ
src/capnp/test-util.c++:834:85: required from here
./src/kj/common.h:1267:45: warning: initializing âÂÂkj::ArrayPtr<const capnp::schemas::TestEnum_9c8e9318b29d9cd3>::ptrâ from âÂÂstd::initializer_list<capnp::schemas::TestEnum_9c8e9318b29d9cd3>::beginâ does not extend the lifetime of the underlying array [-Winit-list-lifetime]
ar: `u' modifier ignored since `D' is the default (see `U')
libtool: warning: relinking 'libkj-test.la'
libtool: warning: relinking 'libkj-async.la'
libtool: warning: relinking 'libkj-http.la'
libtool: warning: relinking 'libkj-tls.la'
libtool: warning: relinking 'libcapnp.la'
libtool: warning: relinking 'libcapnp-rpc.la'
libtool: warning: relinking 'libcapnp-json.la'
libtool: warning: relinking 'libcapnpc.la'
# Installing Mash
# Mash executable was found at /home/cpansand/.cpan/build/2020083017/Bio-Sketch-Mash-0.9-0/t/../bin/Mash-2.1.1/mash
t/00_setup.t ......... ok
t/01_env.t ........... ok
t/02_makeSketches.t .. ok
t/03_readSketches.t .. ok
All tests successful.
Files=4, Tests=8, 327 wallclock secs ( 0.19 usr 0.03 sys + 555.58 cusr 24.13 csys = 579.93 CPU)
Result: PASS
------------------------------
PREREQUISITES
------------------------------
Prerequisite modules loaded:
requires:
Module Need Have
------------------- -------- --------
Bio::Sketch 0 0.3
Class::Interface 0 1.01
Data::Dumper 0 2.174
Encode 2.21 3.07
Exporter 0 5.73
File::Basename 0 2.85
JSON 2.9 4.02
List::Util 0 1.55
perl 5.012000 5.030003
Thread::Queue 0 3.13
! threads 0 broken
threads::shared 0 1.60
build_requires:
Module Need Have
------------------- -------- --------
Test::More 0.47 1.302177
configure_requires:
Module Need Have
------------------- -------- --------
ExtUtils::MakeMaker 0 7.46
------------------------------
ENVIRONMENT AND OTHER CONTEXT
------------------------------
Environment variables:
LANG = en_US.UTF-8
PATH = /usr/local/bin:/usr/bin:/bin:/usr/local/sbin:/usr/sbin:/sbin:/home/cpansand/bin/linux-gnu:/home/cpansand/bin/sh:/home/cpansand/bin:/usr/games:/home/cpansand/devel:/home/eserte/src/srezic-misc/scripts
PERL5LIB = /home/cpansand/.local/share/.cpan/build/2020083017/Bio-Sketch-0.3-0/blib/arch:/home/cpansand/.local/share/.cpan/build/2020083017/Bio-Sketch-0.3-0/blib/lib:/home/cpansand/.local/share/.cpan/build/2020083017/Class-Interface-1.01-0/blib/arch:/home/cpansand/.local/share/.cpan/build/2020083017/Class-Interface-1.01-0/blib/lib:/home/cpansand/.local/share/.cpan/build/2020083017/Bio-Kmer-0.41-0/blib/arch:/home/cpansand/.local/share/.cpan/build/2020083017/Bio-Kmer-0.41-0/blib/lib:/home/cpansand/.local/share/.cpan/build/2020083017/Bio-Procedural-1.7.4-0/blib/arch:/home/cpansand/.local/share/.cpan/build/2020083017/Bio-Procedural-1.7.4-0/blib/lib:/home/cpansand/.local/share/.cpan/build/2020083017/Bio-Tools-Run-RemoteBlast-1.7.3-0/blib/arch:/home/cpansand/.local/share/.cpan/build/2020083017/Bio-Tools-Run-RemoteBlast-1.7.3-0/blib/lib:/home/cpansand/.local/share/.cpan/build/2020083017/Bio-DB-SwissProt-1.7.4-0/blib/arch:/home/cpansand/.local/share/.cpan/build/2020083017/Bio-DB-SwissProt-1.7.4-0/blib/lib:/home/cpansand/.local/share/.cpan/build/2020083017/Bio-DB-RefSeq-1.7.4-0/blib/arch:/home/cpansand/.local/share/.cpan/build/2020083017/Bio-DB-RefSeq-1.7.4-0/blib/lib:/home/cpansand/.local/share/.cpan/build/2020083017/Bio-DB-NCBIHelper-1.7.6-0/blib/arch:/home/cpansand/.local/share/.cpan/build/2020083017/Bio-DB-NCBIHelper-1.7.6-0/blib/lib:/home/cpansand/.local/share/.cpan/build/2020083017/Bio-ASN1-EntrezGene-1.73-0/blib/arch:/home/cpansand/.local/share/.cpan/build/2020083017/Bio-ASN1-EntrezGene-1.73-0/blib/lib:/home/cpansand/.local/share/.cpan/build/2020083017/Bio-Cluster-1.7.3-0/blib/arch:/home/cpansand/.local/share/.cpan/build/2020083017/Bio-Cluster-1.7.3-0/blib/lib:/home/cpansand/.local/share/.cpan/build/2020083017/Bio-Variation-1.7.5-0/blib/arch:/home/cpansand/.local/share/.cpan/build/2020083017/Bio-Variation-1.7.5-0/blib/lib:/home/cpansand/.local/share/.cpan/build/2020083017/Bio-DB-EMBL-1.7.4-0/blib/arch:/home/cpansand/.local/share/.cpan/build/2020083017/Bio-DB-EMBL-1.7.4-0/blib/lib:/home/cpansand/.local/share/.cpan/build/2020083017/usr-0/blib/arch:/home/cpansand/.local/share/.cpan/build/2020083017/usr-0/blib/lib
PERL5OPT =
PERL5_CPANPLUS_IS_RUNNING = 395000
PERL5_CPAN_IS_RUNNING = 395000
PERL5_CPAN_IS_RUNNING_IN_RECURSION = 318759,395000
PERLDOC = -MPod::Perldoc::ToTextOverstrike
PERL_BATCH = yes
PERL_CANARY_STABILITY_NOPROMPT = 1
PERL_CPAN_REPORTER_CONFIG = /var/tmp/cpansmoker-1023/2020083015/cpanreporter_000_config.ini
PERL_EXTUTILS_AUTOINSTALL = --defaultdeps
PERL_USE_UNSAFE_INC = 1
SHELL = /usr/bin/zsh
TERM = screen
TMPDIR = /var/tmp/cpansmoker-1023/2020083015
Perl special variables (and OS-specific diagnostics, for MSWin32):
$^X = /opt/perl-5.30.3/bin/perl
$UID/$EUID = 1023 / 1023
$GID = 1023 1023
$EGID = 1023 1023
Perl module toolchain versions installed:
Module Have
------------------- --------
CPAN 2.22
CPAN::Meta 2.150010
Cwd 3.78
ExtUtils::CBuilder 0.280231
ExtUtils::Command 7.46
ExtUtils::Install 2.14
ExtUtils::MakeMaker 7.46
ExtUtils::Manifest 1.72
ExtUtils::ParseXS 3.40
File::Spec 3.78
JSON 4.02
JSON::PP 4.05
Module::Build 0.4231
Module::Signature 0.83
Parse::CPAN::Meta 2.150010
Test::Harness 3.42
Test::More 1.302177
YAML 1.30
YAML::Syck 1.32
version 0.9924
--
Summary of my perl5 (revision 5 version 30 subversion 3) configuration:
Platform:
osname=linux
osvers=5.4.0-33-generic
archname=x86_64-linux
uname='linux cloud8.bbbike.org 5.4.0-33-generic #37-ubuntu smp thu may 21 12:53:59 utc 2020 x86_64 x86_64 x86_64 gnulinux '
config_args='-ds -e -Dprefix=/opt/perl-5.30.3 -Dcf_email=srezic@cpan.org'
hint=recommended
useposix=true
d_sigaction=define
useithreads=undef
usemultiplicity=undef
use64bitint=define
use64bitall=define
uselongdouble=undef
usemymalloc=n
default_inc_excludes_dot=define
bincompat5005=undef
Compiler:
cc='cc'
ccflags ='-fwrapv -fno-strict-aliasing -pipe -fstack-protector-strong -I/usr/local/include -D_LARGEFILE_SOURCE -D_FILE_OFFSET_BITS=64'
optimize='-O2'
cppflags='-fwrapv -fno-strict-aliasing -pipe -fstack-protector-strong -I/usr/local/include'
ccversion=''
gccversion='9.3.0'
gccosandvers=''
intsize=4
longsize=8
ptrsize=8
doublesize=8
byteorder=12345678
doublekind=3
d_longlong=define
longlongsize=8
d_longdbl=define
longdblsize=16
longdblkind=3
ivtype='long'
ivsize=8
nvtype='double'
nvsize=8
Off_t='off_t'
lseeksize=8
alignbytes=8
prototype=define
Linker and Libraries:
ld='cc'
ldflags =' -fstack-protector-strong -L/usr/local/lib'
libpth=/usr/local/lib /usr/include/x86_64-linux-gnu /usr/lib /lib/x86_64-linux-gnu /lib/../lib /usr/lib/x86_64-linux-gnu /usr/lib/../lib /lib
libs=-lpthread -lnsl -lgdbm -ldb -ldl -lm -lcrypt -lutil -lc
perllibs=-lpthread -lnsl -ldl -lm -lcrypt -lutil -lc
libc=libc-2.31.so
so=so
useshrplib=false
libperl=libperl.a
gnulibc_version='2.31'
Dynamic Linking:
dlsrc=dl_dlopen.xs
dlext=so
d_dlsymun=undef
ccdlflags='-Wl,-E'
cccdlflags='-fPIC'
lddlflags='-shared -O2 -L/usr/local/lib -fstack-protector-strong'
Characteristics of this binary (from libperl):
Compile-time options:
HAS_TIMES
PERLIO_LAYERS
PERL_COPY_ON_WRITE
PERL_DONT_CREATE_GVSV
PERL_MALLOC_WRAP
PERL_OP_PARENT
PERL_PRESERVE_IVUV
USE_64_BIT_ALL
USE_64_BIT_INT
USE_LARGE_FILES
USE_LOCALE
USE_LOCALE_COLLATE
USE_LOCALE_CTYPE
USE_LOCALE_NUMERIC
USE_LOCALE_TIME
USE_PERLIO
USE_PERL_ATOF
Locally applied patches:
Devel::PatchPerl 1.86
Built under linux
Compiled at Jun 1 2020 22:01:28
%ENV:
PERL5LIB="/home/cpansand/.local/share/.cpan/build/2020083017/Bio-Sketch-0.3-0/blib/arch:/home/cpansand/.local/share/.cpan/build/2020083017/Bio-Sketch-0.3-0/blib/lib:/home/cpansand/.local/share/.cpan/build/2020083017/Class-Interface-1.01-0/blib/arch:/home/cpansand/.local/share/.cpan/build/2020083017/Class-Interface-1.01-0/blib/lib:/home/cpansand/.local/share/.cpan/build/2020083017/Bio-Kmer-0.41-0/blib/arch:/home/cpansand/.local/share/.cpan/build/2020083017/Bio-Kmer-0.41-0/blib/lib:/home/cpansand/.local/share/.cpan/build/2020083017/Bio-Procedural-1.7.4-0/blib/arch:/home/cpansand/.local/share/.cpan/build/2020083017/Bio-Procedural-1.7.4-0/blib/lib:/home/cpansand/.local/share/.cpan/build/2020083017/Bio-Tools-Run-RemoteBlast-1.7.3-0/blib/arch:/home/cpansand/.local/share/.cpan/build/2020083017/Bio-Tools-Run-RemoteBlast-1.7.3-0/blib/lib:/home/cpansand/.local/share/.cpan/build/2020083017/Bio-DB-SwissProt-1.7.4-0/blib/arch:/home/cpansand/.local/share/.cpan/build/2020083017/Bio-DB-SwissProt-1.7.4-0/blib/lib:/home/cpansand/.local/share/.cpan/build/2020083017/Bio-DB-RefSeq-1.7.4-0/blib/arch:/home/cpansand/.local/share/.cpan/build/2020083017/Bio-DB-RefSeq-1.7.4-0/blib/lib:/home/cpansand/.local/share/.cpan/build/2020083017/Bio-DB-NCBIHelper-1.7.6-0/blib/arch:/home/cpansand/.local/share/.cpan/build/2020083017/Bio-DB-NCBIHelper-1.7.6-0/blib/lib:/home/cpansand/.local/share/.cpan/build/2020083017/Bio-ASN1-EntrezGene-1.73-0/blib/arch:/home/cpansand/.local/share/.cpan/build/2020083017/Bio-ASN1-EntrezGene-1.73-0/blib/lib:/home/cpansand/.local/share/.cpan/build/2020083017/Bio-Cluster-1.7.3-0/blib/arch:/home/cpansand/.local/share/.cpan/build/2020083017/Bio-Cluster-1.7.3-0/blib/lib:/home/cpansand/.local/share/.cpan/build/2020083017/Bio-Variation-1.7.5-0/blib/arch:/home/cpansand/.local/share/.cpan/build/2020083017/Bio-Variation-1.7.5-0/blib/lib:/home/cpansand/.local/share/.cpan/build/2020083017/Bio-DB-EMBL-1.7.4-0/blib/arch:/home/cpansand/.local/share/.cpan/build/2020083017/Bio-DB-EMBL-1.7.4-0/blib/lib:/home/cpansand/.local/share/.cpan/build/2020083017/usr-0/blib/arch:/home/cpansand/.local/share/.cpan/build/2020083017/usr-0/blib/lib"
PERL5OPT=""
PERL5_CPANPLUS_IS_RUNNING="395000"
PERL5_CPAN_IS_RUNNING="395000"
PERL5_CPAN_IS_RUNNING_IN_RECURSION="318759,395000"
PERLDOC="-MPod::Perldoc::ToTextOverstrike"
PERL_BATCH="yes"
PERL_CANARY_STABILITY_NOPROMPT="1"
PERL_CPAN_REPORTER_CONFIG="/var/tmp/cpansmoker-1023/2020083015/cpanreporter_000_config.ini"
PERL_EXTUTILS_AUTOINSTALL="--defaultdeps"
PERL_USE_UNSAFE_INC="1"
@INC:
/home/cpansand/.local/share/.cpan/build/2020083017/Bio-Sketch-0.3-0/blib/arch
/home/cpansand/.local/share/.cpan/build/2020083017/Bio-Sketch-0.3-0/blib/lib
/home/cpansand/.local/share/.cpan/build/2020083017/Class-Interface-1.01-0/blib/arch
/home/cpansand/.local/share/.cpan/build/2020083017/Class-Interface-1.01-0/blib/lib
/home/cpansand/.local/share/.cpan/build/2020083017/Bio-Kmer-0.41-0/blib/arch
/home/cpansand/.local/share/.cpan/build/2020083017/Bio-Kmer-0.41-0/blib/lib
/home/cpansand/.local/share/.cpan/build/2020083017/Bio-Procedural-1.7.4-0/blib/arch
/home/cpansand/.local/share/.cpan/build/2020083017/Bio-Procedural-1.7.4-0/blib/lib
/home/cpansand/.local/share/.cpan/build/2020083017/Bio-Tools-Run-RemoteBlast-1.7.3-0/blib/arch
/home/cpansand/.local/share/.cpan/build/2020083017/Bio-Tools-Run-RemoteBlast-1.7.3-0/blib/lib
/home/cpansand/.local/share/.cpan/build/2020083017/Bio-DB-SwissProt-1.7.4-0/blib/arch
/home/cpansand/.local/share/.cpan/build/2020083017/Bio-DB-SwissProt-1.7.4-0/blib/lib
/home/cpansand/.local/share/.cpan/build/2020083017/Bio-DB-RefSeq-1.7.4-0/blib/arch
/home/cpansand/.local/share/.cpan/build/2020083017/Bio-DB-RefSeq-1.7.4-0/blib/lib
/home/cpansand/.local/share/.cpan/build/2020083017/Bio-DB-NCBIHelper-1.7.6-0/blib/arch
/home/cpansand/.local/share/.cpan/build/2020083017/Bio-DB-NCBIHelper-1.7.6-0/blib/lib
/home/cpansand/.local/share/.cpan/build/2020083017/Bio-ASN1-EntrezGene-1.73-0/blib/arch
/home/cpansand/.local/share/.cpan/build/2020083017/Bio-ASN1-EntrezGene-1.73-0/blib/lib
/home/cpansand/.local/share/.cpan/build/2020083017/Bio-Cluster-1.7.3-0/blib/arch
/home/cpansand/.local/share/.cpan/build/2020083017/Bio-Cluster-1.7.3-0/blib/lib
/home/cpansand/.local/share/.cpan/build/2020083017/Bio-Variation-1.7.5-0/blib/arch
/home/cpansand/.local/share/.cpan/build/2020083017/Bio-Variation-1.7.5-0/blib/lib
/home/cpansand/.local/share/.cpan/build/2020083017/Bio-DB-EMBL-1.7.4-0/blib/arch
/home/cpansand/.local/share/.cpan/build/2020083017/Bio-DB-EMBL-1.7.4-0/blib/lib
/home/cpansand/.local/share/.cpan/build/2020083017/usr-0/blib/arch
/home/cpansand/.local/share/.cpan/build/2020083017/usr-0/blib/lib
/opt/perl-5.30.3/lib/site_perl/5.30.3/x86_64-linux
/opt/perl-5.30.3/lib/site_perl/5.30.3
/opt/perl-5.30.3/lib/5.30.3/x86_64-linux
/opt/perl-5.30.3/lib/5.30.3
.