Report for Treex-Core-0.08664

Back
From: metabase:user:31d414ea-2aae-11df-837a-5e0a49663a4f
Subject: PASS Treex-Core-0.08664 v5.10.1 GNU/Linux
Date: 2014-01-29T20:26:35Z

This distribution has been tested as part of the CPAN Testers
project, supporting the Perl programming language.  See
http://wiki.cpantesters.org/ for more information or email
questions to cpan-testers-discuss@perl.org


--
Dear Martin Popel,

This is a computer-generated report for Treex-Core-0.08664
on perl 5.10.1, created by CPAN-Reporter-1.1803.

Thank you for uploading your work to CPAN.  Congratulations!
All tests were successful.

Sections of this report:

    * Tester comments
    * Program output
    * Prerequisites
    * Environment and other context

------------------------------
TESTER COMMENTS
------------------------------

Additional comments from tester:

this report is from an automated smoke testing program
and was not reviewed by a human for accuracy

------------------------------
PROGRAM OUTPUT
------------------------------

Output from '/usr/bin/make test':

Skip blib/lib/auto/share/dist/Treex-Core/tred_extension/treex/stylesheets/Treex_stylesheet (unchanged)
Skip blib/lib/auto/share/dist/Treex-Core/tred_extension/treex/package.xml (unchanged)
Skip blib/lib/auto/share/dist/Treex-Core/tred_extension/treex/contrib/treex/contrib.mac (unchanged)
Skip blib/lib/auto/share/dist/Treex-Core/tred_extension/treex/resources/treex_subschema_a_layer.xml (unchanged)
Skip blib/lib/auto/share/dist/Treex-Core/tred_extension/treex/resources/treex_subschema_n_layer.xml (unchanged)
Skip blib/lib/auto/share/dist/Treex-Core/tred_extension/treex/resources/pmlbackend_conf.xml (unchanged)
Skip blib/lib/auto/share/dist/Treex-Core/tred_extension/treex/resources/treex_subschema_langcodes.xml (unchanged)
Skip blib/lib/auto/share/dist/Treex-Core/tred_extension/treex/resources/treex_subschema_p_layer.xml (unchanged)
Skip blib/lib/auto/share/dist/Treex-Core/tred_extension/treex/resources/treex_subschema_t_layer.xml (unchanged)
Skip blib/lib/auto/share/dist/Treex-Core/tred_extension/treex/resources/treex_subschema_interset.xml (unchanged)
Skip blib/lib/auto/share/dist/Treex-Core/tred_extension/extensions.lst (unchanged)
Skip blib/lib/auto/share/dist/Treex-Core/tred_extension/treex/resources/treex_subschema_bbn.xml (unchanged)
Skip blib/lib/auto/share/dist/Treex-Core/tred_extension/treex/resources/treex_subschema_w_layer.xml (unchanged)
Skip blib/lib/auto/share/dist/Treex-Core/tred_extension/treex/resources/treex_schema.xml (unchanged)
PERL_DL_NONLAZY=1 /home/david/cpantesting/perl-5.10.1/bin/perl "-MExtUtils::Command::MM" "-MTest::Harness" "-e" "undef *Test::Harness::Switches; test_harness(0, 'blib/lib', 'blib/arch')" t/*.t
t/00-compile.t ..................... ok
t/a_effective_rel.t ................ ok
t/attribute.t ...................... ok
t/author-critic.t .................. skipped: these tests are for testing by the author
t/author-test-eol.t ................ skipped: these tests are for testing by the author
t/backrefs.t ....................... ok
t/base.t ........................... ok
t/block.t .......................... ok
t/bundle.t ......................... ok
t/bundle_zones.t ................... ok
t/common.t ......................... ok
t/config.t ......................... ok
t/document.t ....................... ok
t/document_zones.t ................. ok
t/dump_scen.t ...................... ok
t/eval_block.t ..................... ok
t/files.t .......................... ok
t/following_node.t ................. ok
t/grammar.t ........................ ok
t/log.t ............................ ok
t/n_tree.t ......................... ok
t/node.t ........................... ok
t/ordered.t ........................ ok
t/p_penn_treebank_string_format.t .. ok
t/parallel.t ....................... skipped: these tests are expensive and only for testing by the author
t/qparallel.t ...................... skipped: these tests are expensive and only for testing by the author
t/release-cpan-changes.t ........... skipped: these tests are for release candidate testing
t/release-dist-manifest.t .......... skipped: these tests are for release candidate testing
t/release-distmeta.t ............... skipped: these tests are for release candidate testing
t/release-kwalitee.t ............... skipped: these tests are for release candidate testing
t/release-minimum-version.t ........ skipped: these tests are for release candidate testing
t/release-mojibake.t ............... skipped: these tests are for release candidate testing
t/release-no-tabs.t ................ skipped: these tests are for release candidate testing
t/release-pod-coverage.t ........... skipped: these tests are for release candidate testing
t/release-pod-linkcheck.t .......... skipped: these tests are for release candidate testing
t/release-pod-syntax.t ............. skipped: these tests are for release candidate testing
t/release-portability.t ............ skipped: these tests are for release candidate testing
t/release-synopsis.t ............... skipped: these tests are for release candidate testing
t/release-test-version.t ........... skipped: these tests are for release candidate testing
t/release-unused-vars.t ............ skipped: these tests are for release candidate testing
t/remove_bundle.t .................. ok
t/resource.t ....................... ok
t/run.t ............................ ok
t/scenario.t ....................... ok
t/scenario_parser.t ................ ok
t/space_in_block_arg.t ............. ok
t/storable.t ....................... ok
t/t_effective_rel.t ................ ok
t/trees.t .......................... ok
t/treexrun.t ....................... ok
t/wildattr.t ....................... ok
All tests successful.
Files=51, Tests=589, 138 wallclock secs ( 0.15 usr  0.23 sys + 70.47 cusr  7.07 csys = 77.92 CPU)
Result: PASS

------------------------------
PREREQUISITES
------------------------------

Prerequisite modules loaded:

requires:

    Module                                          Need    Have    
    ----------------------------------------------- ------- --------
    autodie                                         0       2.06_01 
    base                                            0       2.18    
    Carp                                            0       1.32    
    Cwd                                             0       3.40    
    Data::Dumper                                    0       2.145   
    Encode                                          0       2.57    
    English                                         0       1.04    
    Exporter                                        0       5.63    
    File::Basename                                  0       2.77    
    File::chdir                                     0       0.1008  
    File::HomeDir                                   0.97    1.00    
    File::Path                                      2.08    2.09    
    File::ShareDir                                  0       1.03    
    File::Slurp                                     9999.19 9999.19 
    File::Spec                                      0       3.40    
    File::Temp                                      0       0.2304  
    File::Which                                     0       1.09    
    integer                                         0       1.00    
    IO::Handle                                      0       1.28    
    IO::Interactive                                 0       0.0.6   
    List::MoreUtils                                 0       0.33    
    List::Util                                      0       1.38    
    Locale::Language                                0       2.07    
    LWP::Simple                                     0       6.00    
    Module::Reload                                  0       1.07    
    Moose                                           0       2.1202  
    Moose::Exporter                                 0       2.1202  
    Moose::Role                                     0       2.1202  
    Moose::Util::TypeConstraints                    0       2.1202  
    MooseX::Getopt                                  0       0.59    
    MooseX::NonMoose                                0       0.24    
    MooseX::Params::Validate                        0       0.18    
    MooseX::SemiAffordanceAccessor                  0.09    0.09    
    MooseX::SemiAffordanceAccessor::Role::Attribute 0.09    0.09    
    namespace::autoclean                            0       0.15    
    open                                            0       1.07    
    PerlIO::via::gzip                               0       0.021   
    Readonly                                        0       1.04    
    Scalar::Util                                    0       1.38    
    Storable                                        0       2.20    
    strict                                          0       1.04    
    Text::Balanced                                  0       2.0.0   
    Time::HiRes                                     0       1.9719  
    Treex::PML                                      0       2.16    
    Treex::PML::Factory                             0       2.16    
    Treex::PML::IO                                  0       2.16    
    Treex::PML::Node                                0       2.16    
    Treex::PML::Struct                              0       2.16    
    UNIVERSAL::DOES                                 0       0.004   
    utf8                                            0       1.07    
    vars                                            0       1.01    
    warnings                                        0       1.06    
    YAML                                            0.72    0.88    

build_requires:

    Module                                          Need    Have    
    ----------------------------------------------- ------- --------
    constant                                        0       1.27    
    File::Find                                      0       1.14    
    Test::Moose                                     0       2.1202  
    Test::More                                      0       1.001002
    Test::Output                                    0       1.03    
    Test::Requires                                  0       0.07    

configure_requires:

    Module                                          Need    Have    
    ----------------------------------------------- ------- --------
    ExtUtils::MakeMaker                             6.30    6.86    
    File::ShareDir::Install                         0.03    0.08    


------------------------------
ENVIRONMENT AND OTHER CONTEXT
------------------------------

Environment variables:

    AUTOMATED_TESTING = 1
    PATH = /usr/local/bin:/usr/bin:/bin:/usr/games
    PERL = 5.10.1
    PERL5LIB = 
    PERL5OPT = 
    PERL5_CPANPLUS_IS_RUNNING = 1322
    PERL5_CPAN_IS_RUNNING = 1322
    PERLVER = 5.10.1
    PERL_INLINE_DIRECTORY = /home/david/.Inline-5.10.1
    PERL_MM_USE_DEFAULT = 1
    SHELL = /bin/bash
    TERM = screen

Perl special variables (and OS-specific diagnostics, for MSWin32):

    $^X = /home/david/cpantesting/perl-5.10.1/bin/perl
    $UID/$EUID = 1000 / 1000
    $GID = 1000 1000
    $EGID = 1000 1000

Perl module toolchain versions installed:

    Module              Have    
    ------------------- --------
    CPAN                1.9402  
    Cwd                 3.40    
    ExtUtils::CBuilder  0.2703  
    ExtUtils::Command   1.16    
    ExtUtils::Install   1.54    
    ExtUtils::MakeMaker 6.86    
    ExtUtils::Manifest  1.60    
    ExtUtils::ParseXS   3.22    
    File::Spec          3.40    
    Module::Build       0.4204  
    Module::Signature   n/a     
    Test::Harness       3.30    
    Test::More          1.001002
    YAML                0.88    
    YAML::Syck          n/a     
    version             0.9907  


--

Summary of my perl5 (revision 5 version 10 subversion 1) configuration:
   
  Platform:
    osname=linux, osvers=2.6.18-4-xen-amd64, archname=x86_64-linux-thread-multi
    uname='linux pigsty.barnyard.co.uk 2.6.18-4-xen-amd64 #1 smp fri may 4 02:40:51 utc 2007 x86_64 gnulinux '
    config_args='-de -Duse64bitall -Dusethreads -Dprefix=/home/david/cpantesting/perl-5.10.1'
    hint=recommended, useposix=true, d_sigaction=define
    useithreads=define, usemultiplicity=define
    useperlio=define, d_sfio=undef, uselargefiles=define, usesocks=undef
    use64bitint=define, use64bitall=define, uselongdouble=undef
    usemymalloc=n, bincompat5005=undef
  Compiler:
    cc='cc', ccflags ='-D_REENTRANT -D_GNU_SOURCE -fno-strict-aliasing -pipe -fstack-protector -I/usr/local/include -D_LARGEFILE_SOURCE -D_FILE_OFFSET_BITS=64',
    optimize='-O2',
    cppflags='-D_REENTRANT -D_GNU_SOURCE -fno-strict-aliasing -pipe -fstack-protector -I/usr/local/include'
    ccversion='', gccversion='4.1.2 20061115 (prerelease) (Debian 4.1.1-21)', gccosandvers=''
    intsize=4, longsize=8, ptrsize=8, doublesize=8, byteorder=12345678
    d_longlong=define, longlongsize=8, d_longdbl=define, longdblsize=16
    ivtype='long', ivsize=8, nvtype='double', nvsize=8, Off_t='off_t', lseeksize=8
    alignbytes=8, prototype=define
  Linker and Libraries:
    ld='cc', ldflags =' -fstack-protector -L/usr/local/lib'
    libpth=/usr/local/lib /lib /usr/lib /lib64 /usr/lib64
    libs=-lnsl -lgdbm -ldb -ldl -lm -lcrypt -lutil -lpthread -lc -lgdbm_compat
    perllibs=-lnsl -ldl -lm -lcrypt -lutil -lpthread -lc
    libc=/lib/libc-2.3.6.so, so=so, useshrplib=false, libperl=libperl.a
    gnulibc_version='2.3.6'
  Dynamic Linking:
    dlsrc=dl_dlopen.xs, dlext=so, d_dlsymun=undef, ccdlflags='-Wl,-E'
    cccdlflags='-fPIC', lddlflags='-shared -O2 -L/usr/local/lib -fstack-protector'


Characteristics of this binary (from libperl): 
  Compile-time options: MULTIPLICITY PERL_DONT_CREATE_GVSV
                        PERL_IMPLICIT_CONTEXT PERL_MALLOC_WRAP USE_64_BIT_ALL
                        USE_64_BIT_INT USE_ITHREADS USE_LARGE_FILES
                        USE_PERLIO USE_REENTRANT_API
  Built under linux
  Compiled at Aug 25 2009 16:04:12
  %ENV:
    PERL="5.10.1"
    PERL5LIB=""
    PERL5OPT=""
    PERL5_CPANPLUS_IS_RUNNING="1322"
    PERL5_CPAN_IS_RUNNING="1322"
    PERLVER="5.10.1"
    PERL_INLINE_DIRECTORY="/home/david/.Inline-5.10.1"
    PERL_MM_USE_DEFAULT="1"
  @INC:
    /home/david/cpantesting/perl-5.10.1/lib/5.10.1/x86_64-linux-thread-multi
    /home/david/cpantesting/perl-5.10.1/lib/5.10.1
    /home/david/cpantesting/perl-5.10.1/lib/site_perl/5.10.1/x86_64-linux-thread-multi
    /home/david/cpantesting/perl-5.10.1/lib/site_perl/5.10.1
    .