KiokuDB v0.57 Perl 5 v5.24.1 x86_64-linux-thread-multi

Status
Pass
From
David Cantrell (DCANTRELL)
Dist
KiokuDB v0.57
Platform
Perl 5 v5.24.1 x86_64-linux-thread-multi
Date
2017-08-23 12:57:41
ID
a5d0f264-8802-11e7-9bb1-55bdca56a595
This distribution has been tested as part of the CPAN Testers
project, supporting the Perl programming language.  See
http://wiki.cpantesters.org/ for more information or email
questions to cpan-testers-discuss@perl.org


--
Dear Jesse Luehrs,

This is a computer-generated report for KiokuDB-0.57
on perl 5.24.1, created by CPAN-Reporter-1.2018.

Thank you for uploading your work to CPAN.  Congratulations!
All tests were successful.

Sections of this report:

    * Tester comments
    * Program output
    * Prerequisites
    * Environment and other context

------------------------------
TESTER COMMENTS
------------------------------

Additional comments from tester:

this report is from an automated smoke testing program
and was not reviewed by a human for accuracy

------------------------------
PROGRAM OUTPUT
------------------------------

Output from '/usr/bin/make test':

PERL_DL_NONLAZY=1 "/home/david/cpantesting/perl-5.24.1/bin/perl" "-MExtUtils::Command::MM" "-MTest::Harness" "-e" "undef *Test::Harness::Switches; test_harness(0, 'blib/lib', 'blib/arch')" t/*.t
t/00-compile.t ................. ok
t/coderefs.t ................... ok
t/collapser.t .................. ok
t/digest.t ..................... ok
t/directory.t .................. ok
t/entry.t ...................... ok
t/gc_naive.t ................... ok
Attempt to free unreferenced scalar: SV 0x60a06a8, Perl interpreter: 0x228c010 at /home/david/cpantesting/perl-5.24.1/.cpan/build/KiokuDB-0.57-gOrps9/blib/lib/KiokuDB/Test/Fixture/Sets.pm line 150.
t/gin.t ........................ ok
Attempt to free unreferenced scalar: SV 0x591aad8, Perl interpreter: 0x1b1b010 at /home/david/cpantesting/perl-5.24.1/.cpan/build/KiokuDB-0.57-gOrps9/blib/lib/KiokuDB/Test/Fixture/Sets.pm line 150.
Attempt to free unreferenced scalar: SV 0x671fb48, Perl interpreter: 0x1b1b010 at /home/david/cpantesting/perl-5.24.1/.cpan/build/KiokuDB-0.57-gOrps9/blib/lib/KiokuDB/Test/Fixture/Sets.pm line 150.
Attempt to free unreferenced scalar: SV 0x62c3670, Perl interpreter: 0x1b1b010 at /home/david/cpantesting/perl-5.24.1/.cpan/build/KiokuDB-0.57-gOrps9/blib/lib/KiokuDB/Test/Fixture/Sets.pm line 150.
Attempt to free unreferenced scalar: SV 0x68203e8, Perl interpreter: 0x1b1b010 at /home/david/cpantesting/perl-5.24.1/.cpan/build/KiokuDB-0.57-gOrps9/blib/lib/KiokuDB/Test/Fixture/Sets.pm line 150.
Attempt to free unreferenced scalar: SV 0x6987eb8, Perl interpreter: 0x1b1b010 at /home/david/cpantesting/perl-5.24.1/.cpan/build/KiokuDB-0.57-gOrps9/blib/lib/KiokuDB/Test/Fixture/Sets.pm line 150.
Attempt to free unreferenced scalar: SV 0x6416a50, Perl interpreter: 0x1b1b010 at /home/david/cpantesting/perl-5.24.1/.cpan/build/KiokuDB-0.57-gOrps9/blib/lib/KiokuDB/Test/Fixture/Sets.pm line 150.
Attempt to free unreferenced scalar: SV 0x69acda8, Perl interpreter: 0x1b1b010 at /home/david/cpantesting/perl-5.24.1/.cpan/build/KiokuDB-0.57-gOrps9/blib/lib/KiokuDB/Test/Fixture/Sets.pm line 150.
Attempt to free unreferenced scalar: SV 0x6b5c4e8, Perl interpreter: 0x1b1b010 at /home/david/cpantesting/perl-5.24.1/.cpan/build/KiokuDB-0.57-gOrps9/blib/lib/KiokuDB/Test/Fixture/Sets.pm line 150.
Attempt to free unreferenced scalar: SV 0x6bf0948, Perl interpreter: 0x1b1b010 at /home/david/cpantesting/perl-5.24.1/.cpan/build/KiokuDB-0.57-gOrps9/blib/lib/KiokuDB/Test/Fixture/Sets.pm line 150.
Attempt to free unreferenced scalar: SV 0x64126f8, Perl interpreter: 0x1b1b010 at /home/david/cpantesting/perl-5.24.1/.cpan/build/KiokuDB-0.57-gOrps9/blib/lib/KiokuDB/Test/Fixture/Sets.pm line 150.
Attempt to free unreferenced scalar: SV 0x6babe80, Perl interpreter: 0x1b1b010 at /home/david/cpantesting/perl-5.24.1/.cpan/build/KiokuDB-0.57-gOrps9/blib/lib/KiokuDB/Test/Fixture/Sets.pm line 150.
Attempt to free unreferenced scalar: SV 0x6468a48, Perl interpreter: 0x1b1b010 at /home/david/cpantesting/perl-5.24.1/.cpan/build/KiokuDB-0.57-gOrps9/blib/lib/KiokuDB/Test/Fixture/Sets.pm line 150.
Attempt to free unreferenced scalar: SV 0x6b24b38, Perl interpreter: 0x1b1b010 at /home/david/cpantesting/perl-5.24.1/.cpan/build/KiokuDB-0.57-gOrps9/blib/lib/KiokuDB/Test/Fixture/Sets.pm line 150.
Attempt to free unreferenced scalar: SV 0x6c8b058, Perl interpreter: 0x1b1b010 at /home/david/cpantesting/perl-5.24.1/.cpan/build/KiokuDB-0.57-gOrps9/blib/lib/KiokuDB/Test/Fixture/Sets.pm line 150.
Attempt to free unreferenced scalar: SV 0x622b190, Perl interpreter: 0x1b1b010 at /home/david/cpantesting/perl-5.24.1/.cpan/build/KiokuDB-0.57-gOrps9/blib/lib/KiokuDB/Test/Fixture/Sets.pm line 150.
Attempt to free unreferenced scalar: SV 0x65d0638, Perl interpreter: 0x1b1b010 at /home/david/cpantesting/perl-5.24.1/.cpan/build/KiokuDB-0.57-gOrps9/blib/lib/KiokuDB/Test/Fixture/Sets.pm line 150.
Attempt to free unreferenced scalar: SV 0x7033d58, Perl interpreter: 0x1b1b010 at /home/david/cpantesting/perl-5.24.1/.cpan/build/KiokuDB-0.57-gOrps9/blib/lib/KiokuDB/Test/Fixture/Sets.pm line 150.
Attempt to free unreferenced scalar: SV 0x6a852d0, Perl interpreter: 0x1b1b010 at /home/david/cpantesting/perl-5.24.1/.cpan/build/KiokuDB-0.57-gOrps9/blib/lib/KiokuDB/Test/Fixture/Sets.pm line 150.
Attempt to free unreferenced scalar: SV 0x7094648, Perl interpreter: 0x1b1b010 at /home/david/cpantesting/perl-5.24.1/.cpan/build/KiokuDB-0.57-gOrps9/blib/lib/KiokuDB/Test/Fixture/Sets.pm line 150.
Attempt to free unreferenced scalar: SV 0x702d7a8, Perl interpreter: 0x1b1b010 at /home/david/cpantesting/perl-5.24.1/.cpan/build/KiokuDB-0.57-gOrps9/blib/lib/KiokuDB/Test/Fixture/Sets.pm line 150.
Attempt to free unreferenced scalar: SV 0x74e4d48, Perl interpreter: 0x1b1b010 at /home/david/cpantesting/perl-5.24.1/.cpan/build/KiokuDB-0.57-gOrps9/blib/lib/KiokuDB/Test/Fixture/Sets.pm line 150.
Attempt to free unreferenced scalar: SV 0x77c68b0, Perl interpreter: 0x1b1b010 at /home/david/cpantesting/perl-5.24.1/.cpan/build/KiokuDB-0.57-gOrps9/blib/lib/KiokuDB/Test/Fixture/Sets.pm line 150.
Attempt to free unreferenced scalar: SV 0x6e92fd8, Perl interpreter: 0x1b1b010 at /home/david/cpantesting/perl-5.24.1/.cpan/build/KiokuDB-0.57-gOrps9/blib/lib/KiokuDB/Test/Fixture/Sets.pm line 150.
Attempt to free unreferenced scalar: SV 0x76240e8, Perl interpreter: 0x1b1b010 at /home/david/cpantesting/perl-5.24.1/.cpan/build/KiokuDB-0.57-gOrps9/blib/lib/KiokuDB/Test/Fixture/Sets.pm line 150.
Attempt to free unreferenced scalar: SV 0x78e7998, Perl interpreter: 0x1b1b010 at /home/david/cpantesting/perl-5.24.1/.cpan/build/KiokuDB-0.57-gOrps9/blib/lib/KiokuDB/Test/Fixture/Sets.pm line 150.
Attempt to free unreferenced scalar: SV 0x64b48e8, Perl interpreter: 0x1b1b010 at /home/david/cpantesting/perl-5.24.1/.cpan/build/KiokuDB-0.57-gOrps9/blib/lib/KiokuDB/Test/Fixture/Sets.pm line 150.
Attempt to free unreferenced scalar: SV 0x78e3bc0, Perl interpreter: 0x1b1b010 at /home/david/cpantesting/perl-5.24.1/.cpan/build/KiokuDB-0.57-gOrps9/blib/lib/KiokuDB/Test/Fixture/Sets.pm line 150.
Attempt to free unreferenced scalar: SV 0x7a5e6d0, Perl interpreter: 0x1b1b010 at /home/david/cpantesting/perl-5.24.1/.cpan/build/KiokuDB-0.57-gOrps9/blib/lib/KiokuDB/Test/Fixture/Sets.pm line 150.
Attempt to free unreferenced scalar: SV 0x786dfd0, Perl interpreter: 0x1b1b010 at /home/david/cpantesting/perl-5.24.1/.cpan/build/KiokuDB-0.57-gOrps9/blib/lib/KiokuDB/Test/Fixture/Sets.pm line 150.
Attempt to free unreferenced scalar: SV 0x7110da0, Perl interpreter: 0x1b1b010 at /home/david/cpantesting/perl-5.24.1/.cpan/build/KiokuDB-0.57-gOrps9/blib/lib/KiokuDB/Test/Fixture/Sets.pm line 150.
Attempt to free unreferenced scalar: SV 0x7418a18, Perl interpreter: 0x1b1b010 at /home/david/cpantesting/perl-5.24.1/.cpan/build/KiokuDB-0.57-gOrps9/blib/lib/KiokuDB/Test/Fixture/Sets.pm line 150.
Attempt to free unreferenced scalar: SV 0x70a2728, Perl interpreter: 0x1b1b010 at /home/david/cpantesting/perl-5.24.1/.cpan/build/KiokuDB-0.57-gOrps9/blib/lib/KiokuDB/Test/Fixture/Sets.pm line 150.
t/hash.t ....................... ok
t/hash_backend.t ............... ok
t/jspon_serialization.t ........ ok
t/kiokudb_class_native.t ....... ok
t/lazy.t ....................... ok
t/link_checker.t ............... ok
t/link_checker_real.t .......... ok
t/live_objs.t .................. ok
t/moose_triggers.t ............. ok
t/ref.t ........................ ok
t/scaling.t .................... ok
t/serializer.t ................. ok
t/stream.t ..................... ok
t/tied.t ....................... ok
t/typemap.t .................... ok
t/typemap_default_json.t ....... ok
t/typemap_default_storable.t ... ok
t/typemap_entry_callback.t ..... ok
t/typemap_entry_mop.t .......... ok
t/typemap_entry_naive.t ........ ok
t/typemap_entry_passthrough.t .. ok
t/typemap_entry_storable.t ..... ok
t/typemap_extra.t .............. ok
t/typemap_resolver.t ........... ok
t/typemap_values.t ............. ok
t/uuid.t ....................... ok
t/versioning.t ................. ok
All tests successful.
Files=35, Tests=22633, 194 wallclock secs ( 1.61 usr  0.35 sys + 65.76 cusr  4.21 csys = 71.93 CPU)
Result: PASS

------------------------------
PREREQUISITES
------------------------------

Prerequisite modules loaded:

requires:

    Module                                         Need   Have    
    ---------------------------------------------- ------ --------
    B                                              0      1.62    
    B::Deparse                                     0      1.37    
    Cache::Ref                                     0.02   0.04    
    Carp                                           0      1.40    
    Class::Load                                    0      0.24    
    constant                                       0      1.33    
    Data::Stream::Bulk                             0.08   0.11    
    Data::Stream::Bulk::Util                       0      0.11    
    Data::Swap                                     0      0.08    
    Data::UUID                                     1.203  1.221   
    Data::Visitor                                  0.24   0.30    
    Digest::SHA                                    0      5.95_01 
    Encode                                         0      2.80_01 
    Hash::Util::FieldHash::Compat                  0      0.11    
    IO::Handle                                     0      1.36    
    JSON                                           2.12   2.94    
    JSON::XS                                       2.231  3.04    
    List::Util                                     0      1.48    
    Module::Pluggable::Object                      0      5.2     
    Moose                                          2.0000 2.2006  
    Moose::Exporter                                0      2.2006  
    Moose::Role                                    0      2.2006  
    Moose::Util                                    0      2.2006  
    Moose::Util::MetaRole                          0      2.2006  
    Moose::Util::TypeConstraints                   0      2.2006  
    MooseX::Clone                                  0.04   0.06    
    MooseX::Clone::Meta::Attribute::Trait::NoClone 0      0.06    
    MooseX::Role::Parameterized                    0.10   1.10    
    MooseX::YAML                                   0.04   0.04    
    namespace::clean                               0.08   0.27    
    overload                                       0      1.26    
    PadWalker                                      1.9    2.2     
    Path::Class                                    0      0.37    
    POSIX                                          0      1.65    
    Scalar::Util                                   0      1.48    
    Scope::Guard                                   0      0.21    
    Search::GIN::Driver                            0      0.11    
    Search::GIN::Extract                           0      0.11    
    Search::GIN::Query::Class                      0.03   0.11    
    Set::Object                                    1.26   1.35    
    Storable                                       0      2.56_01 
    strict                                         0      1.11    
    Sub::Exporter                                  0      0.987   
    Symbol                                         0      1.07    
    Test::Exception                                0      0.43    
    Test::Moose                                    0      2.2006  
    Test::More                                     0.88   1.302086
    Throwable                                      0      0.200013
    Tie::RefHash                                   0      1.39    
    Tie::ToObject                                  0      0.03    
    Try::Tiny                                      0      0.28    
    utf8                                           0      1.19    
    warnings                                       0      1.36    
    YAML::XS                                       0.30   0.66    

build_requires:

    Module                                         Need   Have    
    ---------------------------------------------- ------ --------
    base                                           0      2.23    
    Cache::Ref::CART                               0      0.04    
    Cache::Ref::CLOCK                              0      0.04    
    Data::Dumper                                   0      2.160   
    Data::Stream::Bulk::Callback                   0      0.11    
    File::Spec                                     0      3.63_01 
    if                                             0      0.0606  
    IO::Handle                                     0      1.36    
    IPC::Open3                                     0      1.20    
    Search::GIN::Driver::Hash                      0      0.11    
    Search::GIN::Extract::Class                    0      0.11    
    Search::GIN::Extract::Delegate                 0      0.11    
    Test::More                                     0.88   1.302086

configure_requires:

    Module                                         Need   Have    
    ---------------------------------------------- ------ --------
    ExtUtils::MakeMaker                            6.30   7.10_02 


------------------------------
ENVIRONMENT AND OTHER CONTEXT
------------------------------

Environment variables:

    AUTOMATED_TESTING = 1
    NONINTERACTIVE_TESTING = 1
    PATH = /usr/local/bin:/usr/bin:/bin:/usr/local/games:/usr/games
    PERL = 5.24.1
    PERL5LIB = 
    PERL5OPT = 
    PERL5_CPANPLUS_IS_RUNNING = 28325
    PERL5_CPAN_IS_RUNNING = 28325
    PERLVER = 5.24.1
    PERL_INLINE_DIRECTORY = /home/david/.Inline-5.24.1
    PERL_MM_USE_DEFAULT = 1
    PERL_USE_UNSAFE_INC = 0
    SHELL = /bin/bash
    TERM = screen

Perl special variables (and OS-specific diagnostics, for MSWin32):

    $^X = /home/david/cpantesting/perl-5.24.1/bin/perl
    $UID/$EUID = 1000 / 1000
    $GID = 1000 1000
    $EGID = 1000 1000

Perl module toolchain versions installed:

    Module              Have      
    ------------------- ----------
    CPAN                2.11_01   
    CPAN::Meta          2.150005  
    Cwd                 3.63_01   
    ExtUtils::CBuilder  0.280225  
    ExtUtils::Command   7.10_02   
    ExtUtils::Install   2.04      
    ExtUtils::MakeMaker 7.10_02   
    ExtUtils::Manifest  1.70      
    ExtUtils::ParseXS   3.31      
    File::Spec          3.63_01   
    JSON                2.94      
    JSON::PP            2.27300_01
    Module::Build       0.4224    
    Module::Signature   n/a       
    Parse::CPAN::Meta   1.4417_001
    Test::Harness       3.36_01   
    Test::More          1.302086  
    YAML                1.23      
    YAML::Syck          n/a       
    version             0.9916    


--

Summary of my perl5 (revision 5 version 24 subversion 1) configuration:
   
  Platform:
    osname=linux, osvers=3.16.0-4-amd64, archname=x86_64-linux-thread-multi
    uname='linux pigsty.barnyard.co.uk 3.16.0-4-amd64 #1 smp debian 3.16.36-1+deb8u1 (2016-09-03) x86_64 gnulinux '
    config_args='-de -Duse64bitall -Dusethreads -Dprefix=/home/david/cpantesting/perl-5.24.1'
    hint=recommended, useposix=true, d_sigaction=define
    useithreads=define, usemultiplicity=define
    use64bitint=define, use64bitall=define, uselongdouble=undef
    usemymalloc=n, bincompat5005=undef
  Compiler:
    cc='cc', ccflags ='-D_REENTRANT -D_GNU_SOURCE -fwrapv -fno-strict-aliasing -pipe -fstack-protector-strong -I/usr/local/include -D_LARGEFILE_SOURCE -D_FILE_OFFSET_BITS=64 -D_FORTIFY_SOURCE=2',
    optimize='-O2',
    cppflags='-D_REENTRANT -D_GNU_SOURCE -fwrapv -fno-strict-aliasing -pipe -fstack-protector-strong -I/usr/local/include'
    ccversion='', gccversion='4.9.2', gccosandvers=''
    intsize=4, longsize=8, ptrsize=8, doublesize=8, byteorder=12345678, doublekind=3
    d_longlong=define, longlongsize=8, d_longdbl=define, longdblsize=16, longdblkind=3
    ivtype='long', ivsize=8, nvtype='double', nvsize=8, Off_t='off_t', lseeksize=8
    alignbytes=8, prototype=define
  Linker and Libraries:
    ld='cc', ldflags =' -fstack-protector-strong -L/usr/local/lib'
    libpth=/usr/local/lib /usr/lib/gcc/x86_64-linux-gnu/4.9/include-fixed /usr/include/x86_64-linux-gnu /usr/lib /lib/x86_64-linux-gnu /lib/../lib /usr/lib/x86_64-linux-gnu /usr/lib/../lib /lib
    libs=-lpthread -lnsl -ldb -ldl -lm -lcrypt -lutil -lc
    perllibs=-lpthread -lnsl -ldl -lm -lcrypt -lutil -lc
    libc=libc-2.19.so, so=so, useshrplib=false, libperl=libperl.a
    gnulibc_version='2.19'
  Dynamic Linking:
    dlsrc=dl_dlopen.xs, dlext=so, d_dlsymun=undef, ccdlflags='-Wl,-E'
    cccdlflags='-fPIC', lddlflags='-shared -O2 -L/usr/local/lib -fstack-protector-strong'


Characteristics of this binary (from libperl): 
  Compile-time options: HAS_TIMES MULTIPLICITY PERLIO_LAYERS
                        PERL_COPY_ON_WRITE PERL_DONT_CREATE_GVSV
                        PERL_HASH_FUNC_ONE_AT_A_TIME_HARD
                        PERL_IMPLICIT_CONTEXT PERL_MALLOC_WRAP
                        PERL_PRESERVE_IVUV USE_64_BIT_ALL USE_64_BIT_INT
                        USE_ITHREADS USE_LARGE_FILES USE_LOCALE
                        USE_LOCALE_COLLATE USE_LOCALE_CTYPE
                        USE_LOCALE_NUMERIC USE_LOCALE_TIME USE_PERLIO
                        USE_PERL_ATOF USE_REENTRANT_API
  Built under linux
  Compiled at Jan 17 2017 16:38:59
  %ENV:
    PERL="5.24.1"
    PERL5LIB=""
    PERL5OPT=""
    PERL5_CPANPLUS_IS_RUNNING="28325"
    PERL5_CPAN_IS_RUNNING="28325"
    PERLVER="5.24.1"
    PERL_INLINE_DIRECTORY="/home/david/.Inline-5.24.1"
    PERL_MM_USE_DEFAULT="1"
    PERL_USE_UNSAFE_INC="0"
  @INC:
    /home/david/cpantesting/perl-5.24.1/lib/site_perl/5.24.1/x86_64-linux-thread-multi
    /home/david/cpantesting/perl-5.24.1/lib/site_perl/5.24.1
    /home/david/cpantesting/perl-5.24.1/lib/5.24.1/x86_64-linux-thread-multi
    /home/david/cpantesting/perl-5.24.1/lib/5.24.1
    .