Math-PlanePath v127 Perl 5 v5.24.4 x86_64-linux-thread-multi
- Status
- Pass
- From
- Nigel Horne
- Dist
-
Math-PlanePath v127
- Platform
- Perl 5 v5.24.4 x86_64-linux-thread-multi
- Date
- 2019-08-17 16:47:06
- ID
- a5892eec-c10e-11e9-b3d5-5f9101cf0b95
This distribution has been tested as part of the CPAN Testers
project, supporting the Perl programming language. See
http://wiki.cpantesters.org/ for more information or email
questions to cpan-testers-discuss@perl.org
--
Dear Kevin Ryde,
This is a computer-generated report for Math-PlanePath-127
on perl 5.24.4, created by CPAN-Reporter-1.2018.
Thank you for uploading your work to CPAN. Congratulations!
All tests were successful.
Sections of this report:
* Tester comments
* Program output
* Prerequisites
* Environment and other context
------------------------------
TESTER COMMENTS
------------------------------
Additional comments from tester:
this report is from an automated smoke testing program
and was not reviewed by a human for accuracy
------------------------------
PROGRAM OUTPUT
------------------------------
Output from '/usr/bin/make test':
PERL_DL_NONLAZY=1 "/home/smoker/perl5/perlbrew/perls/perl-5.24.4-thread/bin/perl" "-MExtUtils::Command::MM" "-MTest::Harness" "-e" "undef *Test::Harness::Switches; test_harness(0, 'blib/lib', 'blib/arch')" t/*.t
t/AlternatePaperMidpoint.t ...... ok
t/AlternateTerdragon.t .......... ok
t/AlternatePaper.t .............. ok
t/ArchimedeanChords.t ........... ok
t/AztecDiamondRings.t ........... ok
# modulo operator dodginess ((~0)%2) != ((~0)&1): no (good)
# round_down_pow(3) tests stop for round-off at i=34
# round_up_pow(3) tests stop for round-off at i=33
t/Base-Digits.t ................. ok
t/AnvilSpiral.t ................. ok
# Data::Float not available
t/Base-Generic.t ................ ok
t/BetaOmeta.t ................... ok
# skip due to Math::BigInt::Lite not available -- Can't locate Math/BigInt/Lite.pm in @INC (you may need to install the Math::BigInt::Lite module) (@INC contains: t /tmp/build/Math-PlanePath-127-0/blib/lib /tmp/build/Math-PlanePath-127-0/blib/arch /tmp/build/constant-defer-6-0/blib/arch /tmp/build/constant-defer-6-0/blib/lib /tmp/build/Math-Libm-1.00-0/blib/arch /tmp/build/Math-Libm-1.00-0/blib/lib /home/smoker/perl5/perlbrew/perls/perl-5.24.4-thread/lib/site_perl/5.24.4/x86_64-linux-thread-multi /home/smoker/perl5/perlbrew/perls/perl-5.24.4-thread/lib/site_perl/5.24.4 /home/smoker/perl5/perlbrew/perls/perl-5.24.4-thread/lib/5.24.4/x86_64-linux-thread-multi /home/smoker/perl5/perlbrew/perls/perl-5.24.4-thread/lib/5.24.4 .) at t/bigint-lite.t line 31.
#
t/bigint-lite.t ................. ok
# Math::BigFloat version 1.999715
# Math::BigInt version 1.999715
# Math::BigInt version 1.999715
# Math::BigInt version 1.999715
# +inf is inf
# -inf is -inf
# nan is NaN
t/bigfloat.t .................... ok
t/CCurve.t ...................... ok
# bitwise check rule=2
# bitwise check rule=4
# bitwise check rule=6
# bitwise check rule=10
# bitwise check rule=12
# bitwise check rule=14
# bitwise check rule=16
# bitwise check rule=18
# bitwise check rule=20
# bitwise check rule=24
# bitwise check rule=26
# bitwise check rule=34
# bitwise check rule=36
# bitwise check rule=38
# bitwise check rule=42
# bitwise check rule=44
# bitwise check rule=46
# bitwise check rule=48
# bitwise check rule=50
# bitwise check rule=52
# bitwise check rule=54
# bitwise check rule=56
# bitwise check rule=57
# bitwise check rule=58
# bitwise check rule=60
# bitwise check rule=66
# bitwise check rule=68
# bitwise check rule=74
# bitwise check rule=76
# bitwise check rule=80
# bitwise check rule=82
# bitwise check rule=84
# bitwise check rule=88
# bitwise check rule=90
# bitwise check rule=98
# bitwise check rule=99
# bitwise check rule=100
# bitwise check rule=102
# bitwise check rule=106
# bitwise check rule=108
# bitwise check rule=112
# bitwise check rule=114
# bitwise check rule=116
# bitwise check rule=120
# bitwise check rule=122
# bitwise check rule=130
# bitwise check rule=132
# bitwise check rule=134
# bitwise check rule=138
# bitwise check rule=140
# bitwise check rule=142
# bitwise check rule=144
# bitwise check rule=146
# bitwise check rule=148
# bitwise check rule=151
# bitwise check rule=152
# bitwise check rule=154
# bitwise check rule=159
# bitwise check rule=162
# bitwise check rule=164
# bitwise check rule=166
# bitwise check rule=170
# bitwise check rule=172
# bitwise check rule=174
# bitwise check rule=176
# bitwise check rule=178
# bitwise check rule=179
# bitwise check rule=180
# bitwise check rule=183
# bitwise check rule=184
# bitwise check rule=186
# bitwise check rule=190
# bitwise check rule=191
# bitwise check rule=194
# bitwise check rule=196
# bitwise check rule=202
# bitwise check rule=204
# bitwise check rule=206
# bitwise check rule=208
# bitwise check rule=210
# bitwise check rule=212
# bitwise check rule=215
# bitwise check rule=216
# bitwise check rule=218
# bitwise check rule=220
# bitwise check rule=222
# bitwise check rule=223
# bitwise check rule=226
# bitwise check rule=228
# bitwise check rule=234
# bitwise check rule=236
# bitwise check rule=238
# bitwise check rule=240
# bitwise check rule=242
# bitwise check rule=244
# bitwise check rule=246
# bitwise check rule=247
# bitwise check rule=248
# bitwise check rule=250
# bitwise check rule=252
# bitwise check rule=254
# bitwise check rule=255
# bitwise checks 102
t/CellularRule.t ................ ok
t/CellularRule190.t ............. ok
t/CfracDigits.t ................. ok
t/ChanTree.t .................... ok
t/CincoCurve.t .................. ok
t/Columns-load.t ................ ok
t/Columns.t ..................... ok
t/ComplexMinus.t ................ ok
t/ComplexPlus.t ................. ok
t/CoprimeColumns.t .............. ok
t/Corner.t ...................... ok
t/CornerReplicate.t ............. ok
t/CubicBase.t ................... ok
t/bigint.t ...................... ok
t/DekkingCurve.t ................ ok
t/Diagonals.t ................... ok
t/DiamondArms.t ................. ok
t/DiagonalRationals.t ........... ok
t/DiamondSpiral.t ............... ok
t/DigitGroups.t ................. ok
t/DivisibleColumns.t ............ ok
t/DragonCurve.t ................. ok
t/DragonMidpoint.t .............. ok
t/DragonRounded.t ............... ok
t/FibonacciWordFractal.t ........ ok
t/FactorRationals.t ............. ok
t/File.t ........................ ok
t/FilledRings.t ................. ok
t/Flowsnake.t ................... ok
t/GcdRationals.t ................ ok
t/FlowsnakeCentres.t ............ ok
t/GosperReplicate.t ............. ok
t/GosperSide.t .................. ok
t/GrayCode.t .................... ok
t/GosperIslands.t ............... ok
t/HexArms.t ..................... ok
t/HexSpiral-load.t .............. ok
t/HexSpiral.t ................... ok
t/HexSpiralSkewed-unskew.t ...... ok
t/HexSpiralSkewed.t ............. ok
t/HilbertCurve-load.t ........... ok
t/HilbertCurve.t ................ ok
t/HilbertSpiral.t ............... ok
t/HIndexing.t ................... ok
t/Hypot.t ....................... ok
t/HypotOctant.t ................. ok
t/ImaginaryBase.t ............... ok
t/ImaginaryHalf.t ............... ok
t/KnightSpiral.t ................ ok
t/KochCurve.t ................... ok
t/KochelCurve.t ................. ok
t/KochPeaks.t ................... ok
t/GreekKeySpiral.t .............. ok
t/KochSnowflakes.t .............. ok
t/KochSquareflakes.t ............ ok
t/LTiling.t ..................... ok
t/MultipleRings.t ............... ok
# skip due to Number::Fraction 1.14 not available -- Can't locate Number/Fraction.pm in @INC (you may need to install the Number::Fraction module) (@INC contains: t /tmp/build/Math-PlanePath-127-0/blib/lib /tmp/build/Math-PlanePath-127-0/blib/arch /tmp/build/constant-defer-6-0/blib/arch /tmp/build/constant-defer-6-0/blib/lib /tmp/build/Math-Libm-1.00-0/blib/arch /tmp/build/Math-Libm-1.00-0/blib/lib /home/smoker/perl5/perlbrew/perls/perl-5.24.4-thread/lib/site_perl/5.24.4/x86_64-linux-thread-multi /home/smoker/perl5/perlbrew/perls/perl-5.24.4-thread/lib/site_perl/5.24.4 /home/smoker/perl5/perlbrew/perls/perl-5.24.4-thread/lib/5.24.4/x86_64-linux-thread-multi /home/smoker/perl5/perlbrew/perls/perl-5.24.4-thread/lib/5.24.4 .) at (eval 2) line 1.
# BEGIN failed--compilation aborted at (eval 2) line 1.
#
t/number-fraction.t ............. ok
# skip due to Math::NumSeq not available -- Can't locate Math/NumSeq.pm in @INC (you may need to install the Math::NumSeq module) (@INC contains: t /tmp/build/Math-PlanePath-127-0/blib/lib /tmp/build/Math-PlanePath-127-0/blib/arch /tmp/build/constant-defer-6-0/blib/arch /tmp/build/constant-defer-6-0/blib/lib /tmp/build/Math-Libm-1.00-0/blib/arch /tmp/build/Math-Libm-1.00-0/blib/lib /home/smoker/perl5/perlbrew/perls/perl-5.24.4-thread/lib/site_perl/5.24.4/x86_64-linux-thread-multi /home/smoker/perl5/perlbrew/perls/perl-5.24.4-thread/lib/site_perl/5.24.4 /home/smoker/perl5/perlbrew/perls/perl-5.24.4-thread/lib/5.24.4/x86_64-linux-thread-multi /home/smoker/perl5/perlbrew/perls/perl-5.24.4-thread/lib/5.24.4 .) at t/NumSeq-PlanePathCoord.t line 31.
#
t/NumSeq-PlanePathCoord.t ....... ok
# skip due to Math::NumSeq not available -- Can't locate Math/NumSeq.pm in @INC (you may need to install the Math::NumSeq module) (@INC contains: t /tmp/build/Math-PlanePath-127-0/blib/lib /tmp/build/Math-PlanePath-127-0/blib/arch /tmp/build/constant-defer-6-0/blib/arch /tmp/build/constant-defer-6-0/blib/lib /tmp/build/Math-Libm-1.00-0/blib/arch /tmp/build/Math-Libm-1.00-0/blib/lib /home/smoker/perl5/perlbrew/perls/perl-5.24.4-thread/lib/site_perl/5.24.4/x86_64-linux-thread-multi /home/smoker/perl5/perlbrew/perls/perl-5.24.4-thread/lib/site_perl/5.24.4 /home/smoker/perl5/perlbrew/perls/perl-5.24.4-thread/lib/5.24.4/x86_64-linux-thread-multi /home/smoker/perl5/perlbrew/perls/perl-5.24.4-thread/lib/5.24.4 .) at t/NumSeq-PlanePathDelta.t line 35.
#
t/NumSeq-PlanePathDelta.t ....... ok
# skip due to Math::NumSeq not available -- Can't locate Math/NumSeq.pm in @INC (you may need to install the Math::NumSeq module) (@INC contains: t /tmp/build/Math-PlanePath-127-0/blib/lib /tmp/build/Math-PlanePath-127-0/blib/arch /tmp/build/constant-defer-6-0/blib/arch /tmp/build/constant-defer-6-0/blib/lib /tmp/build/Math-Libm-1.00-0/blib/arch /tmp/build/Math-Libm-1.00-0/blib/lib /home/smoker/perl5/perlbrew/perls/perl-5.24.4-thread/lib/site_perl/5.24.4/x86_64-linux-thread-multi /home/smoker/perl5/perlbrew/perls/perl-5.24.4-thread/lib/site_perl/5.24.4 /home/smoker/perl5/perlbrew/perls/perl-5.24.4-thread/lib/5.24.4/x86_64-linux-thread-multi /home/smoker/perl5/perlbrew/perls/perl-5.24.4-thread/lib/5.24.4 .) at t/NumSeq-PlanePathN.t line 31.
#
t/NumSeq-PlanePathN.t ........... ok
# skip due to Math::NumSeq not available -- Can't locate Math/NumSeq.pm in @INC (you may need to install the Math::NumSeq module) (@INC contains: t /tmp/build/Math-PlanePath-127-0/blib/lib /tmp/build/Math-PlanePath-127-0/blib/arch /tmp/build/constant-defer-6-0/blib/arch /tmp/build/constant-defer-6-0/blib/lib /tmp/build/Math-Libm-1.00-0/blib/arch /tmp/build/Math-Libm-1.00-0/blib/lib /home/smoker/perl5/perlbrew/perls/perl-5.24.4-thread/lib/site_perl/5.24.4/x86_64-linux-thread-multi /home/smoker/perl5/perlbrew/perls/perl-5.24.4-thread/lib/site_perl/5.24.4 /home/smoker/perl5/perlbrew/perls/perl-5.24.4-thread/lib/5.24.4/x86_64-linux-thread-multi /home/smoker/perl5/perlbrew/perls/perl-5.24.4-thread/lib/5.24.4 .) at t/NumSeq-PlanePathTurn.t line 35.
#
t/NumSeq-PlanePathTurn.t ........ ok
t/PeanoCurve-load.t ............. ok
t/PeanoCurve.t .................. ok
t/PlanePath.t ................... ok
t/PyramidRows.t ................. ok
# have_53bits: 1
t/PythagoreanTree.t ............. ok
t/QuadricCurve.t ................ ok
t/QuadricIslands.t .............. ok
t/PixelRings.t .................. ok
t/QuintetCentres.t .............. ok
t/QuintetReplicate.t ............ ok
t/RationalsTree.t ............... ok
t/Rows-load.t ................... ok
t/QuintetCurve.t ................ ok
t/Rows.t ........................ ok
t/SacksSpiral.t ................. ok
t/SierpinskiArrowheadCentres.t .. ok
t/SierpinskiArrowhead.t ......... ok
t/SierpinskiCurveStair.t ........ ok
t/SierpinskiTriangle.t .......... ok
t/SierpinskiCurve.t ............. ok
t/SquareSpiral.t ................ ok
t/Staircase.t ................... ok
t/SquareReplicate.t ............. ok
t/TerdragonCurve.t .............. ok
t/TerdragonMidpoint.t ........... ok
t/TheodorusSpiral.t ............. ok
t/StaircaseAlternating.t ........ ok
t/TriangularHypot.t ............. ok
t/UlamWarburton.t ............... ok
t/UlamWarburtonQuarter.t ........ ok
t/WythoffArray.t ................ ok
t/VogelFloret.t ................. ok
t/ZOrderCurve.t ................. ok
All tests successful.
Files=107, Tests=35229, 21 wallclock secs ( 2.95 usr 0.30 sys + 17.16 cusr 0.92 csys = 21.33 CPU)
Result: PASS
------------------------------
PREREQUISITES
------------------------------
Prerequisite modules loaded:
requires:
Module Need Have
------------------- ----- --------
constant 1.02 1.33
constant::defer 5 6
List::Util 0 1.42_02
Math::Libm 0 1.00
perl 5.004 5.024004
build_requires:
Module Need Have
------------------- ----- --------
ExtUtils::MakeMaker 0 7.34
Test 0 1.28_01
configure_requires:
Module Need Have
------------------- ----- --------
ExtUtils::MakeMaker 0 7.34
------------------------------
ENVIRONMENT AND OTHER CONTEXT
------------------------------
Environment variables:
AUTOMATED_TESTING = 1
HARNESS_OPTIONS = j2
NONINTERACTIVE_TESTING = 1
PATH = /home/smoker/perl5/perlbrew/bin:/home/smoker/perl5/perlbrew/perls/perl-5.24.4-thread/bin:/usr/local/sbin:/usr/local/bin:/usr/sbin:/usr/bin:/sbin:/bin
PERL5LIB = /tmp/build/constant-defer-6-0/blib/arch:/tmp/build/constant-defer-6-0/blib/lib:/tmp/build/Math-Libm-1.00-0/blib/arch:/tmp/build/Math-Libm-1.00-0/blib/lib
PERL5OPT =
PERL5_CPANPLUS_IS_RUNNING = 519
PERL5_CPAN_IS_RUNNING = 519
PERLBREW_HOME = /home/smoker/.perlbrew
PERLBREW_MANPATH = /home/smoker/perl5/perlbrew/perls/perl-5.24.4-thread/man
PERLBREW_PATH = /home/smoker/perl5/perlbrew/bin:/home/smoker/perl5/perlbrew/perls/perl-5.24.4-thread/bin
PERLBREW_PERL = perl-5.24.4-thread
PERLBREW_ROOT = /home/smoker/perl5/perlbrew
PERLBREW_SHELLRC_VERSION = 0.85
PERLBREW_VERSION = 0.85
PERL_MM_USE_DEFAULT = 1
SHELL = /bin/bash
TERM = xterm
TMPDIR = /tmp/testwrapper.508
Perl special variables (and OS-specific diagnostics, for MSWin32):
$^X = /home/smoker/perl5/perlbrew/perls/perl-5.24.4-thread/bin/perl
$UID/$EUID = 1000 / 1000
$GID = 1000
$EGID = 1000
Perl module toolchain versions installed:
Module Have
------------------- ----------
CPAN 2.16
CPAN::Meta 2.150005
Cwd 3.75
ExtUtils::CBuilder 0.280225
ExtUtils::Command 7.34
ExtUtils::Install 2.06
ExtUtils::MakeMaker 7.34
ExtUtils::Manifest 1.70
ExtUtils::ParseXS 3.31
File::Spec 3.75
JSON 4.00
JSON::PP 2.27300_01
Module::Build 0.4224
Module::Signature n/a
Parse::CPAN::Meta 1.4417_001
Test::Harness 3.36_01
Test::More 1.001014
YAML 1.27
YAML::Syck 1.31
version 0.9916
--
Summary of my perl5 (revision 5 version 24 subversion 4) configuration:
Platform:
osname=linux, osvers=4.16.0-2-amd64, archname=x86_64-linux-thread-multi
uname='linux c97ce3d81cf3 4.16.0-2-amd64 #1 smp debian 4.16.16-2 (2018-06-22) x86_64 gnulinux '
config_args='-de -Dprefix=/home/smoker/perl5/perlbrew/perls/perl-5.24.4-thread -Dusethreads -Accflags=-O2 -pipe -Wall -Wextra -mtune=native -march=native -Aeval:scriptdir=/home/smoker/perl5/perlbrew/perls/perl-5.24.4-thread/bin'
hint=recommended, useposix=true, d_sigaction=define
useithreads=define, usemultiplicity=define
use64bitint=define, use64bitall=define, uselongdouble=undef
usemymalloc=n, bincompat5005=undef
Compiler:
cc='cc', ccflags ='-D_REENTRANT -D_GNU_SOURCE -O2 -pipe -Wall -Wextra -mtune=native -march=native -fwrapv -fno-strict-aliasing -fstack-protector-strong -I/usr/local/include -D_LARGEFILE_SOURCE -D_FILE_OFFSET_BITS=64 -D_FORTIFY_SOURCE=2',
optimize='-O2',
cppflags='-D_REENTRANT -D_GNU_SOURCE -O2 -pipe -Wall -Wextra -mtune=native -march=native -fwrapv -fno-strict-aliasing -fstack-protector-strong -I/usr/local/include'
ccversion='', gccversion='6.3.0 20170516', gccosandvers=''
intsize=4, longsize=8, ptrsize=8, doublesize=8, byteorder=12345678, doublekind=3
d_longlong=define, longlongsize=8, d_longdbl=define, longdblsize=16, longdblkind=3
ivtype='long', ivsize=8, nvtype='double', nvsize=8, Off_t='off_t', lseeksize=8
alignbytes=8, prototype=define
Linker and Libraries:
ld='cc', ldflags =' -fstack-protector-strong -L/usr/local/lib'
libpth=/usr/local/lib /usr/lib/gcc/x86_64-linux-gnu/6/include-fixed /usr/include/x86_64-linux-gnu /usr/lib /lib/x86_64-linux-gnu /lib/../lib /usr/lib/x86_64-linux-gnu /usr/lib/../lib /lib
libs=-lpthread -lnsl -ldl -lm -lcrypt -lutil -lc
perllibs=-lpthread -lnsl -ldl -lm -lcrypt -lutil -lc
libc=libc-2.24.so, so=so, useshrplib=false, libperl=libperl.a
gnulibc_version='2.24'
Dynamic Linking:
dlsrc=dl_dlopen.xs, dlext=so, d_dlsymun=undef, ccdlflags='-Wl,-E'
cccdlflags='-fPIC', lddlflags='-shared -O2 -L/usr/local/lib -fstack-protector-strong'
Characteristics of this binary (from libperl):
Compile-time options: HAS_TIMES MULTIPLICITY PERLIO_LAYERS
PERL_COPY_ON_WRITE PERL_DONT_CREATE_GVSV
PERL_HASH_FUNC_ONE_AT_A_TIME_HARD
PERL_IMPLICIT_CONTEXT PERL_MALLOC_WRAP
PERL_PRESERVE_IVUV USE_64_BIT_ALL USE_64_BIT_INT
USE_ITHREADS USE_LARGE_FILES USE_LOCALE
USE_LOCALE_COLLATE USE_LOCALE_CTYPE
USE_LOCALE_NUMERIC USE_LOCALE_TIME USE_PERLIO
USE_PERL_ATOF USE_REENTRANT_API
Locally applied patches:
Devel::PatchPerl 1.52
Built under linux
Compiled at Dec 16 2018 20:30:02
%ENV:
PERL5LIB="/tmp/build/constant-defer-6-0/blib/arch:/tmp/build/constant-defer-6-0/blib/lib:/tmp/build/Math-Libm-1.00-0/blib/arch:/tmp/build/Math-Libm-1.00-0/blib/lib"
PERL5OPT=""
PERL5_CPANPLUS_IS_RUNNING="519"
PERL5_CPAN_IS_RUNNING="519"
PERLBREW_HOME="/home/smoker/.perlbrew"
PERLBREW_MANPATH="/home/smoker/perl5/perlbrew/perls/perl-5.24.4-thread/man"
PERLBREW_PATH="/home/smoker/perl5/perlbrew/bin:/home/smoker/perl5/perlbrew/perls/perl-5.24.4-thread/bin"
PERLBREW_PERL="perl-5.24.4-thread"
PERLBREW_ROOT="/home/smoker/perl5/perlbrew"
PERLBREW_SHELLRC_VERSION="0.85"
PERLBREW_VERSION="0.85"
PERL_MM_USE_DEFAULT="1"
@INC:
/tmp/build/constant-defer-6-0/blib/arch
/tmp/build/constant-defer-6-0/blib/lib
/tmp/build/Math-Libm-1.00-0/blib/arch
/tmp/build/Math-Libm-1.00-0/blib/lib
/home/smoker/perl5/perlbrew/perls/perl-5.24.4-thread/lib/site_perl/5.24.4/x86_64-linux-thread-multi
/home/smoker/perl5/perlbrew/perls/perl-5.24.4-thread/lib/site_perl/5.24.4
/home/smoker/perl5/perlbrew/perls/perl-5.24.4-thread/lib/5.24.4/x86_64-linux-thread-multi
/home/smoker/perl5/perlbrew/perls/perl-5.24.4-thread/lib/5.24.4
.