Report for Gungho-0.09008

Back
From: metabase:user:d2c9f356-b46f-11df-9a90-20a83c0b7757
Subject: PASS Gungho-0.09008 v5.12.4 SunOS/Solaris
Date: 2011-07-02T19:36:56Z

This distribution has been tested as part of the CPAN Testers
project, supporting the Perl programming language.  See
http://wiki.cpantesters.org/ for more information or email
questions to cpan-testers-discuss@perl.org


--
Dear Daisuke Maki,

This is a computer-generated report for Gungho-0.09008
on perl 5.12.4, created by CPAN-Reporter-1.1902.

Thank you for uploading your work to CPAN.  Congratulations!
All tests were successful.

Sections of this report:

    * Tester comments
    * Program output
    * Prerequisites
    * Environment and other context

------------------------------
TESTER COMMENTS
------------------------------

Additional comments from tester:

this report is from an automated smoke testing program
and was not reviewed by a human for accuracy

------------------------------
PROGRAM OUTPUT
------------------------------

Output from '/usr/local/bin/make test':

/export/home/cpant3/perl5/bin/perl5.12.4 "-Iinc" Makefile.PL --config= --installdeps=POE,0.9999,POE::Component::Client::DNS,0,POE::Component::Client::Keepalive,0,POE::Component::Client::HTTP,0.81,Best,0,Event::Notify,0.00004,Class::C3::XS,0,POE::Component::Client::Keepalive,0,POE::Component::Client::DNS,0,POE::Component::Client::HTTP,0,POE,0,HTML::RobotsMETA,0,DB_File,0,WWW::RobotRules::Parser,0,Data::Valve,0,Data::Valve,0

*** Since we're running under CPANPLUS, I'll just let it take care
    of the dependency's installation later.
PERL_DL_NONLAZY=1 /export/home/cpant3/perl5/bin/perl5.12.4 "-MExtUtils::Command::MM" "-e" "test_harness(0, 'inc', 'blib/lib', 'blib/arch')" t/01_load.t t/02_config.t t/03_live/perl-proxy.t t/03_live/perl.t t/03_live/twitter.t t/99_kwalitee.t t/99_pod-coverage.t t/99_pod.t t/component/authentication/01_load.t t/component/cache/01_load.t t/component/robot_rules/01_load.t t/component/robot_rules/02_storage.t t/component/robot_rules/regression_jkim_20071201.t t/component/robots_meta/01_load.t t/component/scraper/01_load.t t/component/throttle/01_load.t t/engine/danga-socket/01_load.t t/engine/danga-socket/02_live.t t/engine/danga-socket/04_dns.t t/engine/io-async/01_load.t t/engine/io-async/02_live.t t/engine/io-async/04_dns.t t/engine/poe/01_load.t t/engine/poe/02_live.t t/engine/poe/04_dns.t t/engine/poe/05_dns_params.t t/engine/poe/06_dns_disable.t t/plugin/request_log/01_basic.t t/plugin/statistics/01_load.t t/plugin/statistics/02_parts.t t/request/regression_jkim_20071201.t t/response/regression_jkim_20071201.t
t/01_load.t ......................................... ok
t/02_config.t ....................................... ok
t/03_live/perl-proxy.t .............................. skipped: Set proxy URI to GUNGHO_TEST_PROXY to run these tests
t/03_live/perl.t .................................... skipped: Enable GUNGHO_TEST_LIVE to run these tests
t/03_live/twitter.t ................................. skipped: Enable GUNGHO_TWITTER_USERNAME and GUNGHO_TWITTER_PASSWORD to run these tests
t/99_kwalitee.t ..................................... skipped: Enable TEST_KWALITEE to enable these tests
t/99_pod-coverage.t ................................. skipped: Enable TEST_POD environment variable to test POD
t/99_pod.t .......................................... skipped: Enable TEST_POD environment variable to test POD

================================!!! WARNING !!!================================
No engine modules could be loaded. 

The test suite may pass as it is, but Gungho will be useless unless at least
one engine is available
================================!!! WARNING !!!================================
t/component/authentication/01_load.t ................ skipped: No engine available

================================!!! WARNING !!!================================
No engine modules could be loaded. 

The test suite may pass as it is, but Gungho will be useless unless at least
one engine is available
================================!!! WARNING !!!================================
t/component/cache/01_load.t ......................... skipped: No engine available

================================!!! WARNING !!!================================
No engine modules could be loaded. 

The test suite may pass as it is, but Gungho will be useless unless at least
one engine is available
================================!!! WARNING !!!================================
t/component/robot_rules/01_load.t ................... skipped: No engine available
t/component/robot_rules/02_storage.t ................ ok
t/component/robot_rules/regression_jkim_20071201.t .. skipped: RobotRules is not enabled

================================!!! WARNING !!!================================
No engine modules could be loaded. 

The test suite may pass as it is, but Gungho will be useless unless at least
one engine is available
================================!!! WARNING !!!================================
t/component/robots_meta/01_load.t ................... skipped: No engine available

================================!!! WARNING !!!================================
No engine modules could be loaded. 

The test suite may pass as it is, but Gungho will be useless unless at least
one engine is available
================================!!! WARNING !!!================================
t/component/scraper/01_load.t ....................... skipped: No engine available

================================!!! WARNING !!!================================
No engine modules could be loaded. 

The test suite may pass as it is, but Gungho will be useless unless at least
one engine is available
================================!!! WARNING !!!================================
t/component/throttle/01_load.t ...................... skipped: No engine available
t/engine/danga-socket/01_load.t ..................... skipped: Danga::Socket not available
t/engine/danga-socket/02_live.t ..................... skipped: Danga::Socket not available
t/engine/danga-socket/04_dns.t ...................... skipped: Danga::Socket not available
t/engine/io-async/01_load.t ......................... skipped: IO::Async::Buffer not available
t/engine/io-async/02_live.t ......................... skipped: IO::Async::Buffer not available
t/engine/io-async/04_dns.t .......................... skipped: IO::Async::Buffer not available
t/engine/poe/01_load.t .............................. skipped: POE not available
t/engine/poe/02_live.t .............................. skipped: POE not available
t/engine/poe/04_dns.t ............................... skipped: POE not available
t/engine/poe/05_dns_params.t ........................ skipped: POE not available
t/engine/poe/06_dns_disable.t ....................... skipped: POE not available
t/plugin/request_log/01_basic.t ..................... skipped: Enable GUNGHO_TEST_LIVE to run these tests
t/plugin/statistics/01_load.t ....................... ok
t/plugin/statistics/02_parts.t ...................... ok
t/request/regression_jkim_20071201.t ................ ok
t/response/regression_jkim_20071201.t ............... ok
All tests successful.
Files=32, Tests=40,  3 wallclock secs ( 0.10 usr  0.07 sys +  1.14 cusr  0.34 csys =  1.65 CPU)
Result: PASS

------------------------------
PREREQUISITES
------------------------------

Prerequisite modules loaded:

requires:

    Module                            Need    Have      
    --------------------------------- ------- ----------
    Best                              0       0.12      
    Class::Accessor::Fast             0       0.34      
    Class::C3                         0       0.23      
    Class::C3::Componentised          0       1.0009    
    Class::C3::XS                     0       0.13      
    Class::Data::Inheritable          0       0.08      
    Class::Inspector                  0       1.25      
    Config::Any                       0       0.21      
    Data::Dumper                      0       2.131     
  ! Data::Valve                       0       n/a       
  ! DB_File                           0       n/a       
    DBI                               0       1.616     
    Digest::MD5                       0       2.51      
    DirHandle                         0       1.03      
    Event::Notify                     0.00004 0.00004   
    Exception::Class                  0       1.32      
    ExtUtils::MakeMaker               6.56    6.56      
    File::Spec                        0       3.33      
    File::Temp                        0       0.22      
    FindBin                           0       1.50      
    Getopt::Long                      0       2.38      
    HTML::RobotsMETA                  0       0.00004   
    HTTP::Headers::Util               0       6.00      
    HTTP::Request                     0       6.00      
    HTTP::Response                    0       6.01      
    HTTP::Status                      0       6.00      
    IO::Socket::INET                  0       1.31      
    Log::Dispatch                     0       2.29      
    MIME::Base64                      0       3.13      
    Path::Class                       0       0.24      
    Path::Class::Dir                  0       0.24      
    Pod::Usage                        0       1.36      
  ! POE                               0.9999  n/a       
  ! POE::Component::Client::DNS       0       n/a       
  ! POE::Component::Client::HTTP      0.81    n/a       
  ! POE::Component::Client::Keepalive 0       n/a       
    Regexp::Common                    0       2011041701
    Storable                          0       2.25      
    Sys::Hostname                     0       1.11      
    Test::MockObject                  0       1.20110612
    Test::More                        0       0.98      
    Time::HiRes                       0       1.9724    
    UNIVERSAL::isa                    0.06    1.20110614
    UNIVERSAL::require                0       0.13      
    URI                               0       1.58      
    WWW::RobotRules::Parser           0       0.04001   
    XML::LibXML                       0       1.76      
    YAML                              0       0.73      


------------------------------
ENVIRONMENT AND OTHER CONTEXT
------------------------------

Environment variables:

    AUTOMATED_TESTING = 1
    LANG = C
    LD_LIBRARY_PATH = /usr/local/lib:
    PATH = /export/home/cpant3/perl5/bin:/usr/local/bin:/usr/bin
    PERL5LIB = /export/home/cpant3/.cpan/build/Event-Notify-0.00004-6afGns/blib/arch:/export/home/cpant3/.cpan/build/Event-Notify-0.00004-6afGns/blib/lib:/export/home/cpant3/.cpan/build/Class-C3-XS-0.13-yy52lb/blib/arch:/export/home/cpant3/.cpan/build/Class-C3-XS-0.13-yy52lb/blib/lib:/export/home/cpant3/.cpan/build/Best-0.12-6O6VSx/blib/arch:/export/home/cpant3/.cpan/build/Best-0.12-6O6VSx/blib/lib:/export/home/cpant3/.cpan/build/HTML-RobotsMETA-0.00004-HJfciN/blib/arch:/export/home/cpant3/.cpan/build/HTML-RobotsMETA-0.00004-HJfciN/blib/lib:/export/home/cpant3/.cpan/build/WWW-RobotRules-Parser-0.04001-QhDnSF/blib/arch:/export/home/cpant3/.cpan/build/WWW-RobotRules-Parser-0.04001-QhDnSF/blib/lib:/export/home/cpant3/.cpan/build/Socket-GetAddrInfo-0.21-H3ImI7/blib/arch:/export/home/cpant3/.cpan/build/Socket-GetAddrInfo-0.21-H3ImI7/blib/lib:/export/home/cpant3/.cpan/build/ExtUtils-CChecker-0.07-LuKoaG/blib/arch:/export/home/cpant3/.cpan/build/ExtUtils-CChecker-0.07-LuKoaG/blib/lib:/export/home/cpant3/.cpan/build/URI-Match-0.00001-ktIDif/blib/arch:/export/home/cpant3/.cpan/build/URI-Match-0.00001-ktIDif/blib/lib
    PERL5OPT = 
    PERL5_CPANPLUS_IS_RUNNING = 20226
    PERL5_CPAN_IS_RUNNING = 20226
    PERL5_CPAN_IS_RUNNING_IN_RECURSION = 6733,20226
    PERL_CR_SMOKER_CURRENT = GunghoX-FollowLinks-0.00006
    PERL_EXTUTILS_AUTOINSTALL = --defaultdeps
    PERL_MM_USE_DEFAULT = 1
    SHELL = /usr/bin/bash
    TERM = xterm

Perl special variables (and OS-specific diagnostics, for MSWin32):

    $^X = /export/home/cpant3/perl5/bin/perl5.12.4
    $UID/$EUID = 103 / 103
    $GID = 1 1
    $EGID = 1 1

Perl module toolchain versions installed:

    Module              Have    
    ------------------- --------
    CPAN                1.9600  
    Cwd                 3.33    
    ExtUtils::CBuilder  0.280202
    ExtUtils::Command   1.17    
    ExtUtils::Install   1.55    
    ExtUtils::MakeMaker 6.56    
    ExtUtils::Manifest  1.58    
    ExtUtils::ParseXS   2.2206  
    File::Spec          3.33    
    Module::Build       0.3800  
    Module::Signature   n/a     
    Test::Harness       3.23    
    Test::More          0.98    
    YAML                0.73    
    YAML::Syck          1.17    
    version             0.91    


--

Summary of my perl5 (revision 5 version 12 subversion 4) configuration:
   
  Platform:
    osname=solaris, osvers=2.10, archname=i86pc-solaris-64int
    uname='sunos vmrz0046 5.10 generic_141445-09 i86pc i386 i86pc solaris '
    config_args='-Dcc=gcc -Dprefix=~/perl5 -Duse64bitint -Dusedevel -d'
    hint=recommended, useposix=true, d_sigaction=define
    useithreads=undef, usemultiplicity=undef
    useperlio=define, d_sfio=undef, uselargefiles=define, usesocks=undef
    use64bitint=define, use64bitall=undef, uselongdouble=undef
    usemymalloc=n, bincompat5005=undef
  Compiler:
    cc='gcc', ccflags ='-DPTR_IS_LONG -fno-strict-aliasing -pipe -I/usr/local/include -D_LARGEFILE_SOURCE -D_FILE_OFFSET_BITS=64 -DPERL_USE_SAFE_PUTENV',
    optimize='-O',
    cppflags='-DPTR_IS_LONG -fno-strict-aliasing -pipe -I/usr/local/include'
    ccversion='', gccversion='3.4.6', gccosandvers='solaris2.10'
    intsize=4, longsize=4, ptrsize=4, doublesize=8, byteorder=12345678
    d_longlong=define, longlongsize=8, d_longdbl=define, longdblsize=12
    ivtype='long long', ivsize=8, nvtype='double', nvsize=8, Off_t='off_t', lseeksize=8
    alignbytes=4, prototype=define
  Linker and Libraries:
    ld='gcc', ldflags =' -L/usr/local/lib '
    libpth=/usr/local/lib /usr/lib /usr/ccs/lib
    libs=-lsocket -lnsl -lgdbm -ldl -lm -lc
    perllibs=-lsocket -lnsl -ldl -lm -lc
    libc=/lib/libc.so, so=so, useshrplib=false, libperl=libperl.a
    gnulibc_version=''
  Dynamic Linking:
    dlsrc=dl_dlopen.xs, dlext=so, d_dlsymun=undef, ccdlflags=' '
    cccdlflags='-fPIC', lddlflags='-G -L/usr/local/lib'


Characteristics of this binary (from libperl): 
  Compile-time options: PERL_DONT_CREATE_GVSV PERL_MALLOC_WRAP PERL_USE_DEVEL
                        PERL_USE_SAFE_PUTENV USE_64_BIT_INT USE_LARGE_FILES
                        USE_PERLIO USE_PERL_ATOF
  Built under solaris
  Compiled at Jun 21 2011 15:53:50
  %ENV:
    PERL5LIB="/export/home/cpant3/.cpan/build/Event-Notify-0.00004-6afGns/blib/arch:/export/home/cpant3/.cpan/build/Event-Notify-0.00004-6afGns/blib/lib:/export/home/cpant3/.cpan/build/Class-C3-XS-0.13-yy52lb/blib/arch:/export/home/cpant3/.cpan/build/Class-C3-XS-0.13-yy52lb/blib/lib:/export/home/cpant3/.cpan/build/Best-0.12-6O6VSx/blib/arch:/export/home/cpant3/.cpan/build/Best-0.12-6O6VSx/blib/lib:/export/home/cpant3/.cpan/build/HTML-RobotsMETA-0.00004-HJfciN/blib/arch:/export/home/cpant3/.cpan/build/HTML-RobotsMETA-0.00004-HJfciN/blib/lib:/export/home/cpant3/.cpan/build/WWW-RobotRules-Parser-0.04001-QhDnSF/blib/arch:/export/home/cpant3/.cpan/build/WWW-RobotRules-Parser-0.04001-QhDnSF/blib/lib:/export/home/cpant3/.cpan/build/Socket-GetAddrInfo-0.21-H3ImI7/blib/arch:/export/home/cpant3/.cpan/build/Socket-GetAddrInfo-0.21-H3ImI7/blib/lib:/export/home/cpant3/.cpan/build/ExtUtils-CChecker-0.07-LuKoaG/blib/arch:/export/home/cpant3/.cpan/build/ExtUtils-CChecker-0.07-LuKoaG/blib/lib:/export/home/cpant3/.cpan/build/URI-Match-0.00001-ktIDif/blib/arch:/export/home/cpant3/.cpan/build/URI-Match-0.00001-ktIDif/blib/lib"
    PERL5OPT=""
    PERL5_CPANPLUS_IS_RUNNING="20226"
    PERL5_CPAN_IS_RUNNING="20226"
    PERL5_CPAN_IS_RUNNING_IN_RECURSION="6733,20226"
    PERL_CR_SMOKER_CURRENT="GunghoX-FollowLinks-0.00006"
    PERL_EXTUTILS_AUTOINSTALL="--defaultdeps"
    PERL_MM_USE_DEFAULT="1"
  @INC:
    /export/home/cpant3/.cpan/build/Event-Notify-0.00004-6afGns/blib/arch
    /export/home/cpant3/.cpan/build/Event-Notify-0.00004-6afGns/blib/lib
    /export/home/cpant3/.cpan/build/Class-C3-XS-0.13-yy52lb/blib/arch
    /export/home/cpant3/.cpan/build/Class-C3-XS-0.13-yy52lb/blib/lib
    /export/home/cpant3/.cpan/build/Best-0.12-6O6VSx/blib/arch
    /export/home/cpant3/.cpan/build/Best-0.12-6O6VSx/blib/lib
    /export/home/cpant3/.cpan/build/HTML-RobotsMETA-0.00004-HJfciN/blib/arch
    /export/home/cpant3/.cpan/build/HTML-RobotsMETA-0.00004-HJfciN/blib/lib
    /export/home/cpant3/.cpan/build/WWW-RobotRules-Parser-0.04001-QhDnSF/blib/arch
    /export/home/cpant3/.cpan/build/WWW-RobotRules-Parser-0.04001-QhDnSF/blib/lib
    /export/home/cpant3/.cpan/build/Socket-GetAddrInfo-0.21-H3ImI7/blib/arch
    /export/home/cpant3/.cpan/build/Socket-GetAddrInfo-0.21-H3ImI7/blib/lib
    /export/home/cpant3/.cpan/build/ExtUtils-CChecker-0.07-LuKoaG/blib/arch
    /export/home/cpant3/.cpan/build/ExtUtils-CChecker-0.07-LuKoaG/blib/lib
    /export/home/cpant3/.cpan/build/URI-Match-0.00001-ktIDif/blib/arch
    /export/home/cpant3/.cpan/build/URI-Match-0.00001-ktIDif/blib/lib
    /export/home/cpant3/perl5/lib/site_perl/5.12.4/i86pc-solaris-64int
    /export/home/cpant3/perl5/lib/site_perl/5.12.4
    /export/home/cpant3/perl5/lib/5.12.4/i86pc-solaris-64int
    /export/home/cpant3/perl5/lib/5.12.4
    /export/home/cpant3/perl5/lib/site_perl
    .