Devel-hdb v0.25 Perl 5 v5.37.5 x86_64-linux-thread-multi

Status
Pass
From
Andreas J. König (ANDK)
Dist
Devel-hdb v0.25
Platform
Perl 5 v5.37.5 x86_64-linux-thread-multi
Date
2022-11-01 10:26:28
ID
a52c11e6-59cf-11ed-a8fa-ce59e2afc58d
This distribution has been tested as part of the CPAN Testers
project, supporting the Perl programming language.  See
http://wiki.cpantesters.org/ for more information or email
questions to cpan-testers-discuss@perl.org


--
Dear Anthony Brummett,

This is a computer-generated report for Devel-hdb-0.25
on perl 5.37.5, created by CPAN-Reporter-1.2018.

Thank you for uploading your work to CPAN.  Congratulations!
All tests were successful.

Sections of this report:

    * Tester comments
    * Program output
    * Prerequisites
    * Environment and other context

------------------------------
TESTER COMMENTS
------------------------------

Additional comments from tester:

this report is from an automated smoke testing program
and was not reviewed by a human for accuracy

------------------------------
PROGRAM OUTPUT
------------------------------

Output from '/usr/bin/make test':

PERL_DL_NONLAZY=1 "/tmp/basesmoker-reloperl-Xm5E/bin/perl" "-MExtUtils::Command::MM" "-MTest::Harness" "-e" "undef *Test::Harness::Switches; test_harness(0, 'blib/lib', 'blib/arch')" t/*.t
Debugged program pid 3585911 terminated with exit code 0
t/00-use.t ........................ ok
t/01-load-debugger-html.t ......... ok
t/02-stepin-subs-eval.t ........... ok
t/02-stepin.t ..................... ok
t/03-step-over-exception.t ........ ok
t/03-step-over-goto-label.t ....... ok
t/03-step-over-goto-sub.t ......... ok
t/03-step-over.t .................. ok
t/04-breakpoint-in-code.t ......... ok
t/04-breakpoint.t ................. ok
t/04-conditional-breakpoint.t ..... ok
t/04-get-all-breakpoints.t ........ ok
t/04-inactive-brekpoint.t ......... ok
t/05-loaded-files.t ............... ok
t/05-source-file.t ................ ok
t/06-eval-blessed.t ............... ok
t/06-eval.t ....................... ok
t/07-continue.t ................... ok
t/07-step-out.t ................... ok
t/08-action.t ..................... ok
t/08-inactive-action.t ............ ok
t/09-AUTOLOAD.t ................... ok
t/10-function-args.t .............. ok
t/11-getvar.t ..................... ok
t/14-fork.t ....................... ok
t/15-continue-nostop.t ............ ok
t/16-load-breakpoints.t ........... ok
t/16-save-breakpoints.t ........... ok
t/16-startup-load-breakpoints.t ... ok
t/17-exit.t ....................... ok
t/17-package-info.t ............... ok
This is an uncaught exception at /tmp/devel-hdb-test-LHFJ line 11.
t/18-uncaught-exception.t ......... ok
t/19-trace-diff-changed-source.t .. ok
t/19-trace-diff.t ................. ok
t/20-stack.t ...................... ok
t/21-root-route.t ................. ok
t/22-watchpoint.t ................. ok
t/23-next-statement-fragment.t .... ok
t/50-router.t ..................... ok
All tests successful.
Files=39, Tests=406, 20 wallclock secs ( 0.19 usr  0.18 sys +  9.72 cusr  1.70 csys = 11.79 CPU)
Result: PASS

------------------------------
PREREQUISITES
------------------------------

Prerequisite modules loaded:

requires:

    Module                            Need  Have    
    --------------------------------- ----- --------
    base                              0     2.27    
    Carp                              0     1.54    
    Data::Dumper                      0     2.186   
    Data::Transform::ExplicitMetadata 0     0.09    
    Devel::Chitin                     0.15  0.21    
    Digest::MD5                       0     2.58    
    Exception::Class                  0     1.45    
    Exporter                          0     5.77    
    HTTP::Server::PSGI                0     0       
    IO::File                          0     1.51    
    IO::Socket::INET                  0     1.51    
    JSON                              0     4.10    
    LWP::UserAgent                    0     6.67    
    perl                              5.006 5.037005
    Plack::Request                    0     1.0050  
    Scalar::Util                      0     1.63    
    Socket                            0     2.036   
    strict                            0     1.12    
    Sub::Name                         0     0.26    
    Sys::Hostname                     0     1.25    
    Time::HiRes                       0     1.9771  
    URI::Escape                       0     5.16    
    vars                              0     1.05    
    warnings                          0     1.59    

build_requires:

    Module                            Need  Have    
    --------------------------------- ----- --------
    Devel::Callsite                   0     1.0.1   
    ExtUtils::MakeMaker               0     7.64    
    Fcntl                             0     1.15    
    File::Basename                    0     2.86    
    File::Temp                        0     0.2311  
    HTML::TreeBuilder                 0     5.07    
    IO::Socket                        0     1.51    
    lib                               0     0.65    
    Test::More                        0     1.302191

configure_requires:

    Module                            Need  Have    
    --------------------------------- ----- --------
    ExtUtils::MakeMaker               0     7.64    
    perl                              5.006 5.037005


------------------------------
ENVIRONMENT AND OTHER CONTEXT
------------------------------

Environment variables:

    AUTOMATED_TESTING = 1
    LANG = en_US.UTF-8
    PATH = /home/sand/bin:/usr/local/bin:/usr/local/sbin:/usr/sbin:/usr/bin:/sbin:/bin:/usr/games:/usr/local/games:/snap/bin:/usr/local/perl/bin:/usr/X11/bin
    PERL = /tmp/basesmoker-reloperl-Xm5E/bin/perl
    PERL5LIB = /tmp/loop_over_bdir-988756-fAHp0m/Net-Async-WebService-lxd-0.03-0/blib/arch:/tmp/loop_over_bdir-988756-fAHp0m/Net-Async-WebService-lxd-0.03-0/blib/lib:/tmp/loop_over_bdir-988756-fAHp0m/LCFG-Build-Tools-0.9.30-0/blib/arch:/tmp/loop_over_bdir-988756-fAHp0m/LCFG-Build-Tools-0.9.30-0/blib/lib:/tmp/loop_over_bdir-988756-fAHp0m/Dpkg-1.21.9-0/blib/arch:/tmp/loop_over_bdir-988756-fAHp0m/Dpkg-1.21.9-0/blib/lib:/tmp/loop_over_bdir-988756-fAHp0m/Simulation-Automate-1.0.1-0/blib/arch:/tmp/loop_over_bdir-988756-fAHp0m/Simulation-Automate-1.0.1-0/blib/lib:/tmp/loop_over_bdir-988756-fAHp0m/LCFG-Build-Skeleton-0.5.0-0/blib/arch:/tmp/loop_over_bdir-988756-fAHp0m/LCFG-Build-Skeleton-0.5.0-0/blib/lib
    PERL5OPT = 
    PERL5_CPANPLUS_IS_RUNNING = 988765
    PERL5_CPAN_IS_RUNNING = 988765
    PERL_CANARY_STABILITY_NOPROMPT = 1
    PERL_MM_USE_DEFAULT = 1
    PERL_USE_UNSAFE_INC = 1
    SHELL = /usr/bin/zsh
    TERM = screen

Perl special variables (and OS-specific diagnostics, for MSWin32):

    $^X = /tmp/basesmoker-reloperl-Xm5E/bin/perl
    $UID/$EUID = 1005 / 1005
    $GID = 1005 1005
    $EGID = 1005 1005

Perl module toolchain versions installed:

    Module              Have    
    ------------------- --------
    CPAN                2.34    
    CPAN::Meta          2.150010
    Cwd                 3.86    
    ExtUtils::CBuilder  0.280237
    ExtUtils::Command   7.64    
    ExtUtils::Install   2.20    
    ExtUtils::MakeMaker 7.64    
    ExtUtils::Manifest  1.73    
    ExtUtils::ParseXS   3.46    
    File::Spec          3.87    
    JSON                4.10    
    JSON::PP            4.12    
    Module::Build       0.4231  
    Module::Signature   0.88    
    Parse::CPAN::Meta   2.150010
    Test::Harness       3.44    
    Test::More          1.302191
    YAML                1.30    
    YAML::Syck          1.34    
    version             0.9929  


--

Summary of my perl5 (revision 5 version 37 subversion 5) configuration:
  Commit id: 064941484781d9099db0bbe7d6ea22a826df1e15
  Platform:
    osname=linux
    osvers=5.4.0-125-generic
    archname=x86_64-linux-thread-multi
    uname='linux k93focal 5.4.0-125-generic #141-ubuntu smp wed aug 10 13:42:03 utc 2022 x86_64 x86_64 x86_64 gnulinux '
    config_args='-Dprefix=/home/sand/src/perl/repoperls/installed-perls/host/k93focal/v5.37.4-160-g0649414847/d119 -Dmyhostname=k93focal -Dinstallusrbinperl=n -Uversiononly -Dusedevel -des -Ui_db -Dlibswanted=cl pthread socket inet nsl gdbm dbm malloc dl ld sun m crypt sec util c cposix posix ucb BSD gdbm_compat -Duseithreads -Uuselongdouble -DEBUGGING=both'
    hint=recommended
    useposix=true
    d_sigaction=define
    useithreads=define
    usemultiplicity=define
    use64bitint=define
    use64bitall=define
    uselongdouble=undef
    usemymalloc=n
    default_inc_excludes_dot=define
  Compiler:
    cc='cc'
    ccflags ='-D_REENTRANT -D_GNU_SOURCE -fwrapv -DDEBUGGING -fno-strict-aliasing -pipe -fstack-protector-strong -I/usr/local/include -D_LARGEFILE_SOURCE -D_FILE_OFFSET_BITS=64'
    optimize='-O2 -g'
    cppflags='-D_REENTRANT -D_GNU_SOURCE -fwrapv -DDEBUGGING -fno-strict-aliasing -pipe -fstack-protector-strong -I/usr/local/include'
    ccversion=''
    gccversion='9.4.0'
    gccosandvers=''
    intsize=4
    longsize=8
    ptrsize=8
    doublesize=8
    byteorder=12345678
    doublekind=3
    d_longlong=define
    longlongsize=8
    d_longdbl=define
    longdblsize=16
    longdblkind=3
    ivtype='long'
    ivsize=8
    nvtype='double'
    nvsize=8
    Off_t='off_t'
    lseeksize=8
    alignbytes=8
    prototype=define
  Linker and Libraries:
    ld='cc'
    ldflags =' -fstack-protector-strong -L/usr/local/lib'
    libpth=/usr/local/lib /usr/lib/x86_64-linux-gnu /usr/lib /usr/lib64
    libs=-lpthread -lnsl -ldl -lm -lcrypt -lutil -lc
    perllibs=-lpthread -lnsl -ldl -lm -lcrypt -lutil -lc
    libc=libc-2.31.so
    so=so
    useshrplib=false
    libperl=libperl.a
    gnulibc_version='2.31'
  Dynamic Linking:
    dlsrc=dl_dlopen.xs
    dlext=so
    d_dlsymun=undef
    ccdlflags='-Wl,-E'
    cccdlflags='-fPIC'
    lddlflags='-shared -O2 -g -L/usr/local/lib -fstack-protector-strong'


Characteristics of this binary (from libperl): 
  Compile-time options:
    DEBUGGING
    HAS_TIMES
    MULTIPLICITY
    PERLIO_LAYERS
    PERL_COPY_ON_WRITE
    PERL_DONT_CREATE_GVSV
    PERL_HASH_FUNC_SIPHASH13
    PERL_HASH_USE_SBOX32
    PERL_MALLOC_WRAP
    PERL_OP_PARENT
    PERL_PRESERVE_IVUV
    PERL_TRACK_MEMPOOL
    PERL_USE_DEVEL
    PERL_USE_SAFE_PUTENV
    USE_64_BIT_ALL
    USE_64_BIT_INT
    USE_ITHREADS
    USE_LARGE_FILES
    USE_LOCALE
    USE_LOCALE_COLLATE
    USE_LOCALE_CTYPE
    USE_LOCALE_NUMERIC
    USE_LOCALE_TIME
    USE_PERLIO
    USE_PERL_ATOF
    USE_REENTRANT_API
    USE_THREAD_SAFE_LOCALE
  Built under linux
  Compiled at Oct 29 2022 16:55:13
  %ENV:
    PERL="/tmp/basesmoker-reloperl-Xm5E/bin/perl"
    PERL5LIB="/tmp/loop_over_bdir-988756-fAHp0m/Net-Async-WebService-lxd-0.03-0/blib/arch:/tmp/loop_over_bdir-988756-fAHp0m/Net-Async-WebService-lxd-0.03-0/blib/lib:/tmp/loop_over_bdir-988756-fAHp0m/LCFG-Build-Tools-0.9.30-0/blib/arch:/tmp/loop_over_bdir-988756-fAHp0m/LCFG-Build-Tools-0.9.30-0/blib/lib:/tmp/loop_over_bdir-988756-fAHp0m/Dpkg-1.21.9-0/blib/arch:/tmp/loop_over_bdir-988756-fAHp0m/Dpkg-1.21.9-0/blib/lib:/tmp/loop_over_bdir-988756-fAHp0m/Simulation-Automate-1.0.1-0/blib/arch:/tmp/loop_over_bdir-988756-fAHp0m/Simulation-Automate-1.0.1-0/blib/lib:/tmp/loop_over_bdir-988756-fAHp0m/LCFG-Build-Skeleton-0.5.0-0/blib/arch:/tmp/loop_over_bdir-988756-fAHp0m/LCFG-Build-Skeleton-0.5.0-0/blib/lib"
    PERL5OPT=""
    PERL5_CPANPLUS_IS_RUNNING="988765"
    PERL5_CPAN_IS_RUNNING="988765"
    PERL_CANARY_STABILITY_NOPROMPT="1"
    PERL_MM_USE_DEFAULT="1"
    PERL_USE_UNSAFE_INC="1"
  @INC:
    /tmp/loop_over_bdir-988756-fAHp0m/Net-Async-WebService-lxd-0.03-0/blib/arch
    /tmp/loop_over_bdir-988756-fAHp0m/Net-Async-WebService-lxd-0.03-0/blib/lib
    /tmp/loop_over_bdir-988756-fAHp0m/LCFG-Build-Tools-0.9.30-0/blib/arch
    /tmp/loop_over_bdir-988756-fAHp0m/LCFG-Build-Tools-0.9.30-0/blib/lib
    /tmp/loop_over_bdir-988756-fAHp0m/Dpkg-1.21.9-0/blib/arch
    /tmp/loop_over_bdir-988756-fAHp0m/Dpkg-1.21.9-0/blib/lib
    /tmp/loop_over_bdir-988756-fAHp0m/Simulation-Automate-1.0.1-0/blib/arch
    /tmp/loop_over_bdir-988756-fAHp0m/Simulation-Automate-1.0.1-0/blib/lib
    /tmp/loop_over_bdir-988756-fAHp0m/LCFG-Build-Skeleton-0.5.0-0/blib/arch
    /tmp/loop_over_bdir-988756-fAHp0m/LCFG-Build-Skeleton-0.5.0-0/blib/lib
    /home/sand/src/perl/repoperls/installed-perls/host/k93focal/v5.37.4-160-g0649414847/d119/lib/site_perl/5.37.5/x86_64-linux-thread-multi
    /home/sand/src/perl/repoperls/installed-perls/host/k93focal/v5.37.4-160-g0649414847/d119/lib/site_perl/5.37.5
    /home/sand/src/perl/repoperls/installed-perls/host/k93focal/v5.37.4-160-g0649414847/d119/lib/5.37.5/x86_64-linux-thread-multi
    /home/sand/src/perl/repoperls/installed-perls/host/k93focal/v5.37.4-160-g0649414847/d119/lib/5.37.5
    .