Net-SIP v0.838 Perl 5 v5.38.4 RC1 x86_64-linux

Status
Pass
From
Andreas J. König (ANDK)
Dist
Net-SIP v0.838
Platform
Perl 5 v5.38.4 RC1 x86_64-linux
Date
2025-04-02 23:38:56
ID
a4a2d764-101b-11f0-99b5-a908d7908580
This distribution has been tested as part of the CPAN Testers
project, supporting the Perl programming language.  See
http://wiki.cpantesters.org/ for more information or email
questions to cpan-testers-discuss@perl.org


--
Dear Steffen Ullrich,

This is a computer-generated report for Net-SIP-0.838
on perl 5.38.4, created by CPAN-Reporter-1.2020.

Thank you for uploading your work to CPAN.  Congratulations!
All tests were successful.

Sections of this report:

    * Tester comments
    * Program output
    * Prerequisites
    * Environment and other context

------------------------------
TESTER COMMENTS
------------------------------

Additional comments from tester:

this report is from an automated smoke testing program
and was not reviewed by a human for accuracy

------------------------------
PROGRAM OUTPUT
------------------------------

Output from '/usr/bin/make test':

PERL_DL_NONLAZY=1 "/tmp/basesmoker-reloperl-3VRm/bin/perl" "-MExtUtils::Command::MM" "-MTest::Harness" "-e" "undef *Test::Harness::Switches; test_harness(0, 'blib/lib', 'blib/arch')" t/*.t
t/01_load.t ............................. ok
# call created
# got ringing
# call established
# call cleaned up
# call created
# got ringing
# call established
# call cleaned up
# call created
# got ringing
# call established
# call cleaned up
# call created
# got ringing
# call established
# call cleaned up
# call created
# got ringing
# call established
# call cleaned up
# call created
# got ringing
# call established
# call cleaned up
t/02_listen_and_invite.t ................ ok
t/03_forward_stateless.t ................ ok
t/04_call_with_rtp.t .................... ok
t/05_call_with_stateless_proxy.t ........ ok
t/06_call_with_reinvite.t ............... ok
t/07_call_on_hold.t ..................... ok
t/08_register_with_auth.t ............... ok
t/09_fdleak.t ........................... ok
t/10_fdleak.t ........................... ok
t/11_invite_timeout.t ................... ok
# call established
# call cleaned up
# call established
# call cleaned up
# call established
# call cleaned up
# call established
# call cleaned up
# call established
# call cleaned up
# call established
# call cleaned up
t/12_maddr.t ............................ ok
t/13_maddr_proxy.t ...................... ok
# UAS   on 127.0.0.1:5062 
# UAC   on 127.0.0.1:5060 
# PROXY on 127.0.0.1:5063 
t/14_bugfix_0.51.t ...................... ok
t/15_block_invite.t ..................... ok
t/16_drop_invite.t ...................... ok
t/17_call_with_reinvite_and_auth.t ...... ok
t/18_register_with_auth_step_by_step.t .. ok
# UAS on 127.0.0.1:37513
# UAC on 127.0.0.1:35937
# call created
# call established
# call cleaned up
# received=466 lost=0 expect ca. 467.5 packets, events='1 2 D # 3 4 B *'
# UAS on 127.0.0.1:43621
# UAC on 127.0.0.1:37050
# call created
# call established
# call cleaned up
# received=464 lost=0 expect ca. 467.5 packets, events='1 2 D # 3 4 B *'
# UAS on 127.0.0.1:49067
# UAC on 127.0.0.1:41068
# call created
# call established
# call cleaned up
# received=467 lost=0 expect ca. 467.5 packets, events='1 2 D # 3 4 B *'
# UAS on 127.0.0.1:44495
# UAC on 127.0.0.1:39822
# call created
# call established
# call cleaned up
# received=466 lost=0 expect ca. 467.5 packets, events='1 2 D # 3 4 B *'
# UAS on [::1]:59381
# UAC on [::1]:44340
# call created
# call established
# call cleaned up
# received=467 lost=0 expect ca. 467.5 packets, events='1 2 D # 3 4 B *'
# UAS on [::1]:58835
# UAC on [::1]:36992
# call created
# call established
# call cleaned up
# received=465 lost=0 expect ca. 467.5 packets, events='1 2 D # 3 4 B *'
# UAS on [::1]:43820
# UAC on [::1]:57260
# call created
# call established
# call cleaned up
# received=467 lost=0 expect ca. 467.5 packets, events='1 2 D # 3 4 B *'
# UAS on [::1]:42194
# UAC on [::1]:60894
# call created
# call established
# call cleaned up
# received=465 lost=0 expect ca. 467.5 packets, events='1 2 D # 3 4 B *'
# UAS on 127.0.0.1:39267
# UAC on 127.0.0.1:51441
# call created
# call established
# call cleaned up
# received=465 lost=0 expect ca. 467.5 packets, events='1 2 D # 3 4 B *'
# UAS on 127.0.0.1:58265
# UAC on 127.0.0.1:32849
# call created
# call established
# call cleaned up
# received=466 lost=0 expect ca. 467.5 packets, events='1 2 D # 3 4 B *'
# UAS on 127.0.0.1:57921
# UAC on 127.0.0.1:41973
# call created
# call established
# call cleaned up
# received=467 lost=0 expect ca. 467.5 packets, events='1 2 D # 3 4 B *'
# UAS on 127.0.0.1:48893
# UAC on 127.0.0.1:58405
# call created
# call established
# call cleaned up
# received=466 lost=0 expect ca. 467.5 packets, events='1 2 D # 3 4 B *'
# UAS on [::1]:37425
# UAC on [::1]:59959
# call created
# call established
# call cleaned up
# received=465 lost=0 expect ca. 467.5 packets, events='1 2 D # 3 4 B *'
# UAS on [::1]:37081
# UAC on [::1]:52561
# call created
# call established
# call cleaned up
# received=466 lost=0 expect ca. 467.5 packets, events='1 2 D # 3 4 B *'
# UAS on [::1]:43533
# UAC on [::1]:40571
# call created
# call established
# call cleaned up
# received=465 lost=0 expect ca. 467.5 packets, events='1 2 D # 3 4 B *'
# UAS on [::1]:60921
# UAC on [::1]:39119
# call created
# call established
# call cleaned up
# received=466 lost=0 expect ca. 467.5 packets, events='1 2 D # 3 4 B *'
# UAS on 127.0.0.1:49363
# UAC on 127.0.0.1:51587
# call created
# call established
# call cleaned up
# received=465 lost=0 expect ca. 467.5 packets, events='1 2 D # 3 4 B *'
# UAS on 127.0.0.1:41115
# UAC on 127.0.0.1:36865
# call created
# call established
# call cleaned up
# received=467 lost=0 expect ca. 467.5 packets, events='1 2 D # 3 4 B *'
# UAS on 127.0.0.1:47925
# UAC on 127.0.0.1:56051
# call created
# call established
# call cleaned up
# received=466 lost=0 expect ca. 467.5 packets, events='1 2 D # 3 4 B *'
# UAS on 127.0.0.1:58859
# UAC on 127.0.0.1:45487
# call created
# call established
# call cleaned up
# received=466 lost=0 expect ca. 467.5 packets, events='1 2 D # 3 4 B *'
# UAS on [::1]:58555
# UAC on [::1]:52513
# call created
# call established
# call cleaned up
# received=466 lost=0 expect ca. 467.5 packets, events='1 2 D # 3 4 B *'
# UAS on [::1]:43283
# UAC on [::1]:49895
# call created
# call established
# call cleaned up
# received=466 lost=0 expect ca. 467.5 packets, events='1 2 D # 3 4 B *'
# UAS on [::1]:54239
# UAC on [::1]:59141
# call created
# call established
# call cleaned up
# received=466 lost=0 expect ca. 467.5 packets, events='1 2 D # 3 4 B *'
# UAS on [::1]:47117
# UAC on [::1]:40831
# call created
# call established
# call cleaned up
# received=466 lost=0 expect ca. 467.5 packets, events='1 2 D # 3 4 B *'
t/19_call_with_dtmf.t ................... ok
t/20_channel_on_hold.t .................. ok
t/21_channel_on_hold_stateless_proxy.t .. ok
t/22_stateless_proxy_ack_on_error.t ..... ok
t/23_valid_message.t .................... ok
t/24_dtmf_audio.t ....................... ok
t/25_register_tcp_timeout.t ............. ok
t/26_request_ack.t ...................... ok
All tests successful.
Files=26, Tests=2000, 399 wallclock secs ( 0.55 usr  0.08 sys + 43.11 cusr  8.60 csys = 52.34 CPU)
Result: PASS

------------------------------
PREREQUISITES
------------------------------

Prerequisite modules loaded:

requires:

    Module              Need Have 
    ------------------- ---- -----
    Socket              1.95 2.036

build_requires:

    Module              Need Have 
    ------------------- ---- -----
    ExtUtils::MakeMaker 0    7.72 

configure_requires:

    Module              Need Have 
    ------------------- ---- -----
    ExtUtils::MakeMaker 0    7.72 


------------------------------
ENVIRONMENT AND OTHER CONTEXT
------------------------------

Environment variables:

    AUTOMATED_TESTING = 1
    LANG = en_US.UTF-8
    PATH = /home/sand/bin:/usr/local/bin:/usr/local/sbin:/usr/sbin:/usr/bin:/sbin:/bin:/usr/games:/usr/local/games:/snap/bin:/usr/local/perl/bin:/usr/X11/bin
    PERL = /tmp/basesmoker-reloperl-3VRm/bin/perl
    PERL5LIB = /tmp/loop_over_bdir-2787454-LT3RhR/Lingua-YaTeA-0.626-0/blib/arch:/tmp/loop_over_bdir-2787454-LT3RhR/Lingua-YaTeA-0.626-0/blib/lib:/tmp/loop_over_bdir-2787454-LT3RhR/CGI-Application-NetNewsIface-0.0204-0/blib/arch:/tmp/loop_over_bdir-2787454-LT3RhR/CGI-Application-NetNewsIface-0.0204-0/blib/lib:/tmp/loop_over_bdir-2787454-LT3RhR/RackMan-1.19-0/blib/arch:/tmp/loop_over_bdir-2787454-LT3RhR/RackMan-1.19-0/blib/lib:/tmp/loop_over_bdir-2787454-LT3RhR/makepp-1.19-0/blib/arch:/tmp/loop_over_bdir-2787454-LT3RhR/makepp-1.19-0/blib/lib:/tmp/loop_over_bdir-2787454-LT3RhR/dta-tokwrap-0.98-0/blib/arch:/tmp/loop_over_bdir-2787454-LT3RhR/dta-tokwrap-0.98-0/blib/lib:/tmp/loop_over_bdir-2787454-LT3RhR/ProjectBuilder-0.14.1-0/blib/arch:/tmp/loop_over_bdir-2787454-LT3RhR/ProjectBuilder-0.14.1-0/blib/lib:/tmp/loop_over_bdir-2787454-LT3RhR/Business-Shipping-DataFiles-1.02-0/blib/arch:/tmp/loop_over_bdir-2787454-LT3RhR/Business-Shipping-DataFiles-1.02-0/blib/lib:/tmp/loop_over_bdir-2787454-LT3RhR/Alien-SNMP-MIBDEV-2.020000-0/blib/arch:/tmp/loop_over_bdir-2787454-LT3RhR/Alien-SNMP-MIBDEV-2.020000-0/blib/lib:/tmp/loop_over_bdir-2787454-LT3RhR/LiquidWeb-Storm-CLI-1.03-0/blib/arch:/tmp/loop_over_bdir-2787454-LT3RhR/LiquidWeb-Storm-CLI-1.03-0/blib/lib:/tmp/loop_over_bdir-2787454-LT3RhR/Module-ScanDeps-Static-1.7.2-0/blib/arch:/tmp/loop_over_bdir-2787454-LT3RhR/Module-ScanDeps-Static-1.7.2-0/blib/lib:/tmp/loop_over_bdir-2787454-LT3RhR/HTML-Menu-TreeView-1.22-0/blib/arch:/tmp/loop_over_bdir-2787454-LT3RhR/HTML-Menu-TreeView-1.22-0/blib/lib
    PERL5OPT = 
    PERL5_CPANPLUS_IS_RUNNING = 2787464
    PERL5_CPAN_IS_RUNNING = 2787464
    PERL_CANARY_STABILITY_NOPROMPT = 1
    PERL_MM_USE_DEFAULT = 1
    PERL_USE_UNSAFE_INC = 1
    SHELL = /usr/bin/zsh
    TERM = screen

Perl special variables (and OS-specific diagnostics, for MSWin32):

    $^X = /tmp/basesmoker-reloperl-3VRm/bin/perl
    $UID/$EUID = 1005 / 1005
    $GID = 1005 1005
    $EGID = 1005 1005

Perl module toolchain versions installed:

    Module              Have    
    ------------------- --------
    CPAN                2.38    
    CPAN::Meta          2.150010
    Cwd                 3.89    
    ExtUtils::CBuilder  0.280238
    ExtUtils::Command   7.72    
    ExtUtils::Install   2.22    
    ExtUtils::MakeMaker 7.72    
    ExtUtils::Manifest  1.73    
    ExtUtils::ParseXS   3.51    
    File::Spec          3.88    
    JSON                4.10    
    JSON::PP            4.16    
    Module::Build       0.4234  
    Module::Signature   0.89    
    Parse::CPAN::Meta   2.150010
    Test2               1.302210
    Test::Harness       3.50    
    Test::More          1.302210
    YAML                1.31    
    YAML::Syck          1.34    
    version             0.9933  


--

Summary of my perl5 (revision 5 version 38 subversion 4) configuration:
   
  Platform:
    osname=linux
    osvers=5.4.0-208-generic
    archname=x86_64-linux
    uname='linux k93focal 5.4.0-208-generic #228-ubuntu smp fri feb 7 19:41:33 utc 2025 x86_64 x86_64 x86_64 gnulinux '
    config_args='-Dprefix=/home/sand/src/perl/repoperls/installed-perls/host/k93focal/perl-5.38.4-RC1/d119 -Dmyhostname=k93focal -Dinstallusrbinperl=n -Uversiononly -Dusedevel -des -Ui_db -Dlibswanted=cl pthread socket inet nsl gdbm dbm malloc dl ld sun m crypt sec util c cposix posix ucb BSD gdbm_compat -Duseithreads -Uuselongdouble -DEBUGGING=both'
    hint=previous
    useposix=true
    d_sigaction=define
    useithreads=undef
    usemultiplicity=undef
    use64bitint=define
    use64bitall=define
    uselongdouble=undef
    usemymalloc=n
    default_inc_excludes_dot=define
  Compiler:
    cc='cc'
    ccflags ='-fwrapv -DDEBUGGING -fno-strict-aliasing -pipe -fstack-protector-strong -I/usr/local/include -D_LARGEFILE_SOURCE -D_FILE_OFFSET_BITS=64'
    optimize='-O2 -g'
    cppflags='-fwrapv -DDEBUGGING -fno-strict-aliasing -pipe -fstack-protector-strong -I/usr/local/include'
    ccversion=''
    gccversion='9.4.0'
    gccosandvers=''
    intsize=4
    longsize=8
    ptrsize=8
    doublesize=8
    byteorder=12345678
    doublekind=3
    d_longlong=define
    longlongsize=8
    d_longdbl=define
    longdblsize=16
    longdblkind=3
    ivtype='long'
    ivsize=8
    nvtype='double'
    nvsize=8
    Off_t='off_t'
    lseeksize=8
    alignbytes=8
    prototype=define
  Linker and Libraries:
    ld='cc'
    ldflags =' -fstack-protector-strong -L/usr/local/lib'
    libpth=/usr/local/lib /usr/lib/x86_64-linux-gnu /usr/lib /usr/lib64
    libs=-lpthread -lnsl -ldl -lm -lcrypt -lutil -lc
    perllibs=-lpthread -lnsl -ldl -lm -lcrypt -lutil -lc
    libc=libc-2.31.so
    so=so
    useshrplib=false
    libperl=libperl.a
    gnulibc_version='2.31'
  Dynamic Linking:
    dlsrc=dl_dlopen.xs
    dlext=so
    d_dlsymun=undef
    ccdlflags='-Wl,-E'
    cccdlflags='-fPIC'
    lddlflags='-shared -O2 -g -L/usr/local/lib -fstack-protector-strong'


Characteristics of this binary (from libperl): 
  Compile-time options:
    DEBUGGING
    HAS_LONG_DOUBLE
    HAS_STRTOLD
    HAS_TIMES
    PERLIO_LAYERS
    PERL_COPY_ON_WRITE
    PERL_DONT_CREATE_GVSV
    PERL_HASH_FUNC_SIPHASH13
    PERL_HASH_USE_SBOX32
    PERL_MALLOC_WRAP
    PERL_OP_PARENT
    PERL_PRESERVE_IVUV
    PERL_USE_DEVEL
    PERL_USE_SAFE_PUTENV
    USE_64_BIT_ALL
    USE_64_BIT_INT
    USE_LARGE_FILES
    USE_LOCALE
    USE_LOCALE_COLLATE
    USE_LOCALE_CTYPE
    USE_LOCALE_NUMERIC
    USE_LOCALE_TIME
    USE_PERLIO
    USE_PERL_ATOF
  Locally applied patches:
    RC1
  Built under linux
  Compiled at Mar 30 2025 19:41:51
  %ENV:
    PERL="/tmp/basesmoker-reloperl-3VRm/bin/perl"
    PERL5LIB="/tmp/loop_over_bdir-2787454-LT3RhR/Lingua-YaTeA-0.626-0/blib/arch:/tmp/loop_over_bdir-2787454-LT3RhR/Lingua-YaTeA-0.626-0/blib/lib:/tmp/loop_over_bdir-2787454-LT3RhR/CGI-Application-NetNewsIface-0.0204-0/blib/arch:/tmp/loop_over_bdir-2787454-LT3RhR/CGI-Application-NetNewsIface-0.0204-0/blib/lib:/tmp/loop_over_bdir-2787454-LT3RhR/RackMan-1.19-0/blib/arch:/tmp/loop_over_bdir-2787454-LT3RhR/RackMan-1.19-0/blib/lib:/tmp/loop_over_bdir-2787454-LT3RhR/makepp-1.19-0/blib/arch:/tmp/loop_over_bdir-2787454-LT3RhR/makepp-1.19-0/blib/lib:/tmp/loop_over_bdir-2787454-LT3RhR/dta-tokwrap-0.98-0/blib/arch:/tmp/loop_over_bdir-2787454-LT3RhR/dta-tokwrap-0.98-0/blib/lib:/tmp/loop_over_bdir-2787454-LT3RhR/ProjectBuilder-0.14.1-0/blib/arch:/tmp/loop_over_bdir-2787454-LT3RhR/ProjectBuilder-0.14.1-0/blib/lib:/tmp/loop_over_bdir-2787454-LT3RhR/Business-Shipping-DataFiles-1.02-0/blib/arch:/tmp/loop_over_bdir-2787454-LT3RhR/Business-Shipping-DataFiles-1.02-0/blib/lib:/tmp/loop_over_bdir-2787454-LT3RhR/Alien-SNMP-MIBDEV-2.020000-0/blib/arch:/tmp/loop_over_bdir-2787454-LT3RhR/Alien-SNMP-MIBDEV-2.020000-0/blib/lib:/tmp/loop_over_bdir-2787454-LT3RhR/LiquidWeb-Storm-CLI-1.03-0/blib/arch:/tmp/loop_over_bdir-2787454-LT3RhR/LiquidWeb-Storm-CLI-1.03-0/blib/lib:/tmp/loop_over_bdir-2787454-LT3RhR/Module-ScanDeps-Static-1.7.2-0/blib/arch:/tmp/loop_over_bdir-2787454-LT3RhR/Module-ScanDeps-Static-1.7.2-0/blib/lib:/tmp/loop_over_bdir-2787454-LT3RhR/HTML-Menu-TreeView-1.22-0/blib/arch:/tmp/loop_over_bdir-2787454-LT3RhR/HTML-Menu-TreeView-1.22-0/blib/lib"
    PERL5OPT=""
    PERL5_CPANPLUS_IS_RUNNING="2787464"
    PERL5_CPAN_IS_RUNNING="2787464"
    PERL_CANARY_STABILITY_NOPROMPT="1"
    PERL_MM_USE_DEFAULT="1"
    PERL_USE_UNSAFE_INC="1"
  @INC:
    /tmp/loop_over_bdir-2787454-LT3RhR/Lingua-YaTeA-0.626-0/blib/arch
    /tmp/loop_over_bdir-2787454-LT3RhR/Lingua-YaTeA-0.626-0/blib/lib
    /tmp/loop_over_bdir-2787454-LT3RhR/CGI-Application-NetNewsIface-0.0204-0/blib/arch
    /tmp/loop_over_bdir-2787454-LT3RhR/CGI-Application-NetNewsIface-0.0204-0/blib/lib
    /tmp/loop_over_bdir-2787454-LT3RhR/RackMan-1.19-0/blib/arch
    /tmp/loop_over_bdir-2787454-LT3RhR/RackMan-1.19-0/blib/lib
    /tmp/loop_over_bdir-2787454-LT3RhR/makepp-1.19-0/blib/arch
    /tmp/loop_over_bdir-2787454-LT3RhR/makepp-1.19-0/blib/lib
    /tmp/loop_over_bdir-2787454-LT3RhR/dta-tokwrap-0.98-0/blib/arch
    /tmp/loop_over_bdir-2787454-LT3RhR/dta-tokwrap-0.98-0/blib/lib
    /tmp/loop_over_bdir-2787454-LT3RhR/ProjectBuilder-0.14.1-0/blib/arch
    /tmp/loop_over_bdir-2787454-LT3RhR/ProjectBuilder-0.14.1-0/blib/lib
    /tmp/loop_over_bdir-2787454-LT3RhR/Business-Shipping-DataFiles-1.02-0/blib/arch
    /tmp/loop_over_bdir-2787454-LT3RhR/Business-Shipping-DataFiles-1.02-0/blib/lib
    /tmp/loop_over_bdir-2787454-LT3RhR/Alien-SNMP-MIBDEV-2.020000-0/blib/arch
    /tmp/loop_over_bdir-2787454-LT3RhR/Alien-SNMP-MIBDEV-2.020000-0/blib/lib
    /tmp/loop_over_bdir-2787454-LT3RhR/LiquidWeb-Storm-CLI-1.03-0/blib/arch
    /tmp/loop_over_bdir-2787454-LT3RhR/LiquidWeb-Storm-CLI-1.03-0/blib/lib
    /tmp/loop_over_bdir-2787454-LT3RhR/Module-ScanDeps-Static-1.7.2-0/blib/arch
    /tmp/loop_over_bdir-2787454-LT3RhR/Module-ScanDeps-Static-1.7.2-0/blib/lib
    /tmp/loop_over_bdir-2787454-LT3RhR/HTML-Menu-TreeView-1.22-0/blib/arch
    /tmp/loop_over_bdir-2787454-LT3RhR/HTML-Menu-TreeView-1.22-0/blib/lib
    /home/sand/src/perl/repoperls/installed-perls/host/k93focal/perl-5.38.4-RC1/b254/lib/site_perl/5.38.4/x86_64-linux
    /home/sand/src/perl/repoperls/installed-perls/host/k93focal/perl-5.38.4-RC1/b254/lib/site_perl/5.38.4
    /home/sand/src/perl/repoperls/installed-perls/host/k93focal/perl-5.38.4-RC1/b254/lib/5.38.4/x86_64-linux
    /home/sand/src/perl/repoperls/installed-perls/host/k93focal/perl-5.38.4-RC1/b254/lib/5.38.4
    .