WWW-Contact v0.51 Perl 5 v5.8.3 x86_64-linux-ld

Status
Pass
From
Andreas J. König (ANDK)
Dist
WWW-Contact v0.51
Platform
Perl 5 v5.8.3 x86_64-linux-ld
Date
2019-06-06 13:54:46
ID
a49d94da-8862-11e9-83c7-668c1f7b7b90
This distribution has been tested as part of the CPAN Testers
project, supporting the Perl programming language.  See
http://wiki.cpantesters.org/ for more information or email
questions to cpan-testers-discuss@perl.org


--
Dear Fayland Lin,

This is a computer-generated report for WWW-Contact-0.51
on perl 5.8.3, created by CPAN-Reporter-1.2018.

Thank you for uploading your work to CPAN.  Congratulations!
All tests were successful.

Sections of this report:

    * Tester comments
    * Program output
    * Prerequisites
    * Environment and other context

------------------------------
TESTER COMMENTS
------------------------------

Additional comments from tester:

this report is from an automated smoke testing program
and was not reviewed by a human for accuracy

------------------------------
PROGRAM OUTPUT
------------------------------

Output from './Build test':

# Testing WWW::Contact 0.51, Perl 5.008003, /tmp/basesmoker-reloperl-Q8x_/bin/perl
t/00-load.t ......... ok
t/01-basic.t ........ ok
t/02-supplier.t ..... ok
t/101-gmail.t ....... skipped: set $ENV{TEST_GMAIL} and $ENV{TEST_GMAIL_PASS} to test
t/102-yahoo.t ....... skipped: set $ENV{TEST_YAHOO} and $ENV{TEST_YAHOO_PASS} to test
t/103-rediff.t ...... skipped: set $ENV{TEST_REDIFF} and $ENV{TEST_REDIFF_PASS} to test
t/104-163.t ......... skipped: set $ENV{TEST_163} and $ENV{TEST_163_PASS} to test
t/105-aol.t ......... skipped: set $ENV{TEST_AOL} and $ENV{TEST_AOL_PASS} to test
t/106-mail.t ........ skipped: set $ENV{TEST_MAIL} and $ENV{TEST_MAIL_PASS} to test
t/107-hotmail.t ..... skipped: set $ENV{TEST_HOTMAIL} and $ENV{TEST_HOTMAIL_PASS} to test
t/108-indiatimes.t .. skipped: set $ENV{TEST_INDIATIMES} and $ENV{TEST_INDIATIMES_PASS} to test
t/109-lycos.t ....... skipped: set $ENV{TEST_LYCOS} and $ENV{TEST_LYCOS_PASS} to test
t/110-plaxo.t ....... skipped: set $ENV{TEST_PLAXO} and $ENV{TEST_PLAXO_PASS} to test
t/999-author.t ...... skipped: author tests
t/pod.t ............. ok
All tests successful.
Files=15, Tests=35,  6 wallclock secs ( 0.06 usr  0.09 sys +  5.77 cusr  0.49 csys =  6.41 CPU)
Result: PASS

------------------------------
PREREQUISITES
------------------------------

Prerequisite modules loaded:

requires:

    Module                   Need Have    
    ------------------------ ---- --------
  ! Crypt::SSLeay            0    n/a     
    HTML::Entities           0    3.69    
    HTML::TokeParser::Simple 0    3.16    
    HTML::TreeBuilder        0    5.07    
    JSON::XS                 0    4.02    
    Moose                    0.77 2.2011  
    Net::DNS::Resolver       0    1726    
    Net::Google::AuthSub     0    0.5     
    Text::CSV                0    2.00    
    Text::vCard              0    3.09    
    WWW::Mechanize           0    1.91    
    WWW::Mechanize::GZip     0    0.14    

build_requires:

    Module                   Need Have    
    ------------------------ ---- --------
    Test::More               0.90 1.302164

configure_requires:

    Module                   Need Have    
    ------------------------ ---- --------
    Module::Build            0.42 0.4229  


------------------------------
ENVIRONMENT AND OTHER CONTEXT
------------------------------

Environment variables:

    AUTOMATED_TESTING = 1
    LANG = en_US.UTF-8
    PATH = /home/sand/bin:/usr/local/bin:/usr/local/sbin:/usr/sbin:/usr/bin:/sbin:/bin:/usr/games:/usr/local/games:/usr/local/perl/bin:/usr/X11/bin
    PERL5LIB = 
    PERL5OPT = 
    PERL5_CPANPLUS_IS_RUNNING = 5780
    PERL5_CPAN_IS_RUNNING = 5780
    PERL_CANARY_STABILITY_NOPROMPT = 1
    PERL_MM_USE_DEFAULT = 1
    PERL_USE_UNSAFE_INC = 1
    SHELL = /usr/bin/zsh
    TERM = screen

Perl special variables (and OS-specific diagnostics, for MSWin32):

    $^X = /tmp/basesmoker-reloperl-Q8x_/bin/perl
    $UID/$EUID = 1005 / 1005
    $GID = 1005 1005
    $EGID = 1005 1005

Perl module toolchain versions installed:

    Module              Have    
    ------------------- --------
    CPAN                2.27    
    CPAN::Meta          2.150010
    Cwd                 3.75    
    ExtUtils::CBuilder  0.280231
    ExtUtils::Command   7.36    
    ExtUtils::Install   2.06    
    ExtUtils::MakeMaker 7.36    
    ExtUtils::Manifest  1.70    
    ExtUtils::ParseXS   3.35    
    File::Spec          3.75    
    JSON                4.02    
    JSON::PP            4.02    
    Module::Build       0.4229  
    Module::Signature   0.83    
    Parse::CPAN::Meta   2.150010
    Test::Harness       3.42    
    Test::More          1.302164
    YAML                1.29    
    YAML::Syck          1.31    
    version             0.9924  


--

Summary of my perl5 (revision 5.0 version 8 subversion 3) configuration:
  Platform:
    osname=linux, osvers=4.15.0-50-generic, archname=x86_64-linux-ld
    uname='linux k93bionic 4.15.0-50-generic #54-ubuntu smp mon may 6 18:46:08 utc 2019 x86_64 x86_64 x86_64 gnulinux '
    config_args='-Dprefix=/home/sand/src/perl/repoperls/installed-perls/host/k93bionic/perl-5.8.3/94e4 -Dmyhostname=k93bionic -Dinstallusrbinperl=n -Uversiononly -Dusedevel -des -Ui_db -Dlibswanted=cl pthread socket inet nsl gdbm dbm malloc dl ld sun m crypt sec util c cposix posix ucb BSD gdbm_compat -Uuseithreads -Duselongdouble -Doptimize=-g'
    hint=recommended, useposix=true, d_sigaction=define
    usethreads=undef use5005threads=undef useithreads=undef usemultiplicity=undef
    useperlio=define d_sfio=undef uselargefiles=define usesocks=undef
    use64bitint=define use64bitall=define uselongdouble=define
    usemymalloc=n, bincompat5005=undef
  Compiler:
    cc='cc', ccflags ='-DDEBUGGING -fno-strict-aliasing -I/usr/local/include -D_LARGEFILE_SOURCE -D_FILE_OFFSET_BITS=64',
    optimize='-g',
    cppflags='-DDEBUGGING -fno-strict-aliasing -I/usr/local/include'
    ccversion='', gccversion='7.4.0', gccosandvers=''
    intsize=4, longsize=8, ptrsize=8, doublesize=8, byteorder=12345678
    d_longlong=define, longlongsize=8, d_longdbl=define, longdblsize=16
    ivtype='long', ivsize=8, nvtype='long double', nvsize=16, Off_t='off_t', lseeksize=8
    alignbytes=16, prototype=define
  Linker and Libraries:
    ld='cc', ldflags =' -L/usr/local/lib'
    libpth=/usr/local/lib /lib/x86_64-linux-gnu /lib/../lib /usr/lib/x86_64-linux-gnu /usr/lib/../lib /lib /usr/lib
    libs=-lpthread -lnsl -ldl -lm -lcrypt -lutil -lc
    perllibs=-lpthread -lnsl -ldl -lm -lcrypt -lutil -lc
    libc=libc-2.27.so, so=so, useshrplib=false, libperl=libperl.a
    gnulibc_version='2.27'
  Dynamic Linking:
    dlsrc=dl_dlopen.xs, dlext=so, d_dlsymun=undef, ccdlflags='-rdynamic'
    cccdlflags='-fpic', lddlflags='-shared -L/usr/local/lib'


Characteristics of this binary (from libperl): 
  Compile-time options: DEBUGGING USE_64_BIT_INT USE_64_BIT_ALL USE_LONG_DOUBLE USE_LARGE_FILES
  Built under linux
  Compiled at Jun  2 2019 06:44:02
  %ENV:
    PERL5LIB=""
    PERL5OPT=""
    PERL5_CPANPLUS_IS_RUNNING="5780"
    PERL5_CPAN_IS_RUNNING="5780"
    PERL_CANARY_STABILITY_NOPROMPT="1"
    PERL_MM_USE_DEFAULT="1"
    PERL_USE_UNSAFE_INC="1"
  @INC:
    /home/sand/src/perl/repoperls/installed-perls/host/k93bionic/perl-5.8.3/94e4/lib/5.8.3/x86_64-linux-ld
    /home/sand/src/perl/repoperls/installed-perls/host/k93bionic/perl-5.8.3/94e4/lib/5.8.3
    /home/sand/src/perl/repoperls/installed-perls/host/k93bionic/perl-5.8.3/94e4/lib/site_perl/5.8.3/x86_64-linux-ld
    /home/sand/src/perl/repoperls/installed-perls/host/k93bionic/perl-5.8.3/94e4/lib/site_perl/5.8.3
    /home/sand/src/perl/repoperls/installed-perls/host/k93bionic/perl-5.8.3/94e4/lib/site_perl
    .