RPerl v3.401000 Perl 5 v5.26.0 x86_64-linux

Status
Pass
From
Slaven Rezić (SREZIC)
Dist
RPerl v3.401000
Platform
Perl 5 v5.26.0 x86_64-linux
Date
2017-11-28 11:16:55
ID
a470e9fc-d42d-11e7-91cf-da0f4fd6fcde
This distribution has been tested as part of the CPAN Testers
project, supporting the Perl programming language.  See
http://wiki.cpantesters.org/ for more information or email
questions to cpan-testers-discuss@perl.org


--
Dear William N. Braswell, Jr.,

This is a computer-generated report for RPerl-3.401000
on perl 5.26.0, created by CPAN-Reporter-1.2018.

Thank you for uploading your work to CPAN.  Congratulations!
All tests were successful.

Sections of this report:

    * Tester comments
    * Program output
    * Prerequisites
    * Environment and other context

------------------------------
TESTER COMMENTS
------------------------------

Additional comments from tester:

none provided

------------------------------
PROGRAM OUTPUT
------------------------------

Output from '/usr/bin/make test':

"/opt/perl-5.26.0/bin/perl5.26.0" "-MExtUtils::Command::MM" "-MTest::Harness" "-e" "undef *Test::Harness::Switches; test_harness(0, 'blib/lib', 'blib/arch')" t/*.t
t/00_depend.t ............. ok
t/01_changes.t ............ ok
t/02_inline_c.t ........... ok
t/03_inline_cpp.t ......... ok
t/04_type_scalar.t ........ ok
t/05_type_array.t ......... ok
Unescaped left brace in regex is deprecated here (and will be fatal in Perl 5.30), passed through in regex; marked by <-- HERE in m/(?m)^{ <-- HERE (?=.*'a_key' => 2\b)(?=.*'b_key' => 2_112\b)(?=.*'c_key' => 42\b)(?=.*'d_key' => 23\b)(?=.*'e_key' => -877\b)(?=.*'f_key' => -33\b)(?=.*'g_key' => 1_701\b).*}$/ at t/06_type_hash.t line 212.
Unescaped left brace in regex is deprecated here (and will be fatal in Perl 5.30), passed through in regex; marked by <-- HERE in m/(?m)^{ <-- HERE (?=.*'binary' => 2\b)(?=.*'rush' => 2_112\b)(?=.*'answer' => 42\b)(?=.*'fnord' => 23\b)(?=.*'units' => -877\b)(?=.*'degree' => -33\b)(?=.*'ncc' => 1_701\b).*}PERLOPS_PERLTYPES$/ at t/06_type_hash.t line 277.
Unescaped left brace in regex is deprecated here (and will be fatal in Perl 5.30), passed through in regex; marked by <-- HERE in m/(?m)^{ <-- HERE (?=.*'a_key' => 2\b)(?=.*'b_key' => 2_112\b)(?=.*'c_key' => 42\b)(?=.*'d_key' => 23\b)(?=.*'e_key' => -877\b)(?=.*'f_key' => -33\b)(?=.*'g_key' => 1_701\b).*}$/ at t/06_type_hash.t line 421.
Unescaped left brace in regex is deprecated here (and will be fatal in Perl 5.30), passed through in regex; marked by <-- HERE in m/(?m)^{ <-- HERE (?=.*'a_key' => 2\.123_443_211_234)(?=.*'b_key' => 2_112\.432_1)(?=.*'c_key' => 42\.456_7)(?=.*'d_key' => 23\.765_444_444_44)(?=.*'e_key' => -877\.567_8)(?=.*'f_key' => -33\.876_587_658_76)(?=.*'g_key' => 1_701\.678_9).*}$/ at t/06_type_hash.t line 451.
Unescaped left brace in regex is deprecated here (and will be fatal in Perl 5.30), passed through in regex; marked by <-- HERE in m/(?m)^{ <-- HERE (?=.*'binary' => 2\.123_443_211_234)(?=.*'rush' => 2_112\.432_1)(?=.*'answer' => 42\.456_7)(?=.*'fnord' => 23\.765_444_444_44)(?=.*'units' => -877\.567_8)(?=.*'degree' => -33\.876_587_658_76)(?=.*'ncc' => 1_701\.678_9).*}PERLOPS_PERLTYPES$/ at t/06_type_hash.t line 519.
Unescaped left brace in regex is deprecated here (and will be fatal in Perl 5.30), passed through in regex; marked by <-- HERE in m/(?m)^{ <-- HERE (?=.*'stuckinaworldhenevercreated' => 'Howard The Duck')(?=.*'kryptonian_manofsteel_clarkkent' => 'Superman')(?=.*'gothamite_darkknight_brucewayne' => 'Batman')(?=.*'amazonian_dianathemyscira_dianaprince' => 'Wonder Woman')(?=.*'scarletspeedster_barryallenetal' => 'Flash')(?=.*'alanscottetal' => 'Green Lantern')(?=.*'atlanteanhybrid_aquaticace_arthurcurryorin' => 'Aquaman')(?=.*'greenmartian_bloodwynd_jonnjonnz' => 'Martian Manhunter').*}$/ at t/06_type_hash.t line 672.
Unescaped left brace in regex is deprecated here (and will be fatal in Perl 5.30), passed through in regex; marked by <-- HERE in m/(?m)^{ <-- HERE (?=.*'kryptonian_manofsteel_clarkkent' => 'Superman')(?=.*'greenmartian_bloodwynd_jonnjonnz' => 'Martian Manhunter')(?=.*'STRING_NOT_UNDEF' => 'undef').*}$/ at t/06_type_hash.t line 693.
Unescaped left brace in regex is deprecated here (and will be fatal in Perl 5.30), passed through in regex; marked by <-- HERE in m/(?m)^{ <-- HERE (?=.*'kryptonian_manofsteel_clarkkent' => 'Superman')(?=.*'greenmartian_bloodwynd_jonnjonnz' => 'Martian Manhunter')(?=.*'STRING_NOT_INTEGER' => '23').*}$/ at t/06_type_hash.t line 709.
Unescaped left brace in regex is deprecated here (and will be fatal in Perl 5.30), passed through in regex; marked by <-- HERE in m/(?m)^{ <-- HERE (?=.*'kryptonian_manofsteel_clarkkent' => 'Superman')(?=.*'greenmartian_bloodwynd_jonnjonnz' => 'Martian Manhunter')(?=.*'STRING_NOT_NUMBER' => '-2_112.23').*}$/ at t/06_type_hash.t line 725.
Unescaped left brace in regex is deprecated here (and will be fatal in Perl 5.30), passed through in regex; marked by <-- HERE in m/(?m)^{ <-- HERE (?=.*'kryptonian_manofsteel_clarkkent' => 'Superman')(?=.*'greenmartian_bloodwynd_jonnjonnz' => 'Martian Manhunter')(?=.*'STRING_NOT_ARRAY' => '\[Tonto\]').*}$/ at t/06_type_hash.t line 741.
Unescaped left brace in regex is deprecated here (and will be fatal in Perl 5.30), passed through in regex; marked by <-- HERE in m/(?m)^{ <-- HERE (?=.*'stuckinaworldhenevercreated' => 'Howard The Duck')(?=.*'atlanteanhybrid_aquaticace_arthurcurryorin' => 'Aquaman')(?=.*'greenmartian_bloodwynd_jonnjonnz' => 'Martian Manhunter').*}PERLOPS_PERLTYPES$/ at t/06_type_hash.t line 820.
Unescaped left brace in regex is deprecated here (and will be fatal in Perl 5.30), passed through in regex; marked by <-- HERE in m/(?m)^{ <-- HERE (?=.*'a_key' => 2\b)(?=.*'b_key' => 2_112\b)(?=.*'c_key' => 42\b)(?=.*'d_key' => 23\b)(?=.*'e_key' => -877\b)(?=.*'f_key' => -33\b)(?=.*'g_key' => 1_701\b).*}$/ at t/06_type_hash.t line 212.
Unescaped left brace in regex is deprecated here (and will be fatal in Perl 5.30), passed through in regex; marked by <-- HERE in m/(?m)^{ <-- HERE (?=.*'binary' => 2\b)(?=.*'rush' => 2_112\b)(?=.*'answer' => 42\b)(?=.*'fnord' => 23\b)(?=.*'units' => -877\b)(?=.*'degree' => -33\b)(?=.*'ncc' => 1_701\b).*}CPPOPS_PERLTYPES$/ at t/06_type_hash.t line 277.
Unescaped left brace in regex is deprecated here (and will be fatal in Perl 5.30), passed through in regex; marked by <-- HERE in m/(?m)^{ <-- HERE (?=.*'a_key' => 2\b)(?=.*'b_key' => 2_112\b)(?=.*'c_key' => 42\b)(?=.*'d_key' => 23\b)(?=.*'e_key' => -877\b)(?=.*'f_key' => -33\b)(?=.*'g_key' => 1_701\b).*}$/ at t/06_type_hash.t line 421.
Unescaped left brace in regex is deprecated here (and will be fatal in Perl 5.30), passed through in regex; marked by <-- HERE in m/(?m)^{ <-- HERE (?=.*'a_key' => 2\.123_443_211_234)(?=.*'b_key' => 2_112\.432_1)(?=.*'c_key' => 42\.456_7)(?=.*'d_key' => 23\.765_444_444_44)(?=.*'e_key' => -877\.567_8)(?=.*'f_key' => -33\.876_587_658_76)(?=.*'g_key' => 1_701\.678_9).*}$/ at t/06_type_hash.t line 451.
Unescaped left brace in regex is deprecated here (and will be fatal in Perl 5.30), passed through in regex; marked by <-- HERE in m/(?m)^{ <-- HERE (?=.*'binary' => 2\.123_443_211_234)(?=.*'rush' => 2_112\.432_1)(?=.*'answer' => 42\.456_7)(?=.*'fnord' => 23\.765_444_444_44)(?=.*'units' => -877\.567_8)(?=.*'degree' => -33\.876_587_658_76)(?=.*'ncc' => 1_701\.678_9).*}CPPOPS_PERLTYPES$/ at t/06_type_hash.t line 519.
Unescaped left brace in regex is deprecated here (and will be fatal in Perl 5.30), passed through in regex; marked by <-- HERE in m/(?m)^{ <-- HERE (?=.*'stuckinaworldhenevercreated' => 'Howard The Duck')(?=.*'kryptonian_manofsteel_clarkkent' => 'Superman')(?=.*'gothamite_darkknight_brucewayne' => 'Batman')(?=.*'amazonian_dianathemyscira_dianaprince' => 'Wonder Woman')(?=.*'scarletspeedster_barryallenetal' => 'Flash')(?=.*'alanscottetal' => 'Green Lantern')(?=.*'atlanteanhybrid_aquaticace_arthurcurryorin' => 'Aquaman')(?=.*'greenmartian_bloodwynd_jonnjonnz' => 'Martian Manhunter').*}$/ at t/06_type_hash.t line 672.
Unescaped left brace in regex is deprecated here (and will be fatal in Perl 5.30), passed through in regex; marked by <-- HERE in m/(?m)^{ <-- HERE (?=.*'kryptonian_manofsteel_clarkkent' => 'Superman')(?=.*'greenmartian_bloodwynd_jonnjonnz' => 'Martian Manhunter')(?=.*'STRING_NOT_UNDEF' => 'undef').*}$/ at t/06_type_hash.t line 693.
Unescaped left brace in regex is deprecated here (and will be fatal in Perl 5.30), passed through in regex; marked by <-- HERE in m/(?m)^{ <-- HERE (?=.*'kryptonian_manofsteel_clarkkent' => 'Superman')(?=.*'greenmartian_bloodwynd_jonnjonnz' => 'Martian Manhunter')(?=.*'STRING_NOT_INTEGER' => '23').*}$/ at t/06_type_hash.t line 709.
Unescaped left brace in regex is deprecated here (and will be fatal in Perl 5.30), passed through in regex; marked by <-- HERE in m/(?m)^{ <-- HERE (?=.*'kryptonian_manofsteel_clarkkent' => 'Superman')(?=.*'greenmartian_bloodwynd_jonnjonnz' => 'Martian Manhunter')(?=.*'STRING_NOT_NUMBER' => '-2_112.23').*}$/ at t/06_type_hash.t line 725.
Unescaped left brace in regex is deprecated here (and will be fatal in Perl 5.30), passed through in regex; marked by <-- HERE in m/(?m)^{ <-- HERE (?=.*'kryptonian_manofsteel_clarkkent' => 'Superman')(?=.*'greenmartian_bloodwynd_jonnjonnz' => 'Martian Manhunter')(?=.*'STRING_NOT_ARRAY' => '\[Tonto\]').*}$/ at t/06_type_hash.t line 741.
Unescaped left brace in regex is deprecated here (and will be fatal in Perl 5.30), passed through in regex; marked by <-- HERE in m/(?m)^{ <-- HERE (?=.*'stuckinaworldhenevercreated' => 'Howard The Duck')(?=.*'atlanteanhybrid_aquaticace_arthurcurryorin' => 'Aquaman')(?=.*'greenmartian_bloodwynd_jonnjonnz' => 'Martian Manhunter').*}CPPOPS_PERLTYPES$/ at t/06_type_hash.t line 820.
Unescaped left brace in regex is deprecated here (and will be fatal in Perl 5.30), passed through in regex; marked by <-- HERE in m/(?m)^{ <-- HERE (?=.*'a_key' => 2\b)(?=.*'b_key' => 2_112\b)(?=.*'c_key' => 42\b)(?=.*'d_key' => 23\b)(?=.*'e_key' => -877\b)(?=.*'f_key' => -33\b)(?=.*'g_key' => 1_701\b).*}$/ at t/06_type_hash.t line 212.
Unescaped left brace in regex is deprecated here (and will be fatal in Perl 5.30), passed through in regex; marked by <-- HERE in m/(?m)^{ <-- HERE (?=.*'binary' => 2\b)(?=.*'rush' => 2_112\b)(?=.*'answer' => 42\b)(?=.*'fnord' => 23\b)(?=.*'units' => -877\b)(?=.*'degree' => -33\b)(?=.*'ncc' => 1_701\b).*}CPPOPS_CPPTYPES$/ at t/06_type_hash.t line 277.
Unescaped left brace in regex is deprecated here (and will be fatal in Perl 5.30), passed through in regex; marked by <-- HERE in m/(?m)^{ <-- HERE (?=.*'a_key' => 2\b)(?=.*'b_key' => 2_112\b)(?=.*'c_key' => 42\b)(?=.*'d_key' => 23\b)(?=.*'e_key' => -877\b)(?=.*'f_key' => -33\b)(?=.*'g_key' => 1_701\b).*}$/ at t/06_type_hash.t line 421.
Unescaped left brace in regex is deprecated here (and will be fatal in Perl 5.30), passed through in regex; marked by <-- HERE in m/(?m)^{ <-- HERE (?=.*'a_key' => 2\.123_443_211_234)(?=.*'b_key' => 2_112\.432_1)(?=.*'c_key' => 42\.456_7)(?=.*'d_key' => 23\.765_444_444_44)(?=.*'e_key' => -877\.567_8)(?=.*'f_key' => -33\.876_587_658_76)(?=.*'g_key' => 1_701\.678_9).*}$/ at t/06_type_hash.t line 451.
Unescaped left brace in regex is deprecated here (and will be fatal in Perl 5.30), passed through in regex; marked by <-- HERE in m/(?m)^{ <-- HERE (?=.*'binary' => 2\.123_443_211_234)(?=.*'rush' => 2_112\.432_1)(?=.*'answer' => 42\.456_7)(?=.*'fnord' => 23\.765_444_444_44)(?=.*'units' => -877\.567_8)(?=.*'degree' => -33\.876_587_658_76)(?=.*'ncc' => 1_701\.678_9).*}CPPOPS_CPPTYPES$/ at t/06_type_hash.t line 519.
Unescaped left brace in regex is deprecated here (and will be fatal in Perl 5.30), passed through in regex; marked by <-- HERE in m/(?m)^{ <-- HERE (?=.*'stuckinaworldhenevercreated' => 'Howard The Duck')(?=.*'kryptonian_manofsteel_clarkkent' => 'Superman')(?=.*'gothamite_darkknight_brucewayne' => 'Batman')(?=.*'amazonian_dianathemyscira_dianaprince' => 'Wonder Woman')(?=.*'scarletspeedster_barryallenetal' => 'Flash')(?=.*'alanscottetal' => 'Green Lantern')(?=.*'atlanteanhybrid_aquaticace_arthurcurryorin' => 'Aquaman')(?=.*'greenmartian_bloodwynd_jonnjonnz' => 'Martian Manhunter').*}$/ at t/06_type_hash.t line 672.
Unescaped left brace in regex is deprecated here (and will be fatal in Perl 5.30), passed through in regex; marked by <-- HERE in m/(?m)^{ <-- HERE (?=.*'kryptonian_manofsteel_clarkkent' => 'Superman')(?=.*'greenmartian_bloodwynd_jonnjonnz' => 'Martian Manhunter')(?=.*'STRING_NOT_UNDEF' => 'undef').*}$/ at t/06_type_hash.t line 693.
Unescaped left brace in regex is deprecated here (and will be fatal in Perl 5.30), passed through in regex; marked by <-- HERE in m/(?m)^{ <-- HERE (?=.*'kryptonian_manofsteel_clarkkent' => 'Superman')(?=.*'greenmartian_bloodwynd_jonnjonnz' => 'Martian Manhunter')(?=.*'STRING_NOT_INTEGER' => '23').*}$/ at t/06_type_hash.t line 709.
Unescaped left brace in regex is deprecated here (and will be fatal in Perl 5.30), passed through in regex; marked by <-- HERE in m/(?m)^{ <-- HERE (?=.*'kryptonian_manofsteel_clarkkent' => 'Superman')(?=.*'greenmartian_bloodwynd_jonnjonnz' => 'Martian Manhunter')(?=.*'STRING_NOT_NUMBER' => '-2_112.23').*}$/ at t/06_type_hash.t line 725.
Unescaped left brace in regex is deprecated here (and will be fatal in Perl 5.30), passed through in regex; marked by <-- HERE in m/(?m)^{ <-- HERE (?=.*'kryptonian_manofsteel_clarkkent' => 'Superman')(?=.*'greenmartian_bloodwynd_jonnjonnz' => 'Martian Manhunter')(?=.*'STRING_NOT_ARRAY' => '\[Tonto\]').*}$/ at t/06_type_hash.t line 741.
Unescaped left brace in regex is deprecated here (and will be fatal in Perl 5.30), passed through in regex; marked by <-- HERE in m/(?m)^{ <-- HERE (?=.*'stuckinaworldhenevercreated' => 'Howard The Duck')(?=.*'atlanteanhybrid_aquaticace_arthurcurryorin' => 'Aquaman')(?=.*'greenmartian_bloodwynd_jonnjonnz' => 'Martian Manhunter').*}CPPOPS_CPPTYPES$/ at t/06_type_hash.t line 820.
t/06_type_hash.t .......... ok
t/07_type_gmp.t ........... ok
t/09_interpret_execute.t .. ok
t/12_parse.t .............. ok
t/13_generate.t ........... ok
All tests successful.
Files=11, Tests=4148, 1042 wallclock secs ( 0.52 usr  0.08 sys + 786.74 cusr 235.82 csys = 1023.16 CPU)
Result: PASS

------------------------------
PREREQUISITES
------------------------------

Prerequisite modules loaded:

requires:

    Module              Need     Have    
    ------------------- -------- --------
    Alien::astyle       0.009    0.009000
    Alien::JPCRE2       0.012    0.012000
    Alien::PCRE2        0.015    0.015000
    App::Pod2CpanHtml   0.04     0.04    
    CPAN::Meta          2.150005 2.150010
    Date::Format        2.24     2.24    
    ExtUtils::MakeMaker 7.04     7.30    
    File::Which         1.21     1.22    
    Filter::Simple      0.91     0.93    
    Inline              0.80     0.80    
    Inline::C           0.76     0.78    
    Inline::CPP         0.74     0.74    
    Inline::Filters     0.19     0.20    
    IO::Socket::SSL     2.043    2.049   
    IPC::Run3           0.048    0.048   
    List::MoreUtils     0.33     0.426   
    Math::BigInt::GMP   1.46     1.6004  
    Math::GSL           0.39     0.39    
    Module::Refresh     0.17     0.17    
    Module::ScanDeps    1.19     1.23    
    PadWalker           2.1      2.2     
    Parse::Eyapp        1.21     1.21    
    perl                5.010000 5.026000
    Perl::Critic        1.121    1.130   
    Perl::Tidy          20140711 20170521
    Pod::PseudoPod      0.18     0.18    
    Test2::Suite        0.000069 0.000083
    Test::CPAN::Changes 0.400002 0.400002
    Test::Exception     0.43     0.43    
    Test::Number::Delta 1.06     1.06    
    Text::ASCIITable    0.20     0.22    
    Time::HiRes         1.9726   1.9746  

build_requires:

    Module              Need     Have    
    ------------------- -------- --------
    ExtUtils::MakeMaker 0        7.30    

configure_requires:

    Module              Need     Have    
    ------------------- -------- --------
    ExtUtils::MakeMaker 0        7.30    


------------------------------
ENVIRONMENT AND OTHER CONTEXT
------------------------------

Environment variables:

    LANG = en_US.UTF-8
    PATH = /usr/local/bin:/usr/bin:/bin:/usr/local/sbin:/usr/sbin:/sbin:/home/cpansand/bin/linux-gnu:/home/cpansand/bin/sh:/home/cpansand/bin:/usr/games:/home/cpansand/devel:/home/eserte/src/srezic-misc/scripts
    PERL5LIB = /home/cpansand/.cpan/build/2017112800/Math-GSL-0.39-2/blib/arch:/home/cpansand/.cpan/build/2017112800/Math-GSL-0.39-2/blib/lib:/home/cpansand/.cpan/build/2017112800/Test-Taint-1.06-2/blib/arch:/home/cpansand/.cpan/build/2017112800/Test-Taint-1.06-2/blib/lib
    PERL5OPT = 
    PERL5_CPANPLUS_IS_RUNNING = 13882
    PERL5_CPAN_IS_RUNNING = 13882
    PERL5_CPAN_IS_RUNNING_IN_RECURSION = 13793,13882
    PERLDOC = -MPod::Perldoc::ToTextOverstrike
    PERL_BATCH = yes
    PERL_CANARY_STABILITY_NOPROMPT = 1
    PERL_CPAN_REPORTER_CONFIG = /var/tmp/cpansmoker-1023/2017112800/cpanreporter_000_config.ini
    PERL_EXTUTILS_AUTOINSTALL = --defaultdeps
    PERL_USE_UNSAFE_INC = 1
    SHELL = /usr/bin/zsh
    TERM = screen
    TMPDIR = /var/tmp/cpansmoker-1023/2017112800

Perl special variables (and OS-specific diagnostics, for MSWin32):

    $^X = /opt/perl-5.26.0/bin/perl5.26.0
    $UID/$EUID = 1023 / 1023
    $GID = 1023 1023
    $EGID = 1023 1023

Perl module toolchain versions installed:

    Module              Have    
    ------------------- --------
    CPAN                2.18    
    CPAN::Meta          2.150010
    Cwd                 3.67    
    ExtUtils::CBuilder  0.280230
    ExtUtils::Command   7.30    
    ExtUtils::Install   2.06    
    ExtUtils::MakeMaker 7.30    
    ExtUtils::Manifest  1.70    
    ExtUtils::ParseXS   3.34    
    File::Spec          3.67    
    JSON                2.94    
    JSON::PP            2.95    
    Module::Build       0.4224  
    Module::Signature   0.81    
    Parse::CPAN::Meta   2.150010
    Test::Harness       3.39    
    Test::More          1.302113
    YAML                1.24    
    YAML::Syck          1.30    
    version             0.9917  


--

Summary of my perl5 (revision 5 version 26 subversion 0) configuration:
   
  Platform:
    osname=linux
    osvers=4.4.0-79-generic
    archname=x86_64-linux
    uname='linux ubuntu16 4.4.0-79-generic #100-ubuntu smp wed may 17 19:58:14 utc 2017 x86_64 x86_64 x86_64 gnulinux '
    config_args='-ds -e -Dprefix=/opt/perl-5.26.0 -Dcf_email=srezic@cpan.org'
    hint=recommended
    useposix=true
    d_sigaction=define
    useithreads=undef
    usemultiplicity=undef
    use64bitint=define
    use64bitall=define
    uselongdouble=undef
    usemymalloc=n
    default_inc_excludes_dot=define
    bincompat5005=undef
  Compiler:
    cc='cc'
    ccflags ='-fwrapv -fno-strict-aliasing -pipe -fstack-protector-strong -I/usr/local/include -D_LARGEFILE_SOURCE -D_FILE_OFFSET_BITS=64'
    optimize='-O2'
    cppflags='-fwrapv -fno-strict-aliasing -pipe -fstack-protector-strong -I/usr/local/include'
    ccversion=''
    gccversion='5.4.0 20160609'
    gccosandvers=''
    intsize=4
    longsize=8
    ptrsize=8
    doublesize=8
    byteorder=12345678
    doublekind=3
    d_longlong=define
    longlongsize=8
    d_longdbl=define
    longdblsize=16
    longdblkind=3
    ivtype='long'
    ivsize=8
    nvtype='double'
    nvsize=8
    Off_t='off_t'
    lseeksize=8
    alignbytes=8
    prototype=define
  Linker and Libraries:
    ld='cc'
    ldflags =' -fstack-protector-strong -L/usr/local/lib'
    libpth=/usr/local/lib /usr/lib/gcc/x86_64-linux-gnu/5/include-fixed /usr/include/x86_64-linux-gnu /usr/lib /lib/x86_64-linux-gnu /lib/../lib /usr/lib/x86_64-linux-gnu /usr/lib/../lib /lib
    libs=-lpthread -lnsl -lgdbm -ldb -ldl -lm -lcrypt -lutil -lc -lgdbm_compat
    perllibs=-lpthread -lnsl -ldl -lm -lcrypt -lutil -lc
    libc=libc-2.23.so
    so=so
    useshrplib=false
    libperl=libperl.a
    gnulibc_version='2.23'
  Dynamic Linking:
    dlsrc=dl_dlopen.xs
    dlext=so
    d_dlsymun=undef
    ccdlflags='-Wl,-E'
    cccdlflags='-fPIC'
    lddlflags='-shared -O2 -L/usr/local/lib -fstack-protector-strong'


Characteristics of this binary (from libperl): 
  Compile-time options:
    HAS_TIMES
    PERLIO_LAYERS
    PERL_COPY_ON_WRITE
    PERL_DONT_CREATE_GVSV
    PERL_MALLOC_WRAP
    PERL_OP_PARENT
    PERL_PRESERVE_IVUV
    USE_64_BIT_ALL
    USE_64_BIT_INT
    USE_LARGE_FILES
    USE_LOCALE
    USE_LOCALE_COLLATE
    USE_LOCALE_CTYPE
    USE_LOCALE_NUMERIC
    USE_LOCALE_TIME
    USE_PERLIO
    USE_PERL_ATOF
  Built under linux
  Compiled at Jun 19 2017 20:33:19
  %ENV:
    PERL5LIB="/home/cpansand/.cpan/build/2017112800/Math-GSL-0.39-2/blib/arch:/home/cpansand/.cpan/build/2017112800/Math-GSL-0.39-2/blib/lib:/home/cpansand/.cpan/build/2017112800/Test-Taint-1.06-2/blib/arch:/home/cpansand/.cpan/build/2017112800/Test-Taint-1.06-2/blib/lib"
    PERL5OPT=""
    PERL5_CPANPLUS_IS_RUNNING="13882"
    PERL5_CPAN_IS_RUNNING="13882"
    PERL5_CPAN_IS_RUNNING_IN_RECURSION="13793,13882"
    PERLDOC="-MPod::Perldoc::ToTextOverstrike"
    PERL_BATCH="yes"
    PERL_CANARY_STABILITY_NOPROMPT="1"
    PERL_CPAN_REPORTER_CONFIG="/var/tmp/cpansmoker-1023/2017112800/cpanreporter_000_config.ini"
    PERL_EXTUTILS_AUTOINSTALL="--defaultdeps"
    PERL_USE_UNSAFE_INC="1"
  @INC:
    /home/cpansand/.cpan/build/2017112800/Math-GSL-0.39-2/blib/arch
    /home/cpansand/.cpan/build/2017112800/Math-GSL-0.39-2/blib/lib
    /home/cpansand/.cpan/build/2017112800/Test-Taint-1.06-2/blib/arch
    /home/cpansand/.cpan/build/2017112800/Test-Taint-1.06-2/blib/lib
    /opt/perl-5.26.0/lib/site_perl/5.26.0/x86_64-linux
    /opt/perl-5.26.0/lib/site_perl/5.26.0
    /opt/perl-5.26.0/lib/5.26.0/x86_64-linux
    /opt/perl-5.26.0/lib/5.26.0
    .