Astro-Montenbruck v1.26 Perl 5 v5.24.4 x86_64-linux-thread-multi
- Status
- Pass
- From
- Andreas J. König (ANDK)
- Dist
-
Astro-Montenbruck v1.26
- Platform
- Perl 5 v5.24.4 x86_64-linux-thread-multi
- Date
- 2022-02-21 00:24:32
- ID
- a3f9f152-92ac-11ec-89f0-ebba1d9ff52c
This distribution has been tested as part of the CPAN Testers
project, supporting the Perl programming language. See
http://wiki.cpantesters.org/ for more information or email
questions to cpan-testers-discuss@perl.org
--
Dear Sergey Krushinsky,
This is a computer-generated report for Astro-Montenbruck-1.26
on perl 5.24.4, created by CPAN-Reporter-1.2018.
Thank you for uploading your work to CPAN. Congratulations!
All tests were successful.
Sections of this report:
* Tester comments
* Program output
* Prerequisites
* Environment and other context
------------------------------
TESTER COMMENTS
------------------------------
Additional comments from tester:
this report is from an automated smoke testing program
and was not reviewed by a human for accuracy
------------------------------
PROGRAM OUTPUT
------------------------------
Output from './Build test':
# Testing Astro::Montenbruck 1.26, Perl 5.024004, /home/sand/src/perl/repoperls/installed-perls/host/k93msid/v5.24.4/29fb/bin/perl
t/00-load.t ....... ok
t/05-manifest.t ... skipped: Author tests not required for installation
t/10-math.t ....... ok
t/11-time.t ....... ok
t/12-sidereal.t ... ok
t/13-sun.t ........ ok
t/18-ephemeris.t .. ok
t/20-deltat.t ..... ok
t/23-coco.t ....... ok
t/25-nutequ.t ..... ok
t/30-sunset.t ..... ok
t/35-rst.t ........ ok
t/40-riseset.t .... ok
t/50-lunation.t ... ok
t/60-solequ.t ..... ok
t/pod-coverage.t .. skipped: Author tests not required for installation
t/pod.t ........... skipped: Author tests not required for installation
All tests successful.
Files=17, Tests=61, 4 wallclock secs ( 0.06 usr 0.08 sys + 1.60 cusr 0.34 csys = 2.08 CPU)
Result: PASS
------------------------------
PREREQUISITES
------------------------------
Prerequisite modules loaded:
requires:
Module Need Have
-------------------------- ---- --------
DateTime 1.44 1.51
DateTime::Format::Strptime 1.76 1.76
List::MoreUtils 0.43 0.430
Memoize 1.03 1.03_01
Readonly 2.05 2.05
Term::ANSIColor 1.00 5.00
Test::Number::Delta 1.06 1.06
build_requires:
Module Need Have
-------------------------- ---- --------
Pod::Simple::HTMLBatch 0 3.32
Pod::Simple::XHTML 0 3.32
Test::CheckManifest 0.9 1.42
Test::Harness 3.38 3.42
Test::More 1.30 1.302170
Test::Pod::Coverage 1.08 1.10
Test::Simple 1.30 1.302170
configure_requires:
Module Need Have
-------------------------- ---- --------
Module::Build 0 0.4229
------------------------------
ENVIRONMENT AND OTHER CONTEXT
------------------------------
Environment variables:
AUTOMATED_TESTING = 1
LANG = en_US.UTF-8
PATH = /home/sand/bin:/usr/local/bin:/usr/bin:/bin:/usr/games:/usr/local/perl/bin:/usr/X11/bin:/sbin:/usr/sbin
PERL5LIB =
PERL5OPT =
PERL5_CPANPLUS_IS_RUNNING = 734373
PERL5_CPAN_IS_RUNNING = 734373
PERL_CANARY_STABILITY_NOPROMPT = 1
PERL_MM_USE_DEFAULT = 1
PERL_USE_UNSAFE_INC = 1
SHELL = /usr/bin/zsh
TERM = screen
Perl special variables (and OS-specific diagnostics, for MSWin32):
$^X = /home/sand/src/perl/repoperls/installed-perls/host/k93msid/v5.24.4/29fb/bin/perl
$UID/$EUID = 1005 / 1005
$GID = 1005 1005
$EGID = 1005 1005
Perl module toolchain versions installed:
Module Have
------------------- --------
CPAN 2.27
CPAN::Meta 2.150010
Cwd 3.75
ExtUtils::CBuilder 0.280231
ExtUtils::Command 7.42
ExtUtils::Install 2.06
ExtUtils::MakeMaker 7.42
ExtUtils::Manifest 1.70
ExtUtils::ParseXS 3.35
File::Spec 3.75
JSON 4.02
JSON::PP 4.04
Module::Build 0.4229
Module::Signature 0.83
Parse::CPAN::Meta 2.150010
Test::Harness 3.42
Test::More 1.302170
YAML 1.29
YAML::Syck 1.31
version 0.9924
--
Summary of my perl5 (revision 5 version 24 subversion 4) configuration:
Derived from: 901dd848e31de6d0cacfb77c029b4e92c41a13ce
Platform:
osname=linux, osvers=5.3.0-2-amd64, archname=x86_64-linux-thread-multi
uname='linux k93msid 5.3.0-2-amd64 #1 smp debian 5.3.9-3 (2019-11-19) x86_64 gnulinux '
config_args='-Dprefix=/home/sand/src/perl/repoperls/installed-perls/host/k93msid/v5.24.4/29fb -Dmyhostname=k93msid -Dinstallusrbinperl=n -Uversiononly -Dusedevel -des -Ui_db -Dlibswanted=cl pthread socket inet nsl gdbm dbm malloc dl ld sun m crypt sec util c cposix posix ucb BSD gdbm_compat -Duseithreads -Uuselongdouble -DEBUGGING=both'
hint=recommended, useposix=true, d_sigaction=define
useithreads=define, usemultiplicity=define
use64bitint=define, use64bitall=define, uselongdouble=undef
usemymalloc=n, bincompat5005=undef
Compiler:
cc='cc', ccflags ='-D_REENTRANT -D_GNU_SOURCE -fwrapv -DDEBUGGING -fno-strict-aliasing -pipe -fstack-protector-strong -I/usr/local/include -D_LARGEFILE_SOURCE -D_FILE_OFFSET_BITS=64',
optimize='-O2 -g',
cppflags='-D_REENTRANT -D_GNU_SOURCE -fwrapv -DDEBUGGING -fno-strict-aliasing -pipe -fstack-protector-strong -I/usr/local/include'
ccversion='', gccversion='9.2.1 20191109', gccosandvers=''
intsize=4, longsize=8, ptrsize=8, doublesize=8, byteorder=12345678, doublekind=3
d_longlong=define, longlongsize=8, d_longdbl=define, longdblsize=16, longdblkind=3
ivtype='long', ivsize=8, nvtype='double', nvsize=8, Off_t='off_t', lseeksize=8
alignbytes=8, prototype=define
Linker and Libraries:
ld='cc', ldflags =' -fstack-protector-strong -L/usr/local/lib'
libpth=/usr/local/lib /usr/lib/gcc/x86_64-linux-gnu/9/include-fixed /usr/include/x86_64-linux-gnu /usr/lib /lib/x86_64-linux-gnu /lib/../lib /usr/lib/x86_64-linux-gnu /usr/lib/../lib /lib
libs=-lpthread -lnsl -ldl -lm -lcrypt -lutil -lc
perllibs=-lpthread -lnsl -ldl -lm -lcrypt -lutil -lc
libc=libc-2.29.so, so=so, useshrplib=false, libperl=libperl.a
gnulibc_version='2.29'
Dynamic Linking:
dlsrc=dl_dlopen.xs, dlext=so, d_dlsymun=undef, ccdlflags='-Wl,-E'
cccdlflags='-fPIC', lddlflags='-shared -O2 -g -L/usr/local/lib -fstack-protector-strong'
Characteristics of this binary (from libperl):
Compile-time options: DEBUGGING HAS_TIMES MULTIPLICITY PERLIO_LAYERS
PERL_COPY_ON_WRITE PERL_DONT_CREATE_GVSV
PERL_HASH_FUNC_ONE_AT_A_TIME_HARD
PERL_IMPLICIT_CONTEXT PERL_MALLOC_WRAP
PERL_PRESERVE_IVUV PERL_TRACK_MEMPOOL PERL_USE_DEVEL
USE_64_BIT_ALL USE_64_BIT_INT USE_ITHREADS
USE_LARGE_FILES USE_LOCALE USE_LOCALE_COLLATE
USE_LOCALE_CTYPE USE_LOCALE_NUMERIC USE_LOCALE_TIME
USE_PERLIO USE_PERL_ATOF USE_REENTRANT_API
Locally applied patches:
uncommitted-changes
Built under linux
Compiled at Nov 25 2019 12:07:44
%ENV:
PERL5LIB=""
PERL5OPT=""
PERL5_CPANPLUS_IS_RUNNING="734373"
PERL5_CPAN_IS_RUNNING="734373"
PERL_CANARY_STABILITY_NOPROMPT="1"
PERL_MM_USE_DEFAULT="1"
PERL_USE_UNSAFE_INC="1"
@INC:
/home/sand/src/perl/repoperls/installed-perls/host/k93msid/v5.24.4/29fb/lib/site_perl/5.24.4/x86_64-linux-thread-multi
/home/sand/src/perl/repoperls/installed-perls/host/k93msid/v5.24.4/29fb/lib/site_perl/5.24.4
/home/sand/src/perl/repoperls/installed-perls/host/k93msid/v5.24.4/29fb/lib/5.24.4/x86_64-linux-thread-multi
/home/sand/src/perl/repoperls/installed-perls/host/k93msid/v5.24.4/29fb/lib/5.24.4
.