Report for Dist-Zilla-Plugin-CheckExtraTests-0.021

Back
From: metabase:user:e9d4a868-a1b6-1014-8cbd-09dd8d67b9ce
Subject: PASS Dist-Zilla-Plugin-CheckExtraTests-0.021 v5.16.3 GNU/Linux
Date: 2014-07-01T08:28:12Z

This distribution has been tested as part of the CPAN Testers
project, supporting the Perl programming language.  See
http://wiki.cpantesters.org/ for more information or email
questions to cpan-testers-discuss@perl.org


--
Dear David Golden,

This is a computer-generated report for Dist-Zilla-Plugin-CheckExtraTests-0.021
on perl 5.16.3, created by CPAN-Reporter-1.2011.

Thank you for uploading your work to CPAN.  Congratulations!
All tests were successful.

Sections of this report:

    * Tester comments
    * Program output
    * Prerequisites
    * Environment and other context

------------------------------
TESTER COMMENTS
------------------------------

Additional comments from tester:

none provided

------------------------------
PROGRAM OUTPUT
------------------------------

Output from '/usr/bin/make test':

PERL_DL_NONLAZY=1 /home/omengue/.plenv/versions/5.16.3/bin/perl5.16.3 "-MExtUtils::Command::MM" "-MTest::Harness" "-e" "undef *Test::Harness::Switches; test_harness(0, 'blib/lib', 'blib/arch')" t/*.t
# 
# Versions for all modules listed in MYMETA.json (including optional ones):
#    Version Module                          
#   -------- --------------------------------
#       3.30 App::Prove                      
#       1.96 Archive::Tar                    
#   2.140640 CPAN::Meta                      
#      2.125 CPAN::Meta::Requirements        
#       0.22 Capture::Tiny                   
#      5.019 Dist::Zilla                     
#      5.019 Dist::Zilla::App                
#      5.019 Dist::Zilla::App::Tester        
#      5.019 Dist::Zilla::Role::BeforeRelease
#      5.019 Dist::Zilla::Role::TestRunner   
#      5.019 Dist::Zilla::Tester             
#       6.96 ExtUtils::MakeMaker             
#       3.40 File::Spec::Functions           
#      1.005 File::pushd                     
#       1.38 List::Util                      
#     2.1209 Moose                           
#       0.13 Moose::Autobox                  
#       1.07 Params::Util                    
#      1.006 Path::Iterator::Rule            
#      0.052 Path::Tiny                      
#      0.986 Sub::Exporter                   
#   1.001003 Test::More                      
#       0.07 Test::Requires                  
#       0.18 Try::Tiny                       
#       0.63 lib                             
#       0.14 namespace::autoclean            
#       1.07 strict                          
#     0.9908 version                         
#       1.13 warnings                        
t/00-report-prereqs.t .. ok
t/checkxt.t ............ ok
t/runxt.t .............. ok
t/withblib.t ........... ok
All tests successful.
Files=4, Tests=16,  9 wallclock secs ( 0.02 usr  0.01 sys +  6.66 cusr  1.01 csys =  7.70 CPU)
Result: PASS

------------------------------
PREREQUISITES
------------------------------

Prerequisite modules loaded:

requires:

    Module                           Need  Have    
    -------------------------------- ----- --------
    App::Prove                       3.00  3.30    
    Archive::Tar                     0     1.96    
    Dist::Zilla                      4.3   5.019   
    Dist::Zilla::App                 0     5.019   
    Dist::Zilla::Role::BeforeRelease 0     5.019   
    Dist::Zilla::Role::TestRunner    0     5.019   
    File::pushd                      0     1.005   
    Moose                            2     2.1209  
    Moose::Autobox                   0     0.13    
    namespace::autoclean             0.09  0.14    
    Path::Iterator::Rule             0     1.006   
    Path::Tiny                       0.013 0.052   
    strict                           0     1.07    
    warnings                         0     1.13    

build_requires:

    Module                           Need  Have    
    -------------------------------- ----- --------
    Capture::Tiny                    0     0.22    
    Dist::Zilla::App::Tester         0     5.019   
    Dist::Zilla::Tester              0     5.019   
    ExtUtils::MakeMaker              0     6.96    
    File::Spec::Functions            0     3.40    
    lib                              0     0.63    
    List::Util                       0     1.38    
    Params::Util                     0     1.07    
    Sub::Exporter                    0     0.986   
    Test::More                       0.88  1.001003
    Test::Requires                   0     0.07    
    Try::Tiny                        0     0.18    
    version                          0     0.9908  

configure_requires:

    Module                           Need  Have    
    -------------------------------- ----- --------
    ExtUtils::MakeMaker              6.17  6.96    


------------------------------
ENVIRONMENT AND OTHER CONTEXT
------------------------------

Environment variables:

    LANG = fr_FR.UTF-8
    LANGUAGE = fr:en
    LC_MESSAGES = fr_FR.UTF-8
    PATH = /home/omengue/.plenv/versions/5.16.3/bin:/home/omengue/.plenv/libexec:/home/omengue/.plenv/plugins/perl-build/bin:/opt/toolchains/fast3965b/usr/bin:/home/omengue/bin:/home/omengue/local/eclipse:/home/omengue/local/maven/bin:/home/omengue/.plenv/shims:/home/omengue/.plenv/bin:/home/omengue/local/git-hub/lib:/home/omengue/bin:/usr/lib/lightdm/lightdm:/usr/local/sbin:/usr/local/bin:/usr/sbin:/usr/bin:/sbin:/bin:/usr/games
    PERL5LIB = /home/omengue/.local/share/.cpan/build/File-ShareDir-Install-0.08-GyOd55/blib/arch:/home/omengue/.local/share/.cpan/build/File-ShareDir-Install-0.08-GyOd55/blib/lib
    PERL5OPT = 
    PERL5_CPANPLUS_IS_RUNNING = 4610
    PERL5_CPAN_IS_RUNNING = 4610
    PERL_CPANM_OPT = 
    SHELL = /bin/bash
    TERM = xterm

Perl special variables (and OS-specific diagnostics, for MSWin32):

    $^X = /home/omengue/.plenv/versions/5.16.3/bin/perl5.16.3
    $UID/$EUID = 1024 / 1024
    $GID = 1024 4 20 24 46 104 112 118 122 125 126 132 499 500 1024
    $EGID = 1024 4 20 24 46 104 112 118 122 125 126 132 499 500 1024

Perl module toolchain versions installed:

    Module              Have    
    ------------------- --------
    CPAN                2.05    
    CPAN::Meta          2.140640
    Cwd                 3.40    
    ExtUtils::CBuilder  0.280216
    ExtUtils::Command   1.17    
    ExtUtils::Install   1.63    
    ExtUtils::MakeMaker 6.96    
    ExtUtils::Manifest  1.63    
    ExtUtils::ParseXS   3.24    
    File::Spec          3.40    
    JSON                2.59    
    JSON::PP            2.27203 
    Module::Build       0.4007  
    Module::Signature   0.73    
    Parse::CPAN::Meta   1.4414  
    Test::Harness       3.30    
    Test::More          1.001003
    YAML                0.90    
    YAML::Syck          n/a     
    version             0.9908  


--

Summary of my perl5 (revision 5 version 16 subversion 3) configuration:
   
  Platform:
    osname=linux, osvers=3.2.0-55-generic, archname=x86_64-linux
    uname='linux omengue-ubuntu 3.2.0-55-generic #85-ubuntu smp wed oct 2 12:29:27 utc 2013 x86_64 x86_64 x86_64 gnulinux '
    config_args='-Dprefix=/home/omengue/.plenv/versions/5.16.3 -de -Dusedevel -A'eval:scriptdir=/home/omengue/.plenv/versions/5.16.3/bin''
    hint=recommended, useposix=true, d_sigaction=define
    useithreads=undef, usemultiplicity=undef
    useperlio=define, d_sfio=undef, uselargefiles=define, usesocks=undef
    use64bitint=define, use64bitall=define, uselongdouble=undef
    usemymalloc=n, bincompat5005=undef
  Compiler:
    cc='cc', ccflags ='-fno-strict-aliasing -pipe -fstack-protector -I/usr/local/include -D_LARGEFILE_SOURCE -D_FILE_OFFSET_BITS=64',
    optimize='-O2',
    cppflags='-fno-strict-aliasing -pipe -fstack-protector -I/usr/local/include'
    ccversion='', gccversion='4.6.3', gccosandvers=''
    intsize=4, longsize=8, ptrsize=8, doublesize=8, byteorder=12345678
    d_longlong=define, longlongsize=8, d_longdbl=define, longdblsize=16
    ivtype='long', ivsize=8, nvtype='double', nvsize=8, Off_t='off_t', lseeksize=8
    alignbytes=8, prototype=define
  Linker and Libraries:
    ld='cc', ldflags =' -fstack-protector -L/usr/local/lib'
    libpth=/usr/local/lib /lib/x86_64-linux-gnu /lib/../lib /usr/lib/x86_64-linux-gnu /usr/lib/../lib /lib /usr/lib
    libs=-lnsl -ldl -lm -lcrypt -lutil -lc
    perllibs=-lnsl -ldl -lm -lcrypt -lutil -lc
    libc=, so=so, useshrplib=false, libperl=libperl.a
    gnulibc_version='2.15'
  Dynamic Linking:
    dlsrc=dl_dlopen.xs, dlext=so, d_dlsymun=undef, ccdlflags='-Wl,-E'
    cccdlflags='-fPIC', lddlflags='-shared -O2 -L/usr/local/lib -fstack-protector'


Characteristics of this binary (from libperl): 
  Compile-time options: HAS_TIMES PERLIO_LAYERS PERL_DONT_CREATE_GVSV
                        PERL_MALLOC_WRAP PERL_PRESERVE_IVUV PERL_USE_DEVEL
                        USE_64_BIT_ALL USE_64_BIT_INT USE_LARGE_FILES
                        USE_LOCALE USE_LOCALE_COLLATE USE_LOCALE_CTYPE
                        USE_LOCALE_NUMERIC USE_PERLIO USE_PERL_ATOF
  Built under linux
  Compiled at Oct 16 2013 14:09:52
  %ENV:
    PERL5LIB="/home/omengue/.local/share/.cpan/build/File-ShareDir-Install-0.08-GyOd55/blib/arch:/home/omengue/.local/share/.cpan/build/File-ShareDir-Install-0.08-GyOd55/blib/lib"
    PERL5OPT=""
    PERL5_CPANPLUS_IS_RUNNING="4610"
    PERL5_CPAN_IS_RUNNING="4610"
    PERL_CPANM_OPT=""
  @INC:
    /home/omengue/.local/share/.cpan/build/File-ShareDir-Install-0.08-GyOd55/blib/arch
    /home/omengue/.local/share/.cpan/build/File-ShareDir-Install-0.08-GyOd55/blib/lib
    /home/omengue/.plenv/versions/5.16.3/lib/perl5/site_perl/5.16.3/x86_64-linux
    /home/omengue/.plenv/versions/5.16.3/lib/perl5/site_perl/5.16.3
    /home/omengue/.plenv/versions/5.16.3/lib/perl5/5.16.3/x86_64-linux
    /home/omengue/.plenv/versions/5.16.3/lib/perl5/5.16.3
    .