Report for PostScript-Graph-1.02

Back
From: metabase:user:30977d10-2aae-11df-837a-5e0a49663a4f
Subject: PASS PostScript-Graph-1.02 v5.15.2 GNU/Linux
Date: 2011-08-23T11:54:21Z

This distribution has been tested as part of the CPAN Testers
project, supporting the Perl programming language.  See
http://wiki.cpantesters.org/ for more information or email
questions to cpan-testers-discuss@perl.org


--
Dear Christopher Willmot,

This is a computer-generated report for PostScript-Graph-1.02
on perl 5.15.2, created by CPAN-Reporter-1.2002.

Thank you for uploading your work to CPAN.  Congratulations!
All tests were successful.

Sections of this report:

    * Tester comments
    * Program output
    * Prerequisites
    * Environment and other context

------------------------------
TESTER COMMENTS
------------------------------

Additional comments from tester:

this report is from an automated smoke testing program
and was not reviewed by a human for accuracy

------------------------------
PROGRAM OUTPUT
------------------------------

Output from '/usr/bin/make test':

PERL_DL_NONLAZY=1 /home/trushel/perl/perl5152m/bin/perl "-MExtUtils::Command::MM" "-e" "test_harness(0, 'blib/lib', 'blib/arch')" t/*.t
Use of uninitialized value in numeric eq (==) at t/01pa-simple.t line 34.
Use ghostview or similar to inspect results file:
/home/trushel/cpan/build/5.15.2-m/PostScript-Graph-1.02-KEuHIX/t/01pa-simple.ps
t/01pa-simple.t .... ok
t/02pa-defaults.t .. ok
Use of uninitialized value in numeric eq (==) at t/03pa-barchart.t line 121.
Use ghostview or similar to inspect results file:
/home/trushel/cpan/build/5.15.2-m/PostScript-Graph-1.02-KEuHIX/t/03pa-barchart.ps
t/03pa-barchart.t .. ok
Use of uninitialized value in numeric eq (==) at t/04pa-twobars.t line 61.
Use ghostview or similar to inspect results file:
/home/trushel/cpan/build/5.15.2-m/PostScript-Graph-1.02-KEuHIX/t/04pa-twobars.ps
t/04pa-twobars.t ... ok
Use of uninitialized value in numeric eq (==) at t/10ke-simple.t line 58.
Use ghostview or similar to inspect results file:
/home/trushel/cpan/build/5.15.2-m/PostScript-Graph-1.02-KEuHIX/t/10ke-simple.ps
t/10ke-simple.t .... ok
Use of uninitialized value in numeric eq (==) at t/21st-simple.t line 53.
Use ghostview or similar to inspect results file:
/home/trushel/cpan/build/5.15.2-m/PostScript-Graph-1.02-KEuHIX/t/21st-simple.ps
t/21st-simple.t .... ok
Use of uninitialized value in numeric eq (==) at t/22st-styles.t line 72.
Use ghostview or similar to inspect results file:
/home/trushel/cpan/build/5.15.2-m/PostScript-Graph-1.02-KEuHIX/t/22st-styles.ps
t/22st-styles.t .... ok
Use of uninitialized value in numeric eq (==) at t/23st-const.t line 56.
Use ghostview or similar to inspect results file:
/home/trushel/cpan/build/5.15.2-m/PostScript-Graph-1.02-KEuHIX/t/23st-const.ps
t/23st-const.t ..... ok
Use of uninitialized value in numeric eq (==) at t/24st-colour.t line 54.
Use ghostview or similar to inspect results file:
/home/trushel/cpan/build/5.15.2-m/PostScript-Graph-1.02-KEuHIX/t/24st-colour.ps
t/24st-colour.t .... ok
Use of uninitialized value in numeric eq (==) at t/31ba-default.t line 45.
Use ghostview or similar to inspect results file:
/home/trushel/cpan/build/5.15.2-m/PostScript-Graph-1.02-KEuHIX/t/31ba-default.ps
t/31ba-default.t ... ok
Use of uninitialized value in numeric eq (==) at t/32ba-arrays.t line 67.
Use ghostview or similar to inspect results file:
/home/trushel/cpan/build/5.15.2-m/PostScript-Graph-1.02-KEuHIX/t/32ba-arrays.ps
t/32ba-arrays.t .... ok
Use of uninitialized value in numeric eq (==) at t/33ba-minus.t line 55.
Use ghostview or similar to inspect results file:
/home/trushel/cpan/build/5.15.2-m/PostScript-Graph-1.02-KEuHIX/t/33ba-minus.ps
t/33ba-minus.t ..... ok
Use of uninitialized value in numeric eq (==) at t/34ba-multi.t line 52.
Use ghostview or similar to inspect results file:
/home/trushel/cpan/build/5.15.2-m/PostScript-Graph-1.02-KEuHIX/t/34ba-multi.ps
t/34ba-multi.t ..... ok
Use of uninitialized value in numeric eq (==) at t/35ba-single.t line 57.
Use ghostview or similar to inspect results file:
/home/trushel/cpan/build/5.15.2-m/PostScript-Graph-1.02-KEuHIX/t/35ba-single.ps
t/35ba-single.t .... ok
Use of uninitialized value in numeric eq (==) at t/36ba-extra.t line 84.
Use ghostview or similar to inspect results file:
/home/trushel/cpan/build/5.15.2-m/PostScript-Graph-1.02-KEuHIX/t/36ba-extra.ps
t/36ba-extra.t ..... ok
Use of uninitialized value in numeric eq (==) at t/37ba-lines.t line 74.
Use ghostview or similar to inspect results file:
/home/trushel/cpan/build/5.15.2-m/PostScript-Graph-1.02-KEuHIX/t/37ba-lines.ps
t/37ba-lines.t ..... ok
Use of uninitialized value in numeric eq (==) at t/41xy-ohms.t line 42.
Use ghostview or similar to inspect results file:
/home/trushel/cpan/build/5.15.2-m/PostScript-Graph-1.02-KEuHIX/t/41xy-ohms.ps
t/41xy-ohms.t ...... ok
Use of uninitialized value in numeric eq (==) at t/42xy-lines.t line 106.
Use ghostview or similar to inspect results file:
/home/trushel/cpan/build/5.15.2-m/PostScript-Graph-1.02-KEuHIX/t/42xy-lines.ps
t/42xy-lines.t ..... ok
Use of uninitialized value in numeric eq (==) at t/43xy-styles.t line 82.
Use ghostview or similar to inspect results file:
/home/trushel/cpan/build/5.15.2-m/PostScript-Graph-1.02-KEuHIX/t/43xy-styles.ps
t/43xy-styles.t .... ok
All tests successful.
Files=19, Tests=261,  1 wallclock secs ( 0.09 usr  0.02 sys +  0.68 cusr  0.23 csys =  1.02 CPU)
Result: PASS

------------------------------
PREREQUISITES
------------------------------

Prerequisite modules loaded:

requires:

    Module              Need Have   
    ------------------- ---- -------
    Carp                0    1.21   
    Exporter            0    5.64_03
    PostScript::File    1.01 2.10   
    Test::More          0    0.98   
    Text::CSV_XS        0    0.83   

build_requires:

    Module              Need Have   
    ------------------- ---- -------
    ExtUtils::MakeMaker 0    6.59   


------------------------------
ENVIRONMENT AND OTHER CONTEXT
------------------------------

Environment variables:

    AUTOMATED_TESTING = 1
    LANG = en_US.UTF-8
    LANGUAGE = en
    LC_COLLATE = C
    LC_MONETARY = C
    LC_NUMERIC = C
    LC_TIME = C
    PATH = /usr/local/sbin:/usr/local/bin:/usr/sbin:/usr/bin:/sbin:/bin
    PERL5LIB = 
    PERL5OPT = 
    PERL5_CPANPLUS_IS_RUNNING = 30833
    PERL5_CPAN_IS_RUNNING = 30833
    PERL5_CPAN_IS_RUNNING_IN_RECURSION = 18361,30833
    PERL_CR_SMOKER_CURRENT = PostScript-Graph-1.02
    PERL_EXTUTILS_AUTOINSTALL = --defaultdeps
    PERL_MM_USE_DEFAULT = 1
    SHELL = /bin/bash
    TERM = xterm

Perl special variables (and OS-specific diagnostics, for MSWin32):

    $^X = /home/trushel/perl/perl5152m/bin/perl
    $UID/$EUID = 138375 / 138375
    $GID = 5762 4 20 21 24 25 26 30 44 46 104 105 119 122 431 5762
    $EGID = 5762 4 20 21 24 25 26 30 44 46 104 105 119 122 431 5762

Perl module toolchain versions installed:

    Module              Have    
    ------------------- --------
    CPAN                1.9800  
    CPAN::Meta          2.112150
    Cwd                 3.37    
    ExtUtils::CBuilder  0.280204
    ExtUtils::Command   1.17    
    ExtUtils::Install   1.57    
    ExtUtils::MakeMaker 6.59    
    ExtUtils::Manifest  1.60    
    ExtUtils::ParseXS   3.03_01 
    File::Spec          3.34    
    JSON                2.53    
    JSON::PP            2.27200 
    Module::Build       0.39_01 
    Module::Signature   n/a     
    Parse::CPAN::Meta   1.4401  
    Test::Harness       3.23    
    Test::More          0.98    
    YAML                0.73    
    YAML::Syck          n/a     
    version             0.93    


--

Summary of my perl5 (revision 5 version 15 subversion 2) configuration:
   
  Platform:
    osname=linux, osvers=2.6.32-33-generic, archname=x86_64-linux-multi
    uname='linux trushel-glaptop 2.6.32-33-generic #72-ubuntu smp fri jul 29 21:07:13 utc 2011 x86_64 gnulinux '
    config_args=''
    hint=recommended, useposix=true, d_sigaction=define
    useithreads=undef, usemultiplicity=define
    useperlio=define, d_sfio=undef, uselargefiles=define, usesocks=undef
    use64bitint=define, use64bitall=define, uselongdouble=undef
    usemymalloc=n, bincompat5005=undef
  Compiler:
    cc='cc', ccflags ='-fno-strict-aliasing -pipe -fstack-protector -I/usr/local/include -D_LARGEFILE_SOURCE -D_FILE_OFFSET_BITS=64',
    optimize='-O2',
    cppflags='-fno-strict-aliasing -pipe -fstack-protector -I/usr/local/include'
    ccversion='', gccversion='4.4.3', gccosandvers=''
    intsize=4, longsize=8, ptrsize=8, doublesize=8, byteorder=12345678
    d_longlong=define, longlongsize=8, d_longdbl=define, longdblsize=16
    ivtype='long', ivsize=8, nvtype='double', nvsize=8, Off_t='off_t', lseeksize=8
    alignbytes=8, prototype=define
  Linker and Libraries:
    ld='cc', ldflags =' -fstack-protector -L/usr/local/lib'
    libpth=/usr/local/lib /lib/../lib /usr/lib/../lib /lib /usr/lib /usr/lib/x86_64-linux-gnu /lib64 /usr/lib64
    libs=-lnsl -ldb -ldl -lm -lcrypt -lutil -lc
    perllibs=-lnsl -ldl -lm -lcrypt -lutil -lc
    libc=/lib/libc-2.11.1.so, so=so, useshrplib=false, libperl=libperl.a
    gnulibc_version='2.11.1'
  Dynamic Linking:
    dlsrc=dl_dlopen.xs, dlext=so, d_dlsymun=undef, ccdlflags='-Wl,-E'
    cccdlflags='-fPIC', lddlflags='-shared -O2 -L/usr/local/lib -fstack-protector'


Characteristics of this binary (from libperl): 
  Compile-time options: HAS_TIMES MULTIPLICITY PERLIO_LAYERS
                        PERL_DONT_CREATE_GVSV PERL_IMPLICIT_CONTEXT
                        PERL_MALLOC_WRAP PERL_PRESERVE_IVUV USE_64_BIT_ALL
                        USE_64_BIT_INT USE_LARGE_FILES USE_LOCALE
                        USE_LOCALE_COLLATE USE_LOCALE_CTYPE
                        USE_LOCALE_NUMERIC USE_PERLIO USE_PERL_ATOF
  Built under linux
  Compiled at Aug 22 2011 23:17:48
  %ENV:
    PERL5LIB=""
    PERL5OPT=""
    PERL5_CPANPLUS_IS_RUNNING="30833"
    PERL5_CPAN_IS_RUNNING="30833"
    PERL5_CPAN_IS_RUNNING_IN_RECURSION="18361,30833"
    PERL_CR_SMOKER_CURRENT="PostScript-Graph-1.02"
    PERL_EXTUTILS_AUTOINSTALL="--defaultdeps"
    PERL_MM_USE_DEFAULT="1"
  @INC:
    /home/trushel/perl/perl5152m/lib/site_perl/5.15.2/x86_64-linux-multi
    /home/trushel/perl/perl5152m/lib/site_perl/5.15.2
    /home/trushel/perl/perl5152m/lib/5.15.2/x86_64-linux-multi
    /home/trushel/perl/perl5152m/lib/5.15.2
    .