Fl v0.99.15 Perl 5 v5.33.4 x86_64-linux

Status
Pass
From
Andreas J. König (ANDK)
Dist
Fl v0.99.15
Platform
Perl 5 v5.33.4 x86_64-linux
Date
2020-11-24 17:15:23
ID
a3694ca4-2e78-11eb-85e8-ea4b79c09f19
This distribution has been tested as part of the CPAN Testers
project, supporting the Perl programming language.  See
http://wiki.cpantesters.org/ for more information or email
questions to cpan-testers-discuss@perl.org


--
Dear Sanko Robinson,

This is a computer-generated report for Fl-0.99.15
on perl 5.33.4, created by CPAN-Reporter-1.2018.

Thank you for uploading your work to CPAN.  Congratulations!
All tests were successful.

Sections of this report:

    * Tester comments
    * Program output
    * Prerequisites
    * Environment and other context

------------------------------
TESTER COMMENTS
------------------------------

Additional comments from tester:

this report is from an automated smoke testing program
and was not reviewed by a human for accuracy

------------------------------
PROGRAM OUTPUT
------------------------------

Output from './Build test':

t/00_compile.t ................. ok
t/04_fl_color_can_ok.t ......... ok
t/02_fl_event_can_ok.t ......... ok
t/03_fl_enumerations_can_ok.t .. ok
t/21_fl_box.t .................. ok
t/05_fl_clipboard_can_ok.t ..... ok
t/23_fl_lightbutton.t .......... ok
t/22_fl_button.t ............... ok
t/24_fl_checkbutton.t .......... ok
t/01_hello_world.t ............. ok
t/25_fl_returnbutton.t ......... ok
t/26_fl_repeatbutton.t ......... ok
t/27_fl_roundbutton.t .......... ok
t/28_fl_radioroundbutton.t ..... ok
t/29_fl_radiobutton.t .......... ok
t/30_fl_radiolightbutton.t ..... ok
t/31_fl_togglebutton.t ......... ok
t/33_fl_secretinput.t .......... ok
t/34_fl_floatinput.t ........... ok
t/35_fl_intinput.t ............. ok
t/36_fl_multilineinput.t ....... ok
t/32_fl_chart.t ................ ok
t/32_fl_input.t ................ ok
t/37_fl_valuator.t ............. ok
t/38_fl_adjustor.t ............. ok
t/39_fl_counter.t .............. ok
t/40_fl_simplecounter.t ........ ok
t/41_fl_dial.t ................. ok
t/42_fl_filldial.t ............. ok
t/43_fl_linedial.t ............. ok
t/44_fl_roller.t ............... ok
t/46_fl_multilineoutput.t ...... ok
t/45_fl_output.t ............... ok
t/47_fl_progress.t ............. ok
t/50_fl_group.t ................ ok
t/48_fl_inputchoice.t .......... ok
t/56_fl_menubutton.t ........... ok
t/60_fl_htmlview.t ............. ok
t/51_fl_window.t ............... ok
t/70_fl_valueoutput.t .......... ok
t/71_fl_valueinput.t ........... ok
t/82_fl_horfillslider.t ........ ok
t/55_fl_menu.t ................. ok
t/83_fl_horniceslider.t ........ ok
t/81_fl_fillslider.t ........... ok
t/80_fl_slider.t ............... ok
t/84_fl_horslider.t ............ ok
t/86_fl_scrollbar.t ............ ok
t/85_fl_niceslider.t ........... ok
t/87_fl_valueslider.t .......... ok
t/88_fl_horvalueslider.t ....... ok
t/89_fl_tabs.t ................. ok
t/90_fltk_namespace_alias.t .... ok
t/91_fl_type.t ................. ok
All tests successful.
Files=54, Tests=369,  3 wallclock secs ( 0.08 usr  0.64 sys +  2.98 cusr  1.04 csys =  4.74 CPU)
Result: PASS

------------------------------
PREREQUISITES
------------------------------

Prerequisite modules loaded:

requires:

    Module                Need     Have    
    --------------------- -------- --------
    perl                  5.008001 5.033004

build_requires:

    Module                Need     Have    
    --------------------- -------- --------
    ExtUtils::CBuilder    0        0.280235
    Test::More            0.98     1.302183
    Test::NeedsDisplay    0        1.07    

configure_requires:

    Module                Need     Have    
    --------------------- -------- --------
    Alien::FLTK           v1.3.5   v1.3.5  
    Module::Build         0.4005   0.4231  
    Module::Build::XSUtil 0.03     0.19    
    Template::Liquid      0        1.0.19  
    Test::NeedsDisplay    0        1.07    


------------------------------
ENVIRONMENT AND OTHER CONTEXT
------------------------------

Environment variables:

    AUTOMATED_TESTING = 1
    LANG = en_US.utf8
    PATH = /home/sand/bin:/usr/local/bin:/usr/local/sbin:/usr/sbin:/usr/bin:/sbin:/bin:/usr/games:/usr/local/games:/snap/bin:/usr/local/perl/bin:/usr/X11/bin
    PERL = /tmp/basesmoker-reloperl-YGPu/bin/perl
    PERL5LIB = /tmp/loop_over_bdir-5884-6mZP06/mmds-1.902-0/blib/arch:/tmp/loop_over_bdir-5884-6mZP06/mmds-1.902-0/blib/lib:/tmp/loop_over_bdir-5884-6mZP06/RDF-NLP-SPARQLQuery-0.1-0/blib/arch:/tmp/loop_over_bdir-5884-6mZP06/RDF-NLP-SPARQLQuery-0.1-0/blib/lib:/tmp/loop_over_bdir-5884-6mZP06/Lingua-YaTeA-0.626-0/blib/arch:/tmp/loop_over_bdir-5884-6mZP06/Lingua-YaTeA-0.626-0/blib/lib:/tmp/loop_over_bdir-5884-6mZP06/Dpkg-1.20.5-0/blib/arch:/tmp/loop_over_bdir-5884-6mZP06/Dpkg-1.20.5-0/blib/lib:/tmp/loop_over_bdir-5884-6mZP06/Debian-Packages-0.03-0/blib/arch:/tmp/loop_over_bdir-5884-6mZP06/Debian-Packages-0.03-0/blib/lib:/tmp/loop_over_bdir-5884-6mZP06/Serge-1.4-0/blib/arch:/tmp/loop_over_bdir-5884-6mZP06/Serge-1.4-0/blib/lib
    PERL5OPT = 
    PERL5_CPANPLUS_IS_RUNNING = 5892
    PERL5_CPAN_IS_RUNNING = 5892
    PERL_CANARY_STABILITY_NOPROMPT = 1
    PERL_MM_USE_DEFAULT = 1
    PERL_USE_UNSAFE_INC = 1
    SHELL = /usr/bin/zsh
    TERM = screen

Perl special variables (and OS-specific diagnostics, for MSWin32):

    $^X = /tmp/basesmoker-reloperl-YGPu/bin/perl
    $UID/$EUID = 1005 / 1005
    $GID = 1005 1005
    $EGID = 1005 1005

Perl module toolchain versions installed:

    Module              Have    
    ------------------- --------
    CPAN                2.28    
    CPAN::Meta          2.150010
    Cwd                 3.79    
    ExtUtils::CBuilder  0.280235
    ExtUtils::Command   7.56    
    ExtUtils::Install   2.18    
    ExtUtils::MakeMaker 7.56    
    ExtUtils::Manifest  1.72    
    ExtUtils::ParseXS   3.41    
    File::Spec          3.79    
    JSON                4.02    
    JSON::PP            4.05    
    Module::Build       0.4231  
    Module::Signature   0.87    
    Parse::CPAN::Meta   2.150010
    Test::Harness       3.42    
    Test::More          1.302183
    YAML                1.30    
    YAML::Syck          1.34    
    version             0.9928  


--

Summary of my perl5 (revision 5 version 33 subversion 4) configuration:
  Commit id: 019e34c2029d812bfe75e990c48a751881ed7776
  Platform:
    osname=linux
    osvers=4.15.0-123-generic
    archname=x86_64-linux
    uname='linux k93bionic 4.15.0-123-generic #126-ubuntu smp wed oct 21 09:40:11 utc 2020 x86_64 x86_64 x86_64 gnulinux '
    config_args='-Dprefix=/home/sand/src/perl/repoperls/installed-perls/host/k93bionic/v5.33.4/2aaf -Dmyhostname=k93bionic -Dinstallusrbinperl=n -Uversiononly -Dusedevel -des -Ui_db -Dlibswanted=cl pthread socket inet nsl gdbm dbm malloc dl ld sun m crypt sec util c cposix posix ucb BSD gdbm_compat -Uuseithreads -Uuselongdouble -DEBUGGING=-g'
    hint=recommended
    useposix=true
    d_sigaction=define
    useithreads=undef
    usemultiplicity=undef
    use64bitint=define
    use64bitall=define
    uselongdouble=undef
    usemymalloc=n
    default_inc_excludes_dot=define
  Compiler:
    cc='cc'
    ccflags ='-fwrapv -fno-strict-aliasing -pipe -fstack-protector-strong -I/usr/local/include -D_LARGEFILE_SOURCE -D_FILE_OFFSET_BITS=64'
    optimize='-O2 -g'
    cppflags='-fwrapv -fno-strict-aliasing -pipe -fstack-protector-strong -I/usr/local/include'
    ccversion=''
    gccversion='7.5.0'
    gccosandvers=''
    intsize=4
    longsize=8
    ptrsize=8
    doublesize=8
    byteorder=12345678
    doublekind=3
    d_longlong=define
    longlongsize=8
    d_longdbl=define
    longdblsize=16
    longdblkind=3
    ivtype='long'
    ivsize=8
    nvtype='double'
    nvsize=8
    Off_t='off_t'
    lseeksize=8
    alignbytes=8
    prototype=define
  Linker and Libraries:
    ld='cc'
    ldflags =' -fstack-protector-strong -L/usr/local/lib'
    libpth=/usr/local/lib /usr/lib/gcc/x86_64-linux-gnu/7/include-fixed /usr/include/x86_64-linux-gnu /usr/lib /lib/x86_64-linux-gnu /lib/../lib /usr/lib/x86_64-linux-gnu /usr/lib/../lib /lib
    libs=-lpthread -lnsl -ldl -lm -lcrypt -lutil -lc
    perllibs=-lpthread -lnsl -ldl -lm -lcrypt -lutil -lc
    libc=libc-2.27.so
    so=so
    useshrplib=false
    libperl=libperl.a
    gnulibc_version='2.27'
  Dynamic Linking:
    dlsrc=dl_dlopen.xs
    dlext=so
    d_dlsymun=undef
    ccdlflags='-Wl,-E'
    cccdlflags='-fPIC'
    lddlflags='-shared -O2 -g -L/usr/local/lib -fstack-protector-strong'


Characteristics of this binary (from libperl): 
  Compile-time options:
    HAS_TIMES
    PERLIO_LAYERS
    PERL_COPY_ON_WRITE
    PERL_DONT_CREATE_GVSV
    PERL_MALLOC_WRAP
    PERL_OP_PARENT
    PERL_PRESERVE_IVUV
    PERL_USE_DEVEL
    USE_64_BIT_ALL
    USE_64_BIT_INT
    USE_LARGE_FILES
    USE_LOCALE
    USE_LOCALE_COLLATE
    USE_LOCALE_CTYPE
    USE_LOCALE_NUMERIC
    USE_LOCALE_TIME
    USE_PERLIO
    USE_PERL_ATOF
  Built under linux
  Compiled at Nov 20 2020 15:10:51
  %ENV:
    PERL="/tmp/basesmoker-reloperl-YGPu/bin/perl"
    PERL5LIB="/tmp/loop_over_bdir-5884-6mZP06/mmds-1.902-0/blib/arch:/tmp/loop_over_bdir-5884-6mZP06/mmds-1.902-0/blib/lib:/tmp/loop_over_bdir-5884-6mZP06/RDF-NLP-SPARQLQuery-0.1-0/blib/arch:/tmp/loop_over_bdir-5884-6mZP06/RDF-NLP-SPARQLQuery-0.1-0/blib/lib:/tmp/loop_over_bdir-5884-6mZP06/Lingua-YaTeA-0.626-0/blib/arch:/tmp/loop_over_bdir-5884-6mZP06/Lingua-YaTeA-0.626-0/blib/lib:/tmp/loop_over_bdir-5884-6mZP06/Dpkg-1.20.5-0/blib/arch:/tmp/loop_over_bdir-5884-6mZP06/Dpkg-1.20.5-0/blib/lib:/tmp/loop_over_bdir-5884-6mZP06/Debian-Packages-0.03-0/blib/arch:/tmp/loop_over_bdir-5884-6mZP06/Debian-Packages-0.03-0/blib/lib:/tmp/loop_over_bdir-5884-6mZP06/Serge-1.4-0/blib/arch:/tmp/loop_over_bdir-5884-6mZP06/Serge-1.4-0/blib/lib"
    PERL5OPT=""
    PERL5_CPANPLUS_IS_RUNNING="5892"
    PERL5_CPAN_IS_RUNNING="5892"
    PERL_CANARY_STABILITY_NOPROMPT="1"
    PERL_MM_USE_DEFAULT="1"
    PERL_USE_UNSAFE_INC="1"
  @INC:
    /tmp/loop_over_bdir-5884-6mZP06/mmds-1.902-0/blib/arch
    /tmp/loop_over_bdir-5884-6mZP06/mmds-1.902-0/blib/lib
    /tmp/loop_over_bdir-5884-6mZP06/RDF-NLP-SPARQLQuery-0.1-0/blib/arch
    /tmp/loop_over_bdir-5884-6mZP06/RDF-NLP-SPARQLQuery-0.1-0/blib/lib
    /tmp/loop_over_bdir-5884-6mZP06/Lingua-YaTeA-0.626-0/blib/arch
    /tmp/loop_over_bdir-5884-6mZP06/Lingua-YaTeA-0.626-0/blib/lib
    /tmp/loop_over_bdir-5884-6mZP06/Dpkg-1.20.5-0/blib/arch
    /tmp/loop_over_bdir-5884-6mZP06/Dpkg-1.20.5-0/blib/lib
    /tmp/loop_over_bdir-5884-6mZP06/Debian-Packages-0.03-0/blib/arch
    /tmp/loop_over_bdir-5884-6mZP06/Debian-Packages-0.03-0/blib/lib
    /tmp/loop_over_bdir-5884-6mZP06/Serge-1.4-0/blib/arch
    /tmp/loop_over_bdir-5884-6mZP06/Serge-1.4-0/blib/lib
    /home/sand/src/perl/repoperls/installed-perls/host/k93bionic/v5.33.4/2aaf/lib/site_perl/5.33.4/x86_64-linux
    /home/sand/src/perl/repoperls/installed-perls/host/k93bionic/v5.33.4/2aaf/lib/site_perl/5.33.4
    /home/sand/src/perl/repoperls/installed-perls/host/k93bionic/v5.33.4/2aaf/lib/5.33.4/x86_64-linux
    /home/sand/src/perl/repoperls/installed-perls/host/k93bionic/v5.33.4/2aaf/lib/5.33.4
    .