PayProp-API-Public-Client v0.04 Perl 5 v5.34.3 x86_64-linux

Status
Pass
From
Andreas J. König (ANDK)
Dist
PayProp-API-Public-Client v0.04
Platform
Perl 5 v5.34.3 x86_64-linux
Date
2023-12-13 23:09:16
ID
a34efbc6-9a0c-11ee-9658-84d0fb3d226e
This distribution has been tested as part of the CPAN Testers
project, supporting the Perl programming language.  See
http://wiki.cpantesters.org/ for more information or email
questions to cpan-testers-discuss@perl.org


--
Dear Yanga Kandeni,

This is a computer-generated report for PayProp-API-Public-Client-0.04
on perl 5.34.3, created by CPAN-Reporter-1.2019.

Thank you for uploading your work to CPAN.  Congratulations!
All tests were successful.

Sections of this report:

    * Tester comments
    * Program output
    * Prerequisites
    * Environment and other context

------------------------------
TESTER COMMENTS
------------------------------

Additional comments from tester:

this report is from an automated smoke testing program
and was not reviewed by a human for accuracy

------------------------------
PROGRAM OUTPUT
------------------------------

Output from './Build test':

t/author-pod-syntax.t ............................................... skipped: these tests are for testing by the author
t/basic.t ........................................................... ok
t/payprop/api/public/client.t ....................................... ok
t/payprop/api/public/client/authorization/apikey.t .................. ok
t/payprop/api/public/client/authorization/base.t .................... ok
[2023-12-14 00:08:44.68995] [2715297] [info] Listening at "http://*:6546"
t/payprop/api/public/client/authorization/clientcredentials.t ....... ok
t/payprop/api/public/client/authorization/storage/local.t ........... ok
Unhandled rejected promise: ping failed at t/payprop/api/public/client/authorization/storage/memcached.t line 68.
t/payprop/api/public/client/authorization/storage/memcached.t ....... ok
t/payprop/api/public/client/error/authorization.t ................... ok
t/payprop/api/public/client/error/response.t ........................ ok
t/payprop/api/public/client/exception/authorization.t ............... ok
t/payprop/api/public/client/exception/base.t ........................ ok
t/payprop/api/public/client/exception/connection.t .................. ok
t/payprop/api/public/client/exception/response.t .................... ok
t/payprop/api/public/client/exception/storage.t ..................... ok
t/payprop/api/public/client/request/entity.t ........................ ok
[2023-12-14 00:08:49.05004] [2715309] [info] Listening at "http://*:6458"
[2023-12-14 00:08:49.56469] [2715310] [info] Listening at "http://*:6458"
child process '2715309' disappeared. A call to `waitpid` outside of Parallel::ForkManager might have reaped it.
[2023-12-14 00:08:50.10196] [2715311] [info] Listening at "http://*:6458"
t/payprop/api/public/client/request/entity/invoice.t ................ ok
[2023-12-14 00:08:51.09053] [2715313] [info] Listening at "http://*:6462"
[2023-12-14 00:08:51.64701] [2715314] [info] Listening at "http://*:6462"
child process '2715313' disappeared. A call to `waitpid` outside of Parallel::ForkManager might have reaped it.
[2023-12-14 00:08:52.18035] [2715315] [info] Listening at "http://*:6462"
t/payprop/api/public/client/request/entity/payment.t ................ ok
t/payprop/api/public/client/request/export.t ........................ ok
[2023-12-14 00:08:53.79761] [2715318] [info] Listening at "http://*:6467"
t/payprop/api/public/client/request/export/beneficiaries.t .......... ok
[2023-12-14 00:08:54.88787] [2715320] [info] Listening at "http://*:6469"
t/payprop/api/public/client/request/export/tenants.t ................ ok
[2023-12-14 00:08:55.95641] [2715322] [info] Listening at "http://*:6471"
[2023-12-14 00:08:56.57565] [2715323] [info] Listening at "http://*:6471"
child process '2715322' disappeared. A call to `waitpid` outside of Parallel::ForkManager might have reaped it.
[2023-12-14 00:08:57.07450] [2715324] [info] Listening at "http://*:6471"
[2023-12-14 00:08:57.62662] [2715325] [info] Listening at "http://*:6471"
child process '2715324' disappeared. A call to `waitpid` outside of Parallel::ForkManager might have reaped it.
[2023-12-14 00:08:58.60005] [2715326] [info] Listening at "http://*:6471"
[2023-12-14 00:08:59.13081] [2715327] [info] Listening at "http://*:6471"
child process '2715326' disappeared. A call to `waitpid` outside of Parallel::ForkManager might have reaped it.
[2023-12-14 00:08:59.64705] [2715328] [info] Listening at "http://*:6471"
t/payprop/api/public/client/request/tags.t .......................... ok
t/payprop/api/public/client/response/entity/invoice.t ............... ok
t/payprop/api/public/client/response/entity/payment.t ............... ok
t/payprop/api/public/client/response/export/beneficiary.t ........... ok
t/payprop/api/public/client/response/export/beneficiary/address.t ... ok
t/payprop/api/public/client/response/export/beneficiary/property.t .. ok
t/payprop/api/public/client/response/export/tenant.t ................ ok
t/payprop/api/public/client/response/export/tenant/address.t ........ ok
t/payprop/api/public/client/response/export/tenant/property.t ....... ok
t/payprop/api/public/client/response/tag.t .......................... ok
t/payprop/api/public/client/role/apirequest.t ....................... ok
t/payprop/api/public/client/role/attribute/apiversion.t ............. ok
t/payprop/api/public/client/role/attribute/authorization.t .......... ok
t/payprop/api/public/client/role/attribute/domain.t ................. ok
t/payprop/api/public/client/role/attribute/storage.t ................ ok
t/payprop/api/public/client/role/attribute/token.t .................. ok
t/payprop/api/public/client/role/attribute/ua.t ..................... ok
t/payprop/api/public/client/role/encrypt.t .......................... ok
t/payprop/api/public/client/role/json.t ............................. ok
t/payprop/api/public/client/role/request.t .......................... ok
t/payprop/api/public/client/role/storage.t .......................... ok
t/payprop/api/public/client/util/apirequest.t ....................... ok
t/payprop/api/public/client/util/request.t .......................... ok
All tests successful.
Files=44, Tests=147, 25 wallclock secs ( 0.13 usr  0.06 sys + 12.45 cusr  2.30 csys = 14.94 CPU)
Result: PASS

------------------------------
PREREQUISITES
------------------------------

Prerequisite modules loaded:

requires:

    Module                       Need  Have   
    ---------------------------- ----- -------
    Cache::Memcached             0     1.30   
    Crypt::CBC                   0     3.04   
    IO::Socket::INET             0     1.46   
    MIME::Base64                 0     3.16   
    Module::Load                 0     0.36   
    Mojo::Promise                0     0      
    Mojo::URL                    0     0      
    Mojo::UserAgent              0     0      
    Mojolicious                  0     9.35   
    Mouse                        0     v2.5.10
    Mouse::Role                  0     v2.5.10
    Mouse::Util::TypeConstraints 0     0      
    Parallel::ForkManager        0     2.02   
    parent                       0     0.241  
    POSIX                        0     1.97   
    strict                       0     1.12   
    Time::HiRes                  0     1.9767 
    warnings                     0     1.51   

build_requires:

    Module                       Need  Have   
    ---------------------------- ----- -------
    FindBin                      0     1.52   
    JSON::PP                     0     4.16   
    lib                          0     0.65   
    Test::Most                   0     0.38   

configure_requires:

    Module                       Need  Have   
    ---------------------------- ----- -------
    Module::Build::Tiny          0.034 0.047  


------------------------------
ENVIRONMENT AND OTHER CONTEXT
------------------------------

Environment variables:

    AUTOMATED_TESTING = 1
    LANG = en_US.UTF-8
    LANGUAGE = en_US:en
    PATH = /home/sand/bin:/usr/local/bin:/usr/bin:/bin:/usr/games:/usr/local/perl/bin:/usr/X11/bin:/sbin:/usr/sbin
    PERL5LIB = 
    PERL5OPT = 
    PERL5_CPANPLUS_IS_RUNNING = 2711900
    PERL5_CPAN_IS_RUNNING = 2711900
    PERL_CANARY_STABILITY_NOPROMPT = 1
    PERL_MM_USE_DEFAULT = 1
    PERL_USE_UNSAFE_INC = 1
    SHELL = /usr/bin/zsh
    TERM = screen

Perl special variables (and OS-specific diagnostics, for MSWin32):

    $^X = /home/sand/src/perl/repoperls/installed-perls/host/k93msid/v5.34.3/bb7f/bin/perl
    $UID/$EUID = 1005 / 1005
    $GID = 1005 1005
    $EGID = 1005 1005

Perl module toolchain versions installed:

    Module              Have    
    ------------------- --------
    CPAN                2.36    
    CPAN::Meta          2.150010
    Cwd                 3.80    
    ExtUtils::CBuilder  0.280236
    ExtUtils::Command   7.70    
    ExtUtils::Install   2.20    
    ExtUtils::MakeMaker 7.70    
    ExtUtils::Manifest  1.73    
    ExtUtils::ParseXS   3.43    
    File::Spec          3.80    
    JSON                4.10    
    JSON::PP            4.16    
    Module::Build       0.4234  
    Module::Signature   0.88    
    Parse::CPAN::Meta   2.150010
    Test2               1.302197
    Test::Harness       3.48    
    Test::More          1.302197
    YAML                1.30    
    YAML::Syck          1.34    
    version             0.9930  


--

Summary of my perl5 (revision 5 version 34 subversion 3) configuration:
  Commit id: 81db88e83a981f603c5207a1fc4cc41da8dd5d79
  Platform:
    osname=linux
    osvers=6.5.0-4-amd64
    archname=x86_64-linux
    uname='linux k93msid 6.5.0-4-amd64 #1 smp preempt_dynamic debian 6.5.10-1 (2023-11-03) x86_64 gnulinux '
    config_args='-Dprefix=/home/sand/src/perl/repoperls/installed-perls/host/k93msid/v5.34.3/bb7f -Dmyhostname=k93msid -Dinstallusrbinperl=n -Uversiononly -Dusedevel -des -Ui_db -Dlibswanted=cl pthread socket inet nsl gdbm dbm malloc dl ld sun m crypt sec util c cposix posix ucb BSD gdbm_compat -Uuseithreads -Uuselongdouble -DEBUGGING=both'
    hint=recommended
    useposix=true
    d_sigaction=define
    useithreads=undef
    usemultiplicity=undef
    use64bitint=define
    use64bitall=define
    uselongdouble=undef
    usemymalloc=n
    default_inc_excludes_dot=define
  Compiler:
    cc='cc'
    ccflags ='-fwrapv -DDEBUGGING -fno-strict-aliasing -pipe -fstack-protector-strong -I/usr/local/include -D_LARGEFILE_SOURCE -D_FILE_OFFSET_BITS=64 -D_FORTIFY_SOURCE=2'
    optimize='-O2 -g'
    cppflags='-fwrapv -DDEBUGGING -fno-strict-aliasing -pipe -fstack-protector-strong -I/usr/local/include'
    ccversion=''
    gccversion='13.2.0'
    gccosandvers=''
    intsize=4
    longsize=8
    ptrsize=8
    doublesize=8
    byteorder=12345678
    doublekind=3
    d_longlong=define
    longlongsize=8
    d_longdbl=define
    longdblsize=16
    longdblkind=3
    ivtype='long'
    ivsize=8
    nvtype='double'
    nvsize=8
    Off_t='off_t'
    lseeksize=8
    alignbytes=8
    prototype=define
  Linker and Libraries:
    ld='cc'
    ldflags =' -fstack-protector-strong -L/usr/local/lib'
    libpth=/usr/local/lib /usr/lib/x86_64-linux-gnu /usr/lib /usr/lib64
    libs=-lpthread -lnsl -ldl -lm -lcrypt -lutil -lc
    perllibs=-lpthread -lnsl -ldl -lm -lcrypt -lutil -lc
    libc=/lib/x86_64-linux-gnu/libc.so.6
    so=so
    useshrplib=false
    libperl=libperl.a
    gnulibc_version='2.37'
  Dynamic Linking:
    dlsrc=dl_dlopen.xs
    dlext=so
    d_dlsymun=undef
    ccdlflags='-Wl,-E'
    cccdlflags='-fPIC'
    lddlflags='-shared -O2 -g -L/usr/local/lib -fstack-protector-strong'


Characteristics of this binary (from libperl): 
  Compile-time options:
    DEBUGGING
    HAS_TIMES
    PERLIO_LAYERS
    PERL_COPY_ON_WRITE
    PERL_DONT_CREATE_GVSV
    PERL_MALLOC_WRAP
    PERL_OP_PARENT
    PERL_PRESERVE_IVUV
    PERL_USE_DEVEL
    USE_64_BIT_ALL
    USE_64_BIT_INT
    USE_LARGE_FILES
    USE_LOCALE
    USE_LOCALE_COLLATE
    USE_LOCALE_CTYPE
    USE_LOCALE_NUMERIC
    USE_LOCALE_TIME
    USE_PERLIO
    USE_PERL_ATOF
  Built under linux
  Compiled at Nov 30 2023 11:58:07
  %ENV:
    PERL5LIB=""
    PERL5OPT=""
    PERL5_CPANPLUS_IS_RUNNING="2711900"
    PERL5_CPAN_IS_RUNNING="2711900"
    PERL_CANARY_STABILITY_NOPROMPT="1"
    PERL_MM_USE_DEFAULT="1"
    PERL_USE_UNSAFE_INC="1"
  @INC:
    /home/sand/src/perl/repoperls/installed-perls/host/k93msid/v5.34.3/bb7f/lib/site_perl/5.34.3/x86_64-linux
    /home/sand/src/perl/repoperls/installed-perls/host/k93msid/v5.34.3/bb7f/lib/site_perl/5.34.3
    /home/sand/src/perl/repoperls/installed-perls/host/k93msid/v5.34.3/bb7f/lib/5.34.3/x86_64-linux
    /home/sand/src/perl/repoperls/installed-perls/host/k93msid/v5.34.3/bb7f/lib/5.34.3
    .