Archive-Tar-Wrapper v0.34 Perl 5 v5.14.0 amd64-netbsd

Status
Pass
From
Nigel Horne
Dist
Archive-Tar-Wrapper v0.34
Platform
Perl 5 v5.14.0 amd64-netbsd
Date
2019-03-24 15:58:15
ID
a25ea67c-4e4d-11e9-bcbd-c2ce62b887d7
This distribution has been tested as part of the CPAN Testers
project, supporting the Perl programming language.  See
http://wiki.cpantesters.org/ for more information or email
questions to cpan-testers-discuss@perl.org


--
Dear Alceu Rodrigues de Freitas Junior,

This is a computer-generated report for Archive-Tar-Wrapper-0.34
on perl 5.14.0, created by CPAN-Reporter-1.2018.

Thank you for uploading your work to CPAN.  Congratulations!
All tests were successful.

Sections of this report:

    * Tester comments
    * Program output
    * Prerequisites
    * Environment and other context

------------------------------
TESTER COMMENTS
------------------------------

Additional comments from tester:

this report is from an automated smoke testing program
and was not reviewed by a human for accuracy

------------------------------
PROGRAM OUTPUT
------------------------------

Output from '/usr/bin/make test':

PERL_DL_NONLAZY=1 "/home/njh/perl5/perlbrew/perls/perl-5.14.0/bin/perl" "-MExtUtils::Command::MM" "-MTest::Harness" "-e" "undef *Test::Harness::Switches; test_harness(0, 'blib/lib', 'blib/arch')" t/*.t
t/001Basic.t ........ ok
t/002Mult.t ......... ok
t/003Dirs.t ......... ok
t/004Utf8.t ......... ok
t/005Cwd.t .......... ok
t/006DirPerms.t ..... ok
t/007bzip.t ......... ok
# with grep: Ran 1274 iterations (270 outliers).
# with grep: Rounded run time per iteration: 0.000728 +/- 0.000002 (0.3%)
# with grep and compiled regex: Ran 1704 iterations (107 outliers).
# with grep and compiled regex: Rounded run time per iteration: 0.001108 +/- 0.000005 (0.5%)
# with eq: Ran 1337 iterations (310 outliers).
# with eq: Rounded run time per iteration: 0.000540 +/- 0.000001 (0.1%)
# with enhanced eq: Ran 1214 iterations (190 outliers).
# with enhanced eq: Rounded run time per iteration: 0.000502 +/- 0.000000 (0.1%)
# with enhanced eq mark2: Ran 1157 iterations (122 outliers).
# with enhanced eq mark2: Rounded run time per iteration: 0.000324 +/- 0.000001 (0.2%)
# with enhanced eq mark3: Ran 1274 iterations (191 outliers).
# with enhanced eq mark3: Rounded run time per iteration: 0.000360 +/- 0.000001 (0.3%)
# sort and shift: Ran 1403 iterations (382 outliers).
# sort and shift: Rounded run time per iteration: 0.002020 +/- 0.000003 (0.2%)
t/008performance.t .. ok
t/009compressed.t ... ok
t/010openbsd.t ...... ok
All tests successful.
Files=10, Tests=65, 31 wallclock secs ( 0.10 usr  0.03 sys + 19.22 cusr  3.89 csys = 23.24 CPU)
Result: PASS

------------------------------
PREREQUISITES
------------------------------

Prerequisite modules loaded:

requires:

    Module              Need     Have      
    ------------------- -------- ----------
    Cwd                 0        3.75      
    File::Temp          0        0.2308    
    File::Which         0        1.22      
    IPC::Run            0        20180523.0
    Log::Log4perl       0        1.49      
    perl                5.008001 5.014000  

build_requires:

    Module              Need     Have      
    ------------------- -------- ----------
    Dumbbench           0.111    0.111     
    ExtUtils::MakeMaker 0        7.34      
    Test::Simple        1.302073 1.302140  

configure_requires:

    Module              Need     Have      
    ------------------- -------- ----------
    ExtUtils::MakeMaker 0        7.34      
    File::Which         0        1.22      


------------------------------
ENVIRONMENT AND OTHER CONTEXT
------------------------------

Environment variables:

    AUTOMATED_TESTING = 1
    NONINTERACTIVE_TESTING = 1
    PATH = /home/njh/perl5/perlbrew/bin:/home/njh/perl5/perlbrew/perls/perl-5.14.0/bin:/home/njh/src/njh/smoker/bin:/usr/bin:/bin:/usr/pkg/bin:/usr/local/bin
    PERL5LIB = /home/njh/.cpan/build/Dumbbench-0.111-10/blib/arch:/home/njh/.cpan/build/Dumbbench-0.111-10/blib/lib:/home/njh/.cpan/build/Statistics-CaseResampling-0.15-10/blib/arch:/home/njh/.cpan/build/Statistics-CaseResampling-0.15-10/blib/lib:/home/njh/.cpan/build/Number-WithError-1.01-10/blib/arch:/home/njh/.cpan/build/Number-WithError-1.01-10/blib/lib:/home/njh/.cpan/build/Test-LectroTest-0.5001-10/blib/arch:/home/njh/.cpan/build/Test-LectroTest-0.5001-10/blib/lib:/home/njh/.cpan/build/Devel-CheckOS-1.81-10/blib/arch:/home/njh/.cpan/build/Devel-CheckOS-1.81-10/blib/lib:/home/njh/.cpan/build/Data-Compare-1.25-10/blib/arch:/home/njh/.cpan/build/Data-Compare-1.25-10/blib/lib
    PERL5OPT = 
    PERL5_CPANPLUS_IS_RUNNING = 29434
    PERL5_CPAN_IS_RUNNING = 29434
    PERLBREW_HOME = /home/njh/.perlbrew
    PERLBREW_MANPATH = /home/njh/perl5/perlbrew/perls/perl-5.14.0/man
    PERLBREW_PATH = /home/njh/perl5/perlbrew/bin:/home/njh/perl5/perlbrew/perls/perl-5.14.0/bin
    PERLBREW_PERL = perl-5.14.0
    PERLBREW_ROOT = /home/njh/perl5/perlbrew
    PERLBREW_SHELLRC_VERSION = 0.82
    PERLBREW_VERSION = 0.82
    PERL_MM_USE_DEFAULT = 1
    PERL_USE_UNSAFE_INC = 1
    SHELL = /bin/sh
    TMPDIR = /tmp/testwrapper.10733

Perl special variables (and OS-specific diagnostics, for MSWin32):

    $^X = /home/njh/perl5/perlbrew/perls/perl-5.14.0/bin/perl
    $UID/$EUID = 1000 / 1000
    $GID = 100 100 0
    $EGID = 100 100 0

Perl module toolchain versions installed:

    Module              Have    
    ------------------- --------
    CPAN                2.22    
    CPAN::Meta          2.150010
    Cwd                 3.75    
    ExtUtils::CBuilder  0.280230
    ExtUtils::Command   7.34    
    ExtUtils::Install   2.14    
    ExtUtils::MakeMaker 7.34    
    ExtUtils::Manifest  1.71    
    ExtUtils::ParseXS   3.35    
    File::Spec          3.75    
    JSON                4.02    
    JSON::PP            2.97001 
    Module::Build       0.4224  
    Module::Signature   n/a     
    Parse::CPAN::Meta   2.150010
    Test::Harness       3.42    
    Test::More          1.302140
    YAML                1.27    
    YAML::Syck          1.31    
    version             0.9924  


--

Summary of my perl5 (revision 5 version 14 subversion 0) configuration:
   
  Platform:
    osname=netbsd, osvers=7.1.2, archname=amd64-netbsd
    uname='netbsd vultr2.bandsman.co.uk 7.1.2 netbsd 7.1.2 (generic.201803151611z) amd64 '
    config_args='-de -Dprefix=/home/njh/perl5/perlbrew/perls/perl-5.14.0 -Aeval:scriptdir=/home/njh/perl5/perlbrew/perls/perl-5.14.0/bin'
    hint=recommended, useposix=true, d_sigaction=define
    useithreads=undef, usemultiplicity=undef
    useperlio=define, d_sfio=undef, uselargefiles=define, usesocks=undef
    use64bitint=define, use64bitall=define, uselongdouble=undef
    usemymalloc=n, bincompat5005=undef
  Compiler:
    cc='cc', ccflags ='-fno-strict-aliasing -pipe -fstack-protector -I/usr/pkg/include',
    optimize='-O',
    cppflags='-fno-strict-aliasing -pipe -fstack-protector -I/usr/pkg/include'
    ccversion='', gccversion='4.8.5', gccosandvers=''
    intsize=4, longsize=8, ptrsize=8, doublesize=8, byteorder=12345678
    d_longlong=define, longlongsize=8, d_longdbl=define, longdblsize=16
    ivtype='long', ivsize=8, nvtype='double', nvsize=8, Off_t='off_t', lseeksize=8
    alignbytes=8, prototype=define
  Linker and Libraries:
    ld='cc', ldflags =' -Wl,-rpath,/usr/pkg/lib -Wl,-rpath,/usr/local/lib -fstack-protector -L/usr/pkg/lib'
    libpth=/usr/pkg/lib /lib /usr/lib
    libs=-lm -lcrypt -lutil -lc -lposix
    perllibs=-lm -lcrypt -lutil -lc -lposix
    libc=/lib/libc.so, so=so, useshrplib=false, libperl=libperl.a
    gnulibc_version=''
  Dynamic Linking:
    dlsrc=dl_dlopen.xs, dlext=so, d_dlsymun=undef, ccdlflags='-Wl,-E '
    cccdlflags='-DPIC -fPIC ', lddlflags='-shared  -L/usr/pkg/lib -fstack-protector'


Characteristics of this binary (from libperl): 
  Compile-time options: PERL_DONT_CREATE_GVSV PERL_MALLOC_WRAP
                        PERL_PRESERVE_IVUV USE_64_BIT_ALL USE_64_BIT_INT
                        USE_LARGE_FILES USE_PERLIO USE_PERL_ATOF
  Locally applied patches:
	Devel::PatchPerl 1.48
  Built under netbsd
  Compiled at Sep 26 2018 19:41:37
  %ENV:
    PERL5LIB="/home/njh/.cpan/build/Dumbbench-0.111-10/blib/arch:/home/njh/.cpan/build/Dumbbench-0.111-10/blib/lib:/home/njh/.cpan/build/Statistics-CaseResampling-0.15-10/blib/arch:/home/njh/.cpan/build/Statistics-CaseResampling-0.15-10/blib/lib:/home/njh/.cpan/build/Number-WithError-1.01-10/blib/arch:/home/njh/.cpan/build/Number-WithError-1.01-10/blib/lib:/home/njh/.cpan/build/Test-LectroTest-0.5001-10/blib/arch:/home/njh/.cpan/build/Test-LectroTest-0.5001-10/blib/lib:/home/njh/.cpan/build/Devel-CheckOS-1.81-10/blib/arch:/home/njh/.cpan/build/Devel-CheckOS-1.81-10/blib/lib:/home/njh/.cpan/build/Data-Compare-1.25-10/blib/arch:/home/njh/.cpan/build/Data-Compare-1.25-10/blib/lib"
    PERL5OPT=""
    PERL5_CPANPLUS_IS_RUNNING="29434"
    PERL5_CPAN_IS_RUNNING="29434"
    PERLBREW_HOME="/home/njh/.perlbrew"
    PERLBREW_MANPATH="/home/njh/perl5/perlbrew/perls/perl-5.14.0/man"
    PERLBREW_PATH="/home/njh/perl5/perlbrew/bin:/home/njh/perl5/perlbrew/perls/perl-5.14.0/bin"
    PERLBREW_PERL="perl-5.14.0"
    PERLBREW_ROOT="/home/njh/perl5/perlbrew"
    PERLBREW_SHELLRC_VERSION="0.82"
    PERLBREW_VERSION="0.82"
    PERL_MM_USE_DEFAULT="1"
    PERL_USE_UNSAFE_INC="1"
  @INC:
    /home/njh/.cpan/build/Dumbbench-0.111-10/blib/arch
    /home/njh/.cpan/build/Dumbbench-0.111-10/blib/lib
    /home/njh/.cpan/build/Statistics-CaseResampling-0.15-10/blib/arch
    /home/njh/.cpan/build/Statistics-CaseResampling-0.15-10/blib/lib
    /home/njh/.cpan/build/Number-WithError-1.01-10/blib/arch
    /home/njh/.cpan/build/Number-WithError-1.01-10/blib/lib
    /home/njh/.cpan/build/Test-LectroTest-0.5001-10/blib/arch
    /home/njh/.cpan/build/Test-LectroTest-0.5001-10/blib/lib
    /home/njh/.cpan/build/Devel-CheckOS-1.81-10/blib/arch
    /home/njh/.cpan/build/Devel-CheckOS-1.81-10/blib/lib
    /home/njh/.cpan/build/Data-Compare-1.25-10/blib/arch
    /home/njh/.cpan/build/Data-Compare-1.25-10/blib/lib
    /home/njh/perl5/perlbrew/perls/perl-5.14.0/lib/site_perl/5.14.0/amd64-netbsd
    /home/njh/perl5/perlbrew/perls/perl-5.14.0/lib/site_perl/5.14.0
    /home/njh/perl5/perlbrew/perls/perl-5.14.0/lib/5.14.0/amd64-netbsd
    /home/njh/perl5/perlbrew/perls/perl-5.14.0/lib/5.14.0
    .