Test-Moose-More v0.050 Perl 5 v5.8.5 x86_64-linux

Status
Pass
From
Andreas J. König (ANDK)
Dist
Test-Moose-More v0.050
Platform
Perl 5 v5.8.5 x86_64-linux
Date
2019-06-10 09:25:05
ID
a20749b2-8b61-11e9-aeb5-7e547d277216
This distribution has been tested as part of the CPAN Testers
project, supporting the Perl programming language.  See
http://wiki.cpantesters.org/ for more information or email
questions to cpan-testers-discuss@perl.org


--
Dear Chris Weyl,

This is a computer-generated report for Test-Moose-More-0.050
on perl 5.8.5, created by CPAN-Reporter-1.2018.

Thank you for uploading your work to CPAN.  Congratulations!
All tests were successful.

Sections of this report:

    * Tester comments
    * Program output
    * Prerequisites
    * Environment and other context

------------------------------
TESTER COMMENTS
------------------------------

Additional comments from tester:

this report is from an automated smoke testing program
and was not reviewed by a human for accuracy

------------------------------
PROGRAM OUTPUT
------------------------------

Output from '/usr/bin/make test':

PERL_DL_NONLAZY=1 "/home/sand/src/perl/repoperls/installed-perls/host/k93bionic/perl-5.8.5/2780/bin/perl" "-MExtUtils::Command::MM" "-MTest::Harness" "-e" "undef *Test::Harness::Switches; test_harness(0, 'blib/lib', 'blib/arch')" t/*.t t/attribute_options_ok/*.t t/is_class_ok/*.t t/validate_attribute/*.t t/validate_class/*.t t/validate_role/*.t t/validate_thing/*.t t/wrapped/*.t
t/00-check-deps.t ...................................... ok
Warning: Use of "shift" without parentheses is ambiguous at /home/sand/.cpan/privbuild/k93bionic/Test-Moose-More-0.050-0/blib/lib/Test/Moose/More.pm line 110.
Warning: Use of "shift" without parentheses is ambiguous at /home/sand/.cpan/privbuild/k93bionic/Test-Moose-More-0.050-0/blib/lib/Test/Moose/More.pm line 111.
t/00-compile.t ......................................... ok
# 
# Versions for all modules listed in MYMETA.json (including optional ones):
# 
# === Configure Requires ===
# 
#     Module              Want Have
#     ------------------- ---- ----
#     ExtUtils::MakeMaker  any 7.36
# 
# === Build Requires ===
# 
#     Module              Want Have
#     ------------------- ---- ----
#     ExtUtils::MakeMaker  any 7.36
# 
# === Test Requires ===
# 
#     Module                  Want     Have
#     ---------------------- ----- --------
#     ExtUtils::MakeMaker      any     7.36
#     File::Spec               any     3.75
#     IO::Handle               any     1.39
#     IPC::Open3               any   1.0106
#     List::Util              1.45     1.50
#     Moose                    any   2.2011
#     Moose::Meta::Attribute   any   2.2011
#     Moose::Role              any   2.2011
#     Moose::Util::MetaRole    any   2.2011
#     TAP::SimpleOutput      0.009    0.009
#     Test::Builder::Tester    any 1.302164
#     Test::CheckDeps        0.010    0.010
#     Test::More              0.94 1.302164
#     namespace::autoclean     any     0.28
# 
# === Test Recommends ===
# 
#     Module         Want     Have
#     ---------- -------- --------
#     CPAN::Meta 2.120900 2.150010
# 
# === Runtime Requires ===
# 
#     Module                       Want     Have
#     ---------------------------- ---- --------
#     Carp                          any     1.50
#     Data::OptList                 any    0.110
#     List::MoreUtils               any    0.428
#     List::Util                   1.45     1.50
#     Moose::Util                   any   2.2011
#     Moose::Util::TypeConstraints  any   2.2011
#     Scalar::Util                  any     1.50
#     Sub::Exporter::Progressive    any 0.001013
#     Syntax::Keyword::Junction     any 0.003008
#     Test::Builder                 any 1.302164
#     Test::Moose                   any   2.2011
#     Test::More                   0.94 1.302164
#     strict                        any     1.03
#     warnings                      any     1.03
# 
t/00-report-prereqs.t .................................. ok
Warning: Use of "shift" without parentheses is ambiguous at /home/sand/.cpan/privbuild/k93bionic/Test-Moose-More-0.050-0/blib/lib/Test/Moose/More.pm line 110.
Warning: Use of "shift" without parentheses is ambiguous at /home/sand/.cpan/privbuild/k93bionic/Test-Moose-More-0.050-0/blib/lib/Test/Moose/More.pm line 111.
t/attribute_options_ok/basic.t ......................... ok
Warning: Use of "shift" without parentheses is ambiguous at /home/sand/.cpan/privbuild/k93bionic/Test-Moose-More-0.050-0/blib/lib/Test/Moose/More.pm line 110.
Warning: Use of "shift" without parentheses is ambiguous at /home/sand/.cpan/privbuild/k93bionic/Test-Moose-More-0.050-0/blib/lib/Test/Moose/More.pm line 111.
t/attribute_options_ok/subtest-wrapper.t ............... ok
Warning: Use of "shift" without parentheses is ambiguous at /home/sand/.cpan/privbuild/k93bionic/Test-Moose-More-0.050-0/blib/lib/Test/Moose/More.pm line 110.
Warning: Use of "shift" without parentheses is ambiguous at /home/sand/.cpan/privbuild/k93bionic/Test-Moose-More-0.050-0/blib/lib/Test/Moose/More.pm line 111.
t/check_sugar.t ........................................ ok
Warning: Use of "shift" without parentheses is ambiguous at /home/sand/.cpan/privbuild/k93bionic/Test-Moose-More-0.050-0/blib/lib/Test/Moose/More.pm line 110.
Warning: Use of "shift" without parentheses is ambiguous at /home/sand/.cpan/privbuild/k93bionic/Test-Moose-More-0.050-0/blib/lib/Test/Moose/More.pm line 111.
t/definition_context.t ................................. ok
Warning: Use of "shift" without parentheses is ambiguous at /home/sand/.cpan/privbuild/k93bionic/Test-Moose-More-0.050-0/blib/lib/Test/Moose/More.pm line 110.
Warning: Use of "shift" without parentheses is ambiguous at /home/sand/.cpan/privbuild/k93bionic/Test-Moose-More-0.050-0/blib/lib/Test/Moose/More.pm line 111.
t/does_metaroles_ok.t .................................. ok
Warning: Use of "shift" without parentheses is ambiguous at /home/sand/.cpan/privbuild/k93bionic/Test-Moose-More-0.050-0/blib/lib/Test/Moose/More.pm line 110.
Warning: Use of "shift" without parentheses is ambiguous at /home/sand/.cpan/privbuild/k93bionic/Test-Moose-More-0.050-0/blib/lib/Test/Moose/More.pm line 111.
t/does_not_metaroles_ok.t .............................. ok
Warning: Use of "shift" without parentheses is ambiguous at /home/sand/.cpan/privbuild/k93bionic/Test-Moose-More-0.050-0/blib/lib/Test/Moose/More.pm line 110.
Warning: Use of "shift" without parentheses is ambiguous at /home/sand/.cpan/privbuild/k93bionic/Test-Moose-More-0.050-0/blib/lib/Test/Moose/More.pm line 111.
t/does_not_ok.t ........................................ ok
Warning: Use of "shift" without parentheses is ambiguous at /home/sand/.cpan/privbuild/k93bionic/Test-Moose-More-0.050-0/blib/lib/Test/Moose/More.pm line 110.
Warning: Use of "shift" without parentheses is ambiguous at /home/sand/.cpan/privbuild/k93bionic/Test-Moose-More-0.050-0/blib/lib/Test/Moose/More.pm line 111.
t/does_ok.t ............................................ ok
Warning: Use of "shift" without parentheses is ambiguous at /home/sand/.cpan/privbuild/k93bionic/Test-Moose-More-0.050-0/blib/lib/Test/Moose/More.pm line 110.
Warning: Use of "shift" without parentheses is ambiguous at /home/sand/.cpan/privbuild/k93bionic/Test-Moose-More-0.050-0/blib/lib/Test/Moose/More.pm line 111.
t/has_attribute_ok.t ................................... ok
Warning: Use of "shift" without parentheses is ambiguous at /home/sand/.cpan/privbuild/k93bionic/Test-Moose-More-0.050-0/blib/lib/Test/Moose/More.pm line 110.
Warning: Use of "shift" without parentheses is ambiguous at /home/sand/.cpan/privbuild/k93bionic/Test-Moose-More-0.050-0/blib/lib/Test/Moose/More.pm line 111.
t/is_anon_ok.t ......................................... ok
Warning: Use of "shift" without parentheses is ambiguous at /home/sand/.cpan/privbuild/k93bionic/Test-Moose-More-0.050-0/blib/lib/Test/Moose/More.pm line 110.
Warning: Use of "shift" without parentheses is ambiguous at /home/sand/.cpan/privbuild/k93bionic/Test-Moose-More-0.050-0/blib/lib/Test/Moose/More.pm line 111.
t/is_class_ok/basic.t .................................. ok
Warning: Use of "shift" without parentheses is ambiguous at /home/sand/.cpan/privbuild/k93bionic/Test-Moose-More-0.050-0/blib/lib/Test/Moose/More.pm line 110.
Warning: Use of "shift" without parentheses is ambiguous at /home/sand/.cpan/privbuild/k93bionic/Test-Moose-More-0.050-0/blib/lib/Test/Moose/More.pm line 111.
t/is_class_ok/moose-meta-attribute-should-be-moosey.t .. ok
Warning: Use of "shift" without parentheses is ambiguous at /home/sand/.cpan/privbuild/k93bionic/Test-Moose-More-0.050-0/blib/lib/Test/Moose/More.pm line 110.
Warning: Use of "shift" without parentheses is ambiguous at /home/sand/.cpan/privbuild/k93bionic/Test-Moose-More-0.050-0/blib/lib/Test/Moose/More.pm line 111.
t/is_immutable_ok.t .................................... ok
Warning: Use of "shift" without parentheses is ambiguous at /home/sand/.cpan/privbuild/k93bionic/Test-Moose-More-0.050-0/blib/lib/Test/Moose/More.pm line 110.
Warning: Use of "shift" without parentheses is ambiguous at /home/sand/.cpan/privbuild/k93bionic/Test-Moose-More-0.050-0/blib/lib/Test/Moose/More.pm line 111.
t/is_not_anon_ok.t ..................................... ok
Warning: Use of "shift" without parentheses is ambiguous at /home/sand/.cpan/privbuild/k93bionic/Test-Moose-More-0.050-0/blib/lib/Test/Moose/More.pm line 110.
Warning: Use of "shift" without parentheses is ambiguous at /home/sand/.cpan/privbuild/k93bionic/Test-Moose-More-0.050-0/blib/lib/Test/Moose/More.pm line 111.
t/is_role_ok.t ......................................... ok
Warning: Use of "shift" without parentheses is ambiguous at /home/sand/.cpan/privbuild/k93bionic/Test-Moose-More-0.050-0/blib/lib/Test/Moose/More.pm line 110.
Warning: Use of "shift" without parentheses is ambiguous at /home/sand/.cpan/privbuild/k93bionic/Test-Moose-More-0.050-0/blib/lib/Test/Moose/More.pm line 111.
t/meta_ok.t ............................................ ok
Warning: Use of "shift" without parentheses is ambiguous at /home/sand/.cpan/privbuild/k93bionic/Test-Moose-More-0.050-0/blib/lib/Test/Moose/More.pm line 110.
Warning: Use of "shift" without parentheses is ambiguous at /home/sand/.cpan/privbuild/k93bionic/Test-Moose-More-0.050-0/blib/lib/Test/Moose/More.pm line 111.
t/method_from_pkg_ok.t ................................. ok
Warning: Use of "shift" without parentheses is ambiguous at /home/sand/.cpan/privbuild/k93bionic/Test-Moose-More-0.050-0/blib/lib/Test/Moose/More.pm line 110.
Warning: Use of "shift" without parentheses is ambiguous at /home/sand/.cpan/privbuild/k93bionic/Test-Moose-More-0.050-0/blib/lib/Test/Moose/More.pm line 111.
t/method_is_accessor_ok.t .............................. ok
Warning: Use of "shift" without parentheses is ambiguous at /home/sand/.cpan/privbuild/k93bionic/Test-Moose-More-0.050-0/blib/lib/Test/Moose/More.pm line 110.
Warning: Use of "shift" without parentheses is ambiguous at /home/sand/.cpan/privbuild/k93bionic/Test-Moose-More-0.050-0/blib/lib/Test/Moose/More.pm line 111.
t/method_is_not_accessor_ok.t .......................... ok
Warning: Use of "shift" without parentheses is ambiguous at /home/sand/.cpan/privbuild/k93bionic/Test-Moose-More-0.050-0/blib/lib/Test/Moose/More.pm line 110.
Warning: Use of "shift" without parentheses is ambiguous at /home/sand/.cpan/privbuild/k93bionic/Test-Moose-More-0.050-0/blib/lib/Test/Moose/More.pm line 111.
t/method_not_from_pkg_ok.t ............................. ok
Warning: Use of "shift" without parentheses is ambiguous at /home/sand/.cpan/privbuild/k93bionic/Test-Moose-More-0.050-0/blib/lib/Test/Moose/More.pm line 110.
Warning: Use of "shift" without parentheses is ambiguous at /home/sand/.cpan/privbuild/k93bionic/Test-Moose-More-0.050-0/blib/lib/Test/Moose/More.pm line 111.
t/method_ok.t .......................................... ok
Warning: Use of "shift" without parentheses is ambiguous at /home/sand/.cpan/privbuild/k93bionic/Test-Moose-More-0.050-0/blib/lib/Test/Moose/More.pm line 110.
Warning: Use of "shift" without parentheses is ambiguous at /home/sand/.cpan/privbuild/k93bionic/Test-Moose-More-0.050-0/blib/lib/Test/Moose/More.pm line 111.
t/no_meta_ok.t ......................................... ok
Warning: Use of "shift" without parentheses is ambiguous at /home/sand/.cpan/privbuild/k93bionic/Test-Moose-More-0.050-0/blib/lib/Test/Moose/More.pm line 110.
Warning: Use of "shift" without parentheses is ambiguous at /home/sand/.cpan/privbuild/k93bionic/Test-Moose-More-0.050-0/blib/lib/Test/Moose/More.pm line 111.
t/pristine_ok.t ........................................ ok
Warning: Use of "shift" without parentheses is ambiguous at /home/sand/.cpan/privbuild/k93bionic/Test-Moose-More-0.050-0/blib/lib/Test/Moose/More.pm line 110.
Warning: Use of "shift" without parentheses is ambiguous at /home/sand/.cpan/privbuild/k93bionic/Test-Moose-More-0.050-0/blib/lib/Test/Moose/More.pm line 111.
t/requires_method_ok.t ................................. ok
Warning: Use of "shift" without parentheses is ambiguous at /home/sand/.cpan/privbuild/k93bionic/Test-Moose-More-0.050-0/blib/lib/Test/Moose/More.pm line 110.
Warning: Use of "shift" without parentheses is ambiguous at /home/sand/.cpan/privbuild/k93bionic/Test-Moose-More-0.050-0/blib/lib/Test/Moose/More.pm line 111.
t/subtest-1.t .......................................... ok
Warning: Use of "shift" without parentheses is ambiguous at /home/sand/.cpan/privbuild/k93bionic/Test-Moose-More-0.050-0/blib/lib/Test/Moose/More.pm line 110.
Warning: Use of "shift" without parentheses is ambiguous at /home/sand/.cpan/privbuild/k93bionic/Test-Moose-More-0.050-0/blib/lib/Test/Moose/More.pm line 111.
t/validate_attribute/basic.t ........................... ok
Warning: Use of "shift" without parentheses is ambiguous at /home/sand/.cpan/privbuild/k93bionic/Test-Moose-More-0.050-0/blib/lib/Test/Moose/More.pm line 110.
Warning: Use of "shift" without parentheses is ambiguous at /home/sand/.cpan/privbuild/k93bionic/Test-Moose-More-0.050-0/blib/lib/Test/Moose/More.pm line 111.
t/validate_attribute/coerce.t .......................... ok
Warning: Use of "shift" without parentheses is ambiguous at /home/sand/.cpan/privbuild/k93bionic/Test-Moose-More-0.050-0/blib/lib/Test/Moose/More.pm line 110.
Warning: Use of "shift" without parentheses is ambiguous at /home/sand/.cpan/privbuild/k93bionic/Test-Moose-More-0.050-0/blib/lib/Test/Moose/More.pm line 111.
t/validate_attribute/in_roles.t ........................ ok
Warning: Use of "shift" without parentheses is ambiguous at /home/sand/.cpan/privbuild/k93bionic/Test-Moose-More-0.050-0/blib/lib/Test/Moose/More.pm line 110.
Warning: Use of "shift" without parentheses is ambiguous at /home/sand/.cpan/privbuild/k93bionic/Test-Moose-More-0.050-0/blib/lib/Test/Moose/More.pm line 111.
t/validate_attribute/lazy.t ............................ ok
Warning: Use of "shift" without parentheses is ambiguous at /home/sand/.cpan/privbuild/k93bionic/Test-Moose-More-0.050-0/blib/lib/Test/Moose/More.pm line 110.
Warning: Use of "shift" without parentheses is ambiguous at /home/sand/.cpan/privbuild/k93bionic/Test-Moose-More-0.050-0/blib/lib/Test/Moose/More.pm line 111.
t/validate_attribute/required.t ........................ ok
Warning: Use of "shift" without parentheses is ambiguous at /home/sand/.cpan/privbuild/k93bionic/Test-Moose-More-0.050-0/blib/lib/Test/Moose/More.pm line 110.
Warning: Use of "shift" without parentheses is ambiguous at /home/sand/.cpan/privbuild/k93bionic/Test-Moose-More-0.050-0/blib/lib/Test/Moose/More.pm line 111.
t/validate_class/basic.t ............................... ok
Warning: Use of "shift" without parentheses is ambiguous at /home/sand/.cpan/privbuild/k93bionic/Test-Moose-More-0.050-0/blib/lib/Test/Moose/More.pm line 110.
Warning: Use of "shift" without parentheses is ambiguous at /home/sand/.cpan/privbuild/k93bionic/Test-Moose-More-0.050-0/blib/lib/Test/Moose/More.pm line 111.
t/validate_class/metaclasses.t ......................... ok
Warning: Use of "shift" without parentheses is ambiguous at /home/sand/.cpan/privbuild/k93bionic/Test-Moose-More-0.050-0/blib/lib/Test/Moose/More.pm line 110.
Warning: Use of "shift" without parentheses is ambiguous at /home/sand/.cpan/privbuild/k93bionic/Test-Moose-More-0.050-0/blib/lib/Test/Moose/More.pm line 111.
t/validate_class/metaroles.t ........................... ok
Warning: Use of "shift" without parentheses is ambiguous at /home/sand/.cpan/privbuild/k93bionic/Test-Moose-More-0.050-0/blib/lib/Test/Moose/More.pm line 110.
Warning: Use of "shift" without parentheses is ambiguous at /home/sand/.cpan/privbuild/k93bionic/Test-Moose-More-0.050-0/blib/lib/Test/Moose/More.pm line 111.
t/validate_class/methods.t ............................. ok
Warning: Use of "shift" without parentheses is ambiguous at /home/sand/.cpan/privbuild/k93bionic/Test-Moose-More-0.050-0/blib/lib/Test/Moose/More.pm line 110.
Warning: Use of "shift" without parentheses is ambiguous at /home/sand/.cpan/privbuild/k93bionic/Test-Moose-More-0.050-0/blib/lib/Test/Moose/More.pm line 111.
t/validate_role/basic.t ................................ ok
Warning: Use of "shift" without parentheses is ambiguous at /home/sand/.cpan/privbuild/k93bionic/Test-Moose-More-0.050-0/blib/lib/Test/Moose/More.pm line 110.
Warning: Use of "shift" without parentheses is ambiguous at /home/sand/.cpan/privbuild/k93bionic/Test-Moose-More-0.050-0/blib/lib/Test/Moose/More.pm line 111.
t/validate_role/compose.t .............................. ok
Warning: Use of "shift" without parentheses is ambiguous at /home/sand/.cpan/privbuild/k93bionic/Test-Moose-More-0.050-0/blib/lib/Test/Moose/More.pm line 110.
Warning: Use of "shift" without parentheses is ambiguous at /home/sand/.cpan/privbuild/k93bionic/Test-Moose-More-0.050-0/blib/lib/Test/Moose/More.pm line 111.
t/validate_role/metaclasses.t .......................... ok
Warning: Use of "shift" without parentheses is ambiguous at /home/sand/.cpan/privbuild/k93bionic/Test-Moose-More-0.050-0/blib/lib/Test/Moose/More.pm line 110.
Warning: Use of "shift" without parentheses is ambiguous at /home/sand/.cpan/privbuild/k93bionic/Test-Moose-More-0.050-0/blib/lib/Test/Moose/More.pm line 111.
t/validate_role/metaroles.t ............................ ok
Warning: Use of "shift" without parentheses is ambiguous at /home/sand/.cpan/privbuild/k93bionic/Test-Moose-More-0.050-0/blib/lib/Test/Moose/More.pm line 110.
Warning: Use of "shift" without parentheses is ambiguous at /home/sand/.cpan/privbuild/k93bionic/Test-Moose-More-0.050-0/blib/lib/Test/Moose/More.pm line 111.
t/validate_thing/metaclasses.t ......................... ok
Warning: Use of "shift" without parentheses is ambiguous at /home/sand/.cpan/privbuild/k93bionic/Test-Moose-More-0.050-0/blib/lib/Test/Moose/More.pm line 110.
Warning: Use of "shift" without parentheses is ambiguous at /home/sand/.cpan/privbuild/k93bionic/Test-Moose-More-0.050-0/blib/lib/Test/Moose/More.pm line 111.
t/validate_thing/methods.t ............................. ok
Warning: Use of "shift" without parentheses is ambiguous at /home/sand/.cpan/privbuild/k93bionic/Test-Moose-More-0.050-0/blib/lib/Test/Moose/More.pm line 110.
Warning: Use of "shift" without parentheses is ambiguous at /home/sand/.cpan/privbuild/k93bionic/Test-Moose-More-0.050-0/blib/lib/Test/Moose/More.pm line 111.
t/validate_thing/sugar.t ............................... ok
Warning: Use of "shift" without parentheses is ambiguous at /home/sand/.cpan/privbuild/k93bionic/Test-Moose-More-0.050-0/blib/lib/Test/Moose/More.pm line 110.
Warning: Use of "shift" without parentheses is ambiguous at /home/sand/.cpan/privbuild/k93bionic/Test-Moose-More-0.050-0/blib/lib/Test/Moose/More.pm line 111.
t/wrapped/in_roles.t ................................... ok
All tests successful.

Test Summary Report
-------------------
t/00-check-deps.t                                    (Wstat: 0 Tests: 32 Failed: 0)
  TODO passed:   32
Files=45, Tests=235, 26 wallclock secs ( 0.16 usr  0.24 sys + 18.12 cusr  2.21 csys = 20.73 CPU)
Result: PASS

------------------------------
PREREQUISITES
------------------------------

Prerequisite modules loaded:

requires:

    Module                       Need  Have    
    ---------------------------- ----- --------
    Carp                         0     1.50    
    Data::OptList                0     0.110   
    List::MoreUtils              0     0.428   
    List::Util                   1.45  1.50    
    Moose::Util                  0     2.2011  
    Moose::Util::TypeConstraints 0     2.2011  
    perl                         5.006 5.008005
    Scalar::Util                 0     1.50    
    strict                       0     1.03    
    Sub::Exporter::Progressive   0     0.001013
    Syntax::Keyword::Junction    0     0.003008
    Test::Builder                0     1.302164
    Test::Moose                  0     2.2011  
    Test::More                   0.94  1.302164
    warnings                     0     1.03    

build_requires:

    Module                       Need  Have    
    ---------------------------- ----- --------
    ExtUtils::MakeMaker          0     7.36    
    File::Spec                   0     3.75    
    IO::Handle                   0     1.39    
    IPC::Open3                   0     1.0106  
    List::Util                   1.45  1.50    
  ! Moose                        0     broken  
  ! Moose::Meta::Attribute       0     broken  
    Moose::Role                  0     2.2011  
    Moose::Util::MetaRole        0     2.2011  
    namespace::autoclean         0     0.28    
    TAP::SimpleOutput            0.009 0.009   
    Test::Builder::Tester        0     1.302164
    Test::CheckDeps              0.010 0.010   
    Test::More                   0.94  1.302164

configure_requires:

    Module                       Need  Have    
    ---------------------------- ----- --------
    ExtUtils::MakeMaker          0     7.36    
    perl                         5.006 5.008005


------------------------------
ENVIRONMENT AND OTHER CONTEXT
------------------------------

Environment variables:

    AUTOMATED_TESTING = 1
    LANG = en_US.UTF-8
    PATH = /home/sand/bin:/usr/local/bin:/usr/local/sbin:/usr/sbin:/usr/bin:/sbin:/bin:/usr/games:/usr/local/games:/usr/local/perl/bin:/usr/X11/bin
    PERL5LIB = /home/sand/.cpan/privbuild/k93bionic/HTTP-Server-Simple-0.52-0/blib/arch:/home/sand/.cpan/privbuild/k93bionic/HTTP-Server-Simple-0.52-0/blib/lib
    PERL5OPT = 
    PERL5_CPANPLUS_IS_RUNNING = 24500
    PERL5_CPAN_IS_RUNNING = 24500
    PERL_CANARY_STABILITY_NOPROMPT = 1
    PERL_MM_USE_DEFAULT = 1
    PERL_USE_UNSAFE_INC = 1
    SHELL = /usr/bin/zsh
    TERM = screen

Perl special variables (and OS-specific diagnostics, for MSWin32):

    $^X = /home/sand/src/perl/repoperls/installed-perls/host/k93bionic/perl-5.8.5/2780/bin/perl
    $UID/$EUID = 1005 / 1005
    $GID = 1005 1005
    $EGID = 1005 1005

Perl module toolchain versions installed:

    Module              Have    
    ------------------- --------
    CPAN                2.27    
    CPAN::Meta          2.150010
    Cwd                 3.75    
    ExtUtils::CBuilder  0.280231
    ExtUtils::Command   7.36    
    ExtUtils::Install   2.06    
    ExtUtils::MakeMaker 7.36    
    ExtUtils::Manifest  1.70    
    ExtUtils::ParseXS   3.35    
    File::Spec          3.75    
    JSON                n/a     
    JSON::PP            4.02    
    Module::Build       0.4229  
    Module::Signature   0.83    
    Parse::CPAN::Meta   2.150010
    Test::Harness       3.42    
    Test::More          1.302164
    YAML                n/a     
    YAML::Syck          1.31    
    version             0.9924  


--

Summary of my perl5 (revision 5 version 8 subversion 5) configuration:
  Platform:
    osname=linux, osvers=4.15.0-51-generic, archname=x86_64-linux
    uname='linux k93bionic 4.15.0-51-generic #55-ubuntu smp wed may 15 14:27:21 utc 2019 x86_64 x86_64 x86_64 gnulinux '
    config_args='-Dprefix=/home/sand/src/perl/repoperls/installed-perls/host/k93bionic/perl-5.8.5/2780 -Dmyhostname=k93bionic -Dinstallusrbinperl=n -Uversiononly -Dusedevel -des -Ui_db -Dlibswanted=cl pthread socket inet nsl gdbm dbm malloc dl ld sun m crypt sec util c cposix posix ucb BSD gdbm_compat -Uuseithreads -Uuselongdouble -Doptimize=-g'
    hint=recommended, useposix=true, d_sigaction=define
    usethreads=undef use5005threads=undef useithreads=undef usemultiplicity=undef
    useperlio=define d_sfio=undef uselargefiles=define usesocks=undef
    use64bitint=define use64bitall=define uselongdouble=undef
    usemymalloc=n, bincompat5005=undef
  Compiler:
    cc='cc', ccflags ='-DDEBUGGING -fno-strict-aliasing -pipe -I/usr/local/include -D_LARGEFILE_SOURCE -D_FILE_OFFSET_BITS=64',
    optimize='-g',
    cppflags='-DDEBUGGING -fno-strict-aliasing -pipe -I/usr/local/include'
    ccversion='', gccversion='7.4.0', gccosandvers=''
    intsize=4, longsize=8, ptrsize=8, doublesize=8, byteorder=12345678
    d_longlong=define, longlongsize=8, d_longdbl=define, longdblsize=16
    ivtype='long', ivsize=8, nvtype='double', nvsize=8, Off_t='off_t', lseeksize=8
    alignbytes=8, prototype=define
  Linker and Libraries:
    ld='cc', ldflags =' -L/usr/local/lib'
    libpth=/usr/local/lib /lib/x86_64-linux-gnu /lib/../lib /usr/lib/x86_64-linux-gnu /usr/lib/../lib /lib /usr/lib
    libs=-lpthread -lnsl -ldl -lm -lcrypt -lutil -lc
    perllibs=-lpthread -lnsl -ldl -lm -lcrypt -lutil -lc
    libc=libc-2.27.so, so=so, useshrplib=false, libperl=libperl.a
    gnulibc_version='2.27'
  Dynamic Linking:
    dlsrc=dl_dlopen.xs, dlext=so, d_dlsymun=undef, ccdlflags='-Wl,-E'
    cccdlflags='-fpic', lddlflags='-shared -L/usr/local/lib'


Characteristics of this binary (from libperl): 
  Compile-time options: DEBUGGING USE_64_BIT_INT USE_64_BIT_ALL USE_LARGE_FILES
  Locally applied patches:
	MAINT23136
  Built under linux
  Compiled at Jun 10 2019 06:46:17
  %ENV:
    PERL5LIB="/home/sand/.cpan/privbuild/k93bionic/HTTP-Server-Simple-0.52-0/blib/arch:/home/sand/.cpan/privbuild/k93bionic/HTTP-Server-Simple-0.52-0/blib/lib"
    PERL5OPT=""
    PERL5_CPANPLUS_IS_RUNNING="24500"
    PERL5_CPAN_IS_RUNNING="24500"
    PERL_CANARY_STABILITY_NOPROMPT="1"
    PERL_MM_USE_DEFAULT="1"
    PERL_USE_UNSAFE_INC="1"
  @INC:
    /home/sand/.cpan/privbuild/k93bionic/HTTP-Server-Simple-0.52-0/blib/arch
    /home/sand/.cpan/privbuild/k93bionic/HTTP-Server-Simple-0.52-0/blib/lib
    /home/sand/src/perl/repoperls/installed-perls/host/k93bionic/perl-5.8.5/2780/lib/5.8.5/x86_64-linux
    /home/sand/src/perl/repoperls/installed-perls/host/k93bionic/perl-5.8.5/2780/lib/5.8.5
    /home/sand/src/perl/repoperls/installed-perls/host/k93bionic/perl-5.8.5/2780/lib/site_perl/5.8.5/x86_64-linux
    /home/sand/src/perl/repoperls/installed-perls/host/k93bionic/perl-5.8.5/2780/lib/site_perl/5.8.5
    /home/sand/src/perl/repoperls/installed-perls/host/k93bionic/perl-5.8.5/2780/lib/site_perl
    .