Test-LWP-Recorder v0.1.1 Perl 5 v5.26.2 x86_64-linux
- Status
- Pass
- From
- Nigel Horne
- Dist
-
Test-LWP-Recorder v0.1.1
- Platform
- Perl 5 v5.26.2 x86_64-linux
- Date
- 2018-07-23 20:40:27
- ID
- a1e2e17c-8eb8-11e8-8fb1-ef5133556b3f
This distribution has been tested as part of the CPAN Testers
project, supporting the Perl programming language. See
http://wiki.cpantesters.org/ for more information or email
questions to cpan-testers-discuss@perl.org
--
Dear Edward J. Allen III,
This is a computer-generated report for Test-LWP-Recorder-0.1.1
on perl 5.26.2, created by CPAN-Reporter-1.2018.
Thank you for uploading your work to CPAN. Congratulations!
All tests were successful.
Sections of this report:
* Tester comments
* Program output
* Prerequisites
* Environment and other context
------------------------------
TESTER COMMENTS
------------------------------
Additional comments from tester:
this report is from an automated smoke testing program
and was not reviewed by a human for accuracy
------------------------------
PROGRAM OUTPUT
------------------------------
Output from './Build test':
#
#
# perl: v5.26.2 (wanted 5.006) on linux from /home/njh/perl5/perlbrew/perls/perl-5.26.2/bin/perl
#
# Carp => 1.42 (want any version)
# Digest::MD5 => 2.55 (want any version)
# File::Find => 1.34 (want any version)
# File::Slurp => 9999.19 (want any version)
# File::Spec => 3.67 (want any version)
# File::Temp => 0.2304 (want any version)
# HTTP::Response => 6.18 (want any version)
# HTTP::Status => 6.18 (want any version)
# LWP::UserAgent => 6.35 (want any version)
# LWPx::Record::DataSection => 0.01 (want any version)
# List::Util => 1.4602 (want any version)
# Module::Build => 0.4224 (want 0.3601)
# Pod::Coverage::TrustPod => module not found. (want any version)
# Test::More => 1.302136 (want 0.88)
# Test::Pod => 1.52 (want 1.41)
# Test::Pod::Coverage => 1.10 (want 1.08)
# base => 2.26 (want any version)
# lib => 0.64 (want any version)
# strict => 1.11 (want any version)
# warnings => 1.37 (want any version)
#
# Thanks for using my code. I hope it works for you.
# If not, please try and include this output in the bug report.
# That will help me reproduce the issue and solve you problem.
#
t/00-compile.t ................ ok
t/000-report-versions-tiny.t .. ok
t/author-critic.t ............. skipped: these tests are for testing by the author
t/author-pod-spell.t .......... skipped: these tests are for testing by the author
t/lwpxtest.t .................. ok
t/lwpxtest_02.t ............... ok
t/release-pod-coverage.t ...... skipped: these tests are for release candidate testing
t/release-pod-linkcheck.t ..... skipped: these tests are for release candidate testing
t/release-pod-syntax.t ........ skipped: these tests are for release candidate testing
All tests successful.
Files=9, Tests=14, 0 wallclock secs ( 0.04 usr 0.02 sys + 1.10 cusr 0.19 csys = 1.35 CPU)
Result: PASS
------------------------------
PREREQUISITES
------------------------------
Prerequisite modules loaded:
requires:
Module Need Have
------------------------- ------ --------
base 0 2.26
Carp 0 1.42
Digest::MD5 0 2.55
File::Slurp 0 9999.19
File::Spec 0 3.67
HTTP::Response 0 6.18
HTTP::Status 0 6.18
List::Util 0 1.46_02
LWP::UserAgent 0 6.35
perl 5.006 5.026002
strict 0 1.11
warnings 0 1.37
build_requires:
Module Need Have
------------------------- ------ --------
File::Find 0 1.34
File::Temp 0 0.2304
lib 0 0.64
LWPx::Record::DataSection 0 0.01
Module::Build 0.3601 0.4224
Test::More 0.88 1.302136
configure_requires:
Module Need Have
------------------------- ------ --------
Module::Build 0.3601 0.4224
------------------------------
ENVIRONMENT AND OTHER CONTEXT
------------------------------
Environment variables:
AUTOMATED_TESTING = 1
HARNESS_OPTIONS = j2
LANG = en_US.UTF-8
PATH = /home/njh/perl5/perlbrew/bin:/home/njh/perl5/perlbrew/perls/perl-5.26.2/bin:/usr/bin:/bin:/home/njh/src/njh/smoker/bin
PERL5LIB = /home/njh/.cpan/build/LWPx-Record-DataSection-0.01-0/blib/arch:/home/njh/.cpan/build/LWPx-Record-DataSection-0.01-0/blib/lib:/home/njh/.cpan/build/CGI-Simple-1.15-0/blib/arch:/home/njh/.cpan/build/CGI-Simple-1.15-0/blib/lib
PERL5OPT =
PERL5_CPANPLUS_IS_RUNNING = 27050
PERL5_CPAN_IS_RUNNING = 27050
PERLBREW_HOME = /home/njh/.perlbrew
PERLBREW_MANPATH = /home/njh/perl5/perlbrew/perls/perl-5.26.2/man
PERLBREW_PATH = /home/njh/perl5/perlbrew/bin:/home/njh/perl5/perlbrew/perls/perl-5.26.2/bin
PERLBREW_PERL = perl-5.26.2
PERLBREW_ROOT = /home/njh/perl5/perlbrew
PERLBREW_SHELLRC_VERSION = 0.83
PERLBREW_VERSION = 0.83
PERL_USE_UNSAFE_INC = 1
SHELL = /bin/sh
TEMP = /tmp/user/1000
TMPDIR = /tmp/user/1000/testwrapper.27038
Perl special variables (and OS-specific diagnostics, for MSWin32):
$^X = /home/njh/perl5/perlbrew/perls/perl-5.26.2/bin/perl
$UID/$EUID = 1000 / 1000
$GID = 1000 4 24 25 29 30 44 46 103 108 115 123 1000
$EGID = 1000 4 24 25 29 30 44 46 103 108 115 123 1000
Perl module toolchain versions installed:
Module Have
------------------- ----------
CPAN 2.18
CPAN::Meta 2.150010
Cwd 3.67
ExtUtils::CBuilder 0.280225
ExtUtils::Command 7.24
ExtUtils::Install 2.04
ExtUtils::MakeMaker 7.24
ExtUtils::Manifest 1.70
ExtUtils::ParseXS 3.34
File::Spec 3.67
JSON 2.97001
JSON::PP 2.27400_02
Module::Build 0.4224
Module::Signature n/a
Parse::CPAN::Meta 2.150010
Test::Harness 3.38
Test::More 1.302136
YAML 1.26
YAML::Syck n/a
version 0.9917
--
Summary of my perl5 (revision 5 version 26 subversion 2) configuration:
Platform:
osname=linux
osvers=4.16.0-1-amd64
archname=x86_64-linux
uname='linux amelia 4.16.0-1-amd64 #1 smp debian 4.16.5-1 (2018-04-29) x86_64 gnulinux '
config_args='-de -Dprefix=/home/njh/perl5/perlbrew/perls/perl-5.26.2 -Aeval:scriptdir=/home/njh/perl5/perlbrew/perls/perl-5.26.2/bin'
hint=recommended
useposix=true
d_sigaction=define
useithreads=undef
usemultiplicity=undef
use64bitint=define
use64bitall=define
uselongdouble=undef
usemymalloc=n
default_inc_excludes_dot=define
bincompat5005=undef
Compiler:
cc='cc'
ccflags ='-fwrapv -fno-strict-aliasing -pipe -fstack-protector-strong -I/usr/local/include -D_LARGEFILE_SOURCE -D_FILE_OFFSET_BITS=64 -D_FORTIFY_SOURCE=2'
optimize='-O2'
cppflags='-fwrapv -fno-strict-aliasing -pipe -fstack-protector-strong -I/usr/local/include'
ccversion=''
gccversion='7.3.0'
gccosandvers=''
intsize=4
longsize=8
ptrsize=8
doublesize=8
byteorder=12345678
doublekind=3
d_longlong=define
longlongsize=8
d_longdbl=define
longdblsize=16
longdblkind=3
ivtype='long'
ivsize=8
nvtype='double'
nvsize=8
Off_t='off_t'
lseeksize=8
alignbytes=8
prototype=define
Linker and Libraries:
ld='cc'
ldflags =' -fstack-protector-strong -L/usr/local/lib'
libpth=/usr/local/lib /usr/lib/gcc/x86_64-linux-gnu/7/include-fixed /usr/include/x86_64-linux-gnu /usr/lib /lib/x86_64-linux-gnu /lib/../lib /usr/lib/x86_64-linux-gnu /usr/lib/../lib /lib /lib64 /usr/lib64
libs=-lpthread -lnsl -lgdbm -ldb -ldl -lm -lcrypt -lutil -lc
perllibs=-lpthread -lnsl -ldl -lm -lcrypt -lutil -lc
libc=libc-2.27.so
so=so
useshrplib=false
libperl=libperl.a
gnulibc_version='2.27'
Dynamic Linking:
dlsrc=dl_dlopen.xs
dlext=so
d_dlsymun=undef
ccdlflags='-Wl,-E'
cccdlflags='-fPIC'
lddlflags='-shared -O2 -L/usr/local/lib -fstack-protector-strong'
Characteristics of this binary (from libperl):
Compile-time options:
HAS_TIMES
PERLIO_LAYERS
PERL_COPY_ON_WRITE
PERL_DONT_CREATE_GVSV
PERL_MALLOC_WRAP
PERL_OP_PARENT
PERL_PRESERVE_IVUV
USE_64_BIT_ALL
USE_64_BIT_INT
USE_LARGE_FILES
USE_LOCALE
USE_LOCALE_COLLATE
USE_LOCALE_CTYPE
USE_LOCALE_NUMERIC
USE_LOCALE_TIME
USE_PERLIO
USE_PERL_ATOF
Locally applied patches:
Devel::PatchPerl 1.48
Built under linux
Compiled at Jun 15 2018 14:59:00
%ENV:
PERL5LIB="/home/njh/.cpan/build/LWPx-Record-DataSection-0.01-0/blib/arch:/home/njh/.cpan/build/LWPx-Record-DataSection-0.01-0/blib/lib:/home/njh/.cpan/build/CGI-Simple-1.15-0/blib/arch:/home/njh/.cpan/build/CGI-Simple-1.15-0/blib/lib"
PERL5OPT=""
PERL5_CPANPLUS_IS_RUNNING="27050"
PERL5_CPAN_IS_RUNNING="27050"
PERLBREW_HOME="/home/njh/.perlbrew"
PERLBREW_MANPATH="/home/njh/perl5/perlbrew/perls/perl-5.26.2/man"
PERLBREW_PATH="/home/njh/perl5/perlbrew/bin:/home/njh/perl5/perlbrew/perls/perl-5.26.2/bin"
PERLBREW_PERL="perl-5.26.2"
PERLBREW_ROOT="/home/njh/perl5/perlbrew"
PERLBREW_SHELLRC_VERSION="0.83"
PERLBREW_VERSION="0.83"
PERL_USE_UNSAFE_INC="1"
@INC:
/home/njh/.cpan/build/LWPx-Record-DataSection-0.01-0/blib/arch
/home/njh/.cpan/build/LWPx-Record-DataSection-0.01-0/blib/lib
/home/njh/.cpan/build/CGI-Simple-1.15-0/blib/arch
/home/njh/.cpan/build/CGI-Simple-1.15-0/blib/lib
/home/njh/perl5/perlbrew/perls/perl-5.26.2/lib/site_perl/5.26.2/x86_64-linux
/home/njh/perl5/perlbrew/perls/perl-5.26.2/lib/site_perl/5.26.2
/home/njh/perl5/perlbrew/perls/perl-5.26.2/lib/5.26.2/x86_64-linux
/home/njh/perl5/perlbrew/perls/perl-5.26.2/lib/5.26.2
.