Form-Tiny v2.20 Perl 5 v5.38.0 x86_64-linux

Status
Pass
From
David Cantrell (DCANTRELL)
Dist
Form-Tiny v2.20
Platform
Perl 5 v5.38.0 x86_64-linux
Date
2023-08-23 00:33:07
ID
a1512b32-414c-11ee-a053-914bb9d6693a
This distribution has been tested as part of the CPAN Testers
project, supporting the Perl programming language.  See
http://wiki.cpantesters.org/ for more information or email
questions to cpan-testers-discuss@perl.org


--
Dear Bartosz Jarzyna,

This is a computer-generated report for Form-Tiny-2.20
on perl 5.38.0, created by CPAN-Reporter-1.2019.

Thank you for uploading your work to CPAN.  Congratulations!
All tests were successful.

Sections of this report:

    * Tester comments
    * Program output
    * Prerequisites
    * Environment and other context

------------------------------
TESTER COMMENTS
------------------------------

Additional comments from tester:

this report is from an automated smoke testing program
and was not reviewed by a human for accuracy

------------------------------
PROGRAM OUTPUT
------------------------------

Output from '/usr/bin/make test':

PERL_DL_NONLAZY=1 "/home/david/cpantesting/perl-5.38.0/bin/perl" "-MExtUtils::Command::MM" "-MTest::Harness" "-e" "undef *Test::Harness::Switches; test_harness(0, 'blib/lib', 'blib/arch')" t/*.t t/500-subforms/*.t t/800-inheritance/*.t t/900-plugins/*.t t/990-examples/*.t t/999-bugfixes/*.t
t/010-no-arguments.t .................. ok
t/011-no-moo.t ........................ ok
t/012-names.t ......................... ok
t/013-meta.t .......................... ok
t/014-cloning.t ....................... ok
t/020-inline.t ........................ ok
t/030-errors.t ........................ ok
t/031-adding-errors.t ................. ok
t/032-errors-hash.t ................... ok
t/040-format.t ........................ ok
t/050-required.t ...................... ok
t/060-strictness.t .................... ok
t/070-filtering.t ..................... ok
t/071-field-filtering.t ............... ok
t/080-adjustments.t ................... ok
t/090-cleaning.t ...................... ok
t/100-subroutines.t ................... ok
t/110-tiny-types.t .................... ok
t/120-tiny-types-coerce.t ............. ok
t/130-arrays.t ........................ ok
t/140-arrays-required.t ............... ok
t/150-nested-hash.t ................... ok
t/160-nested-form.t ................... ok
t/170-nested-mixed.t .................. ok
t/180-triple-nest.t ................... ok
t/190-hooks.t ......................... ok
t/200-data.t .......................... ok
t/210-helpers.t ....................... ok
t/220-default.t ....................... ok
t/221-default-flat.t .................. ok
t/230-nesting-escape.t ................ ok
t/240-context.t ....................... ok
t/250-messages.t ...................... ok
t/251-form-messages.t ................. ok
t/260-additional-validators.t ......... ok
t/270-consistent-api.t ................ ok
t/280-blueprint.t ..................... ok
t/281-dynamic-blueprint.t ............. ok
t/290-custom-field-defs.t ............. ok
t/300-value.t ......................... ok
t/500-subforms/01-default.t ........... ok
t/500-subforms/02-message.t ........... ok
t/800-inheritance/010-simple.t ........ ok
t/800-inheritance/020-plugins.t ....... ok
t/900-plugins/010-subroutine.t ........ ok
t/900-plugins/020-role.t .............. ok
t/900-plugins/030-metarole.t .......... ok
t/990-examples/010-inline-form.t ...... ok
t/990-examples/020-metaobject.t ....... ok
t/990-examples/030-regular-form.t ..... ok
t/999-bugfixes/001-3-plugins-array.t .. ok
t/999-bugfixes/002-8-empty-form.t ..... ok
t/author-01-object-pad.t .............. skipped: these tests are for testing by the author
t/author-02-bless.t ................... skipped: these tests are for testing by the author
t/author-03-autoclean.t ............... skipped: these tests are for testing by the author
t/author-pod-syntax.t ................. skipped: these tests are for testing by the author
All tests successful.
Files=56, Tests=529, 99 wallclock secs ( 0.38 usr  0.10 sys + 16.32 cusr  1.99 csys = 18.79 CPU)
Result: PASS

------------------------------
PREREQUISITES
------------------------------

Prerequisite modules loaded:

requires:

    Module              Need     Have    
    ------------------- -------- --------
    Import::Into        0        1.002005
    Moo                 2.000000 2.005005
    perl                5.010    5.038000
    Sub::Util           0        1.63    
    Type::Tiny          1.004000 2.004000

build_requires:

    Module              Need     Have    
    ------------------- -------- --------
    ExtUtils::MakeMaker 0        7.70    
    Test::Exception     0        0.43    

configure_requires:

    Module              Need     Have    
    ------------------- -------- --------
    ExtUtils::MakeMaker 0        7.70    


------------------------------
ENVIRONMENT AND OTHER CONTEXT
------------------------------

Environment variables:

    AUTOMATED_TESTING = 1
    LANG = en_GB.UTF-8
    LANGUAGE = en_GB:en
    LC_TERMINAL = iTerm2
    LC_TERMINAL_VERSION = 3.4.19
    NONINTERACTIVE_TESTING = 1
    PATH = /home/david/.nvm/versions/node/v18.17.0/bin:/home/david/.cargo/bin:/home/david/perl5/perlbrew/bin:/home/david/perl5/perlbrew/perls/perl-5.30.2/bin:/home/david/bin:/usr/local/bin:/usr/bin:/bin:/usr/local/games:/usr/games
    PERL = 5.38.0
    PERL5LIB = 
    PERL5OPT = 
    PERL5_CPANPLUS_IS_RUNNING = 1174854
    PERL5_CPAN_IS_RUNNING = 1174854
    PERLBREW_HOME = /home/david/.perlbrew
    PERLBREW_MANPATH = /home/david/perl5/perlbrew/perls/perl-5.30.2/man
    PERLBREW_PATH = /home/david/perl5/perlbrew/bin:/home/david/perl5/perlbrew/perls/perl-5.30.2/bin
    PERLBREW_PERL = perl-5.30.2
    PERLBREW_ROOT = /home/david/perl5/perlbrew
    PERLBREW_SHELLRC_VERSION = 0.89
    PERLBREW_VERSION = 0.89
    PERLVER = 5.38.0
    PERL_INLINE_DIRECTORY = /home/david/.Inline-5.38.0
    PERL_MM_USE_DEFAULT = 1
    PERL_USE_UNSAFE_INC = 0
    SHELL = /bin/bash
    TERM = screen

Perl special variables (and OS-specific diagnostics, for MSWin32):

    $^X = /home/david/cpantesting/perl-5.38.0/bin/perl
    $UID/$EUID = 1000 / 1000
    $GID = 1000 24 25 27 29 30 44 46 109 1000
    $EGID = 1000 24 25 27 29 30 44 46 109 1000

Perl module toolchain versions installed:

    Module              Have    
    ------------------- --------
    CPAN                2.36    
    CPAN::Meta          2.150010
    Cwd                 3.89    
    ExtUtils::CBuilder  0.280238
    ExtUtils::Command   7.70    
    ExtUtils::Install   2.22    
    ExtUtils::MakeMaker 7.70    
    ExtUtils::Manifest  1.75    
    ExtUtils::ParseXS   3.51    
    File::Spec          3.88    
    JSON                4.10    
    JSON::PP            4.16    
    Module::Build       0.4234  
    Module::Signature   n/a     
    Parse::CPAN::Meta   2.150010
    Test2               1.302195
    Test::Harness       3.44    
    Test::More          1.302195
    YAML                1.30    
    YAML::Syck          n/a     
    version             0.9929  


--

Summary of my perl5 (revision 5 version 38 subversion 0) configuration:
   
  Platform:
    osname=linux
    osvers=5.10.0-11-amd64
    archname=x86_64-linux
    uname='linux cpantesting-linux 5.10.0-11-amd64 #1 smp debian 5.10.92-1 (2022-01-18) x86_64 gnulinux '
    config_args='-de -Dprefix=/home/david/cpantesting/perl-5.38.0'
    hint=recommended
    useposix=true
    d_sigaction=define
    useithreads=undef
    usemultiplicity=undef
    use64bitint=define
    use64bitall=define
    uselongdouble=undef
    usemymalloc=n
    default_inc_excludes_dot=define
  Compiler:
    cc='cc'
    ccflags ='-fwrapv -fno-strict-aliasing -pipe -fstack-protector-strong -I/usr/local/include -D_LARGEFILE_SOURCE -D_FILE_OFFSET_BITS=64 -D_FORTIFY_SOURCE=2'
    optimize='-O2'
    cppflags='-fwrapv -fno-strict-aliasing -pipe -fstack-protector-strong -I/usr/local/include'
    ccversion=''
    gccversion='10.2.1 20210110'
    gccosandvers=''
    intsize=4
    longsize=8
    ptrsize=8
    doublesize=8
    byteorder=12345678
    doublekind=3
    d_longlong=define
    longlongsize=8
    d_longdbl=define
    longdblsize=16
    longdblkind=3
    ivtype='long'
    ivsize=8
    nvtype='double'
    nvsize=8
    Off_t='off_t'
    lseeksize=8
    alignbytes=8
    prototype=define
  Linker and Libraries:
    ld='cc'
    ldflags =' -fstack-protector-strong -L/usr/local/lib'
    libpth=/usr/local/lib /usr/lib/x86_64-linux-gnu /usr/lib /usr/lib64
    libs=-lpthread -ldl -lm -lcrypt -lutil -lc
    perllibs=-lpthread -ldl -lm -lcrypt -lutil -lc
    libc=libc-2.31.so
    so=so
    useshrplib=false
    libperl=libperl.a
    gnulibc_version='2.31'
  Dynamic Linking:
    dlsrc=dl_dlopen.xs
    dlext=so
    d_dlsymun=undef
    ccdlflags='-Wl,-E'
    cccdlflags='-fPIC'
    lddlflags='-shared -O2 -L/usr/local/lib -fstack-protector-strong'


Characteristics of this binary (from libperl): 
  Compile-time options:
    HAS_LONG_DOUBLE
    HAS_STRTOLD
    HAS_TIMES
    PERLIO_LAYERS
    PERL_COPY_ON_WRITE
    PERL_DONT_CREATE_GVSV
    PERL_HASH_FUNC_SIPHASH13
    PERL_HASH_USE_SBOX32
    PERL_MALLOC_WRAP
    PERL_OP_PARENT
    PERL_PRESERVE_IVUV
    PERL_USE_SAFE_PUTENV
    USE_64_BIT_ALL
    USE_64_BIT_INT
    USE_LARGE_FILES
    USE_LOCALE
    USE_LOCALE_COLLATE
    USE_LOCALE_CTYPE
    USE_LOCALE_NUMERIC
    USE_LOCALE_TIME
    USE_PERLIO
    USE_PERL_ATOF
  Built under linux
  Compiled at Jul  3 2023 12:22:31
  %ENV:
    PERL="5.38.0"
    PERL5LIB=""
    PERL5OPT=""
    PERL5_CPANPLUS_IS_RUNNING="1174854"
    PERL5_CPAN_IS_RUNNING="1174854"
    PERLBREW_HOME="/home/david/.perlbrew"
    PERLBREW_MANPATH="/home/david/perl5/perlbrew/perls/perl-5.30.2/man"
    PERLBREW_PATH="/home/david/perl5/perlbrew/bin:/home/david/perl5/perlbrew/perls/perl-5.30.2/bin"
    PERLBREW_PERL="perl-5.30.2"
    PERLBREW_ROOT="/home/david/perl5/perlbrew"
    PERLBREW_SHELLRC_VERSION="0.89"
    PERLBREW_VERSION="0.89"
    PERLVER="5.38.0"
    PERL_INLINE_DIRECTORY="/home/david/.Inline-5.38.0"
    PERL_MM_USE_DEFAULT="1"
    PERL_USE_UNSAFE_INC="0"
  @INC:
    /home/david/cpantesting/perl-5.38.0/lib/site_perl/5.38.0/x86_64-linux
    /home/david/cpantesting/perl-5.38.0/lib/site_perl/5.38.0
    /home/david/cpantesting/perl-5.38.0/lib/5.38.0/x86_64-linux
    /home/david/cpantesting/perl-5.38.0/lib/5.38.0