Report for Cikl-0.03

Back
From: metabase:user:314402c4-2aae-11df-837a-5e0a49663a4f
Subject: PASS Cikl-0.03 v5.18.2 FreeBSD
Date: 2014-03-03T20:08:47Z

This distribution has been tested as part of the CPAN Testers
project, supporting the Perl programming language.  See
http://wiki.cpantesters.org/ for more information or email
questions to cpan-testers-discuss@perl.org


--
Dear Author,

This is a computer-generated report for Cikl-0.03
on perl 5.18.2, created by CPAN-Reporter-1.2010.

Thank you for uploading your work to CPAN.  Congratulations!
All tests were successful.

Sections of this report:

    * Tester comments
    * Program output
    * Prerequisites
    * Environment and other context

------------------------------
TESTER COMMENTS
------------------------------

Additional comments from tester:

none provided

------------------------------
PROGRAM OUTPUT
------------------------------

Output from './Build test':

t/Cikl.t ........................... ok
t/Cikl/DataTypes/Asn.t ............. ok
t/Cikl/DataTypes/Integer.t ......... ok
t/Cikl/DataTypes/LowerCaseStr.t .... ok
t/Cikl/DataTypes/Url.t ............. ok
t/Cikl/Models/Address/asn.t ........ ok
t/Cikl/Models/Address/email.t ...... ok
t/Cikl/Models/Address/fqdn.t ....... ok
t/Cikl/Models/Address/ipv4.t ....... ok
t/Cikl/Models/Address/ipv4_cidr.t .. ok
t/Cikl/Models/Address/url.t ........ ok
t/Cikl/Models/Event.t .............. ok
t/Cikl/Util/TimeHelpers.t .......... ok
All tests successful.
Files=13, Tests=141, 11 wallclock secs ( 0.16 usr  0.05 sys +  4.27 cusr  1.01 csys =  5.48 CPU)
Result: PASS

------------------------------
PREREQUISITES
------------------------------

Prerequisite modules loaded:

requires:

    Module                      Need     Have      
    --------------------------- -------- ----------
    AnyEvent                    7.05     7.07      
    AnyEvent::RabbitMQ          1.15     1.15      
    Config::Simple              4.58     4.58      
    Coro                        6.31     6.33      
    Cwd                         3.40     3.40      
    DateTime                    0.70     1.07      
    DateTime::Format::DateParse 0.05     0.05      
    DateTime::Format::Strptime  1.54     1.54      
    Digest::MD5                 2.51     2.53      
    Digest::SHA                 5.70     5.84_01   
    Encode                      2.44     2.57      
    File::Spec                  3.40     3.40      
    File::Type                  0.22     0.22      
    Getopt::Long                0        2.39      
    IO::Uncompress::Unzip       2.02     2.060     
    JSON::XS                    2.34     3.01      
    List::MoreUtils             0.33     0.33      
    Log::Dispatch               2.32     2.41      
    LWP::Protocol::https        6.03     6.04      
    LWP::UserAgent              6.02     6.05      
    LWPx::ParanoidAgent         1.09     1.10      
    Mail::RFC822::Address       0.3      0.3       
    MIME::Base64                3.13     3.13      
    MIME::Lite                  3.027    3.030     
    Module::Pluggable           3.9      5.1       
    Mouse                       v2.0.0   2.1.0     
    Net::RabbitFoot             1.03     1.03      
    Net::SSLeay                 1.43     1.58      
    perl                        5.014    5.018002  
    Regexp::Common              2.122    2013031301
    Regexp::Common::net::CIDR   0.02     0.02      
    Storable                    2.27     2.45      
    Text::CSV_XS                1.00     1.04      
    Text::Table                 1.127    1.129     
    Time::HiRes                 1.972101 1.9725    
    Try::Tiny                   0.11     0.19      
    UUID::Tiny                  1.04     1.04      
    XML::LibXML                 1.89     2.0110    

build_requires:

    Module                      Need     Have      
    --------------------------- -------- ----------
    ExtUtils::CBuilder          0        0.280210  
    Test::Class                 0.41     0.41      
    Test::Exception             0.32     0.32      

configure_requires:

    Module                      Need     Have      
    --------------------------- -------- ----------
    CPAN::Meta                  0        2.133380  
    CPAN::Meta::Prereqs         0        2.133380  
    Module::Build               0.38     0.4205    


------------------------------
ENVIRONMENT AND OTHER CONTEXT
------------------------------

Environment variables:

    DBIC_NO_WARN_BAD_PERL = 1
    PATH = /usr/local/bin:/usr/bin:/bin:/usr/local/sbin:/usr/sbin:/sbin:/home/cpansand/bin/freebsd10.0:/home/cpansand/bin/sh:/home/cpansand/bin:/usr/games:/home/cpansand/devel:/home/eserte/src/srezic-misc/scripts
    PERL5LIB = /home/cpansand/.cpan/build/Mail-RFC822-Address-0.3-H5SLjG/blib/arch:/home/cpansand/.cpan/build/Mail-RFC822-Address-0.3-H5SLjG/blib/lib:/home/cpansand/.cpan/build/Net-RabbitFoot-1.03-b_BEDT/blib/arch:/home/cpansand/.cpan/build/Net-RabbitFoot-1.03-b_BEDT/blib/lib:/home/cpansand/.cpan/build/Regexp-Common-net-CIDR-0.02-xh_CVQ/blib/arch:/home/cpansand/.cpan/build/Regexp-Common-net-CIDR-0.02-xh_CVQ/blib/lib:/home/cpansand/.cpan/build/AnyEvent-RabbitMQ-1.15-Gqouv1/blib/arch:/home/cpansand/.cpan/build/AnyEvent-RabbitMQ-1.15-Gqouv1/blib/lib
    PERL5OPT = 
    PERL5_CPANPLUS_IS_RUNNING = 98592
    PERL5_CPAN_IS_RUNNING = 98592
    PERL5_CPAN_IS_RUNNING_IN_RECURSION = 98549,98592
    PERLDOC = -MPod::Perldoc::ToTextOverstrike
    PERL_BATCH = yes
    PERL_CPAN_REPORTER_CONFIG = /var/tmp/cpansmoker-1023/s9D33IVR3S_config.ini
    PERL_EXTUTILS_AUTOINSTALL = --defaultdeps
    PERL_HTML_DISPLAY_CLASS = HTML::Display::Mozilla
    SHELL = /usr/local/bin/zsh
    TERM = screen
    TMPDIR = /var/tmp/cpansmoker-1023

Perl special variables (and OS-specific diagnostics, for MSWin32):

    $^X = /usr/perl5.18.2/bin/perl5.18.2
    $UID/$EUID = 1023 / 1023
    $GID = 1023 1023
    $EGID = 1023 1023

Perl module toolchain versions installed:

    Module              Have    
    ------------------- --------
    CPAN                2.00    
    CPAN::Meta          2.133380
    Cwd                 3.40    
    ExtUtils::CBuilder  0.280210
    ExtUtils::Command   1.17    
    ExtUtils::Install   1.59    
    ExtUtils::MakeMaker 6.90    
    ExtUtils::Manifest  1.63    
    ExtUtils::ParseXS   3.22    
    File::Spec          3.40    
    JSON                2.90    
    JSON::PP            2.27203 
    Module::Build       0.4205  
    Module::Signature   0.73    
    Parse::CPAN::Meta   1.4413  
    Test::Harness       3.30    
    Test::More          1.001002
    YAML                0.90    
    YAML::Syck          1.27    
    version             0.9902  


--

Summary of my perl5 (revision 5 version 18 subversion 2) configuration:
   
  Platform:
    osname=freebsd, osvers=10.0-release, archname=amd64-freebsd
    uname='freebsd cvrsnica-freebsd-10-64bit.herceg.de 10.0-release freebsd 10.0-release #0 r260789: thu jan 16 22:34:59 utc 2014 root@snap.freebsd.org:usrobjusrsrcsysgeneric amd64 '
    config_args='-ds -e -Dprefix=/usr/perl5.18.2'
    hint=recommended, useposix=true, d_sigaction=define
    useithreads=undef, usemultiplicity=undef
    useperlio=define, d_sfio=undef, uselargefiles=define, usesocks=undef
    use64bitint=define, use64bitall=define, uselongdouble=undef
    usemymalloc=n, bincompat5005=undef
  Compiler:
    cc='cc', ccflags ='-DHAS_FPSETMASK -DHAS_FLOATINGPOINT_H -fno-strict-aliasing -pipe -fstack-protector -I/usr/local/include',
    optimize='-O',
    cppflags='-DHAS_FPSETMASK -DHAS_FLOATINGPOINT_H -fno-strict-aliasing -pipe -fstack-protector -I/usr/local/include'
    ccversion='', gccversion='4.2.1 Compatible FreeBSD Clang 3.3 (tags/RELEASE_33/final 183502)', gccosandvers=''
    intsize=4, longsize=8, ptrsize=8, doublesize=8, byteorder=12345678
    d_longlong=define, longlongsize=8, d_longdbl=define, longdblsize=16
    ivtype='long', ivsize=8, nvtype='double', nvsize=8, Off_t='off_t', lseeksize=8
    alignbytes=8, prototype=define
  Linker and Libraries:
    ld='cc', ldflags ='-Wl,-E  -fstack-protector -L/usr/local/lib'
    libpth=/usr/lib /usr/local/lib
    libs=-lgdbm -lm -lcrypt -lutil -lc
    perllibs=-lm -lcrypt -lutil -lc
    libc=, so=so, useshrplib=false, libperl=libperl.a
    gnulibc_version=''
  Dynamic Linking:
    dlsrc=dl_dlopen.xs, dlext=so, d_dlsymun=undef, ccdlflags=' '
    cccdlflags='-DPIC -fPIC', lddlflags='-shared  -L/usr/local/lib -fstack-protector'


Characteristics of this binary (from libperl): 
  Compile-time options: HAS_TIMES PERLIO_LAYERS PERL_DONT_CREATE_GVSV
                        PERL_HASH_FUNC_ONE_AT_A_TIME_HARD PERL_MALLOC_WRAP
                        PERL_PRESERVE_IVUV PERL_SAWAMPERSAND USE_64_BIT_ALL
                        USE_64_BIT_INT USE_LARGE_FILES USE_LOCALE
                        USE_LOCALE_COLLATE USE_LOCALE_CTYPE
                        USE_LOCALE_NUMERIC USE_PERLIO USE_PERL_ATOF
  Built under freebsd
  Compiled at Feb 16 2014 21:09:14
  %ENV:
    PERL5LIB="/home/cpansand/.cpan/build/Mail-RFC822-Address-0.3-H5SLjG/blib/arch:/home/cpansand/.cpan/build/Mail-RFC822-Address-0.3-H5SLjG/blib/lib:/home/cpansand/.cpan/build/Net-RabbitFoot-1.03-b_BEDT/blib/arch:/home/cpansand/.cpan/build/Net-RabbitFoot-1.03-b_BEDT/blib/lib:/home/cpansand/.cpan/build/Regexp-Common-net-CIDR-0.02-xh_CVQ/blib/arch:/home/cpansand/.cpan/build/Regexp-Common-net-CIDR-0.02-xh_CVQ/blib/lib:/home/cpansand/.cpan/build/AnyEvent-RabbitMQ-1.15-Gqouv1/blib/arch:/home/cpansand/.cpan/build/AnyEvent-RabbitMQ-1.15-Gqouv1/blib/lib"
    PERL5OPT=""
    PERL5_CPANPLUS_IS_RUNNING="98592"
    PERL5_CPAN_IS_RUNNING="98592"
    PERL5_CPAN_IS_RUNNING_IN_RECURSION="98549,98592"
    PERLDOC="-MPod::Perldoc::ToTextOverstrike"
    PERL_BATCH="yes"
    PERL_CPAN_REPORTER_CONFIG="/var/tmp/cpansmoker-1023/s9D33IVR3S_config.ini"
    PERL_EXTUTILS_AUTOINSTALL="--defaultdeps"
    PERL_HTML_DISPLAY_CLASS="HTML::Display::Mozilla"
  @INC:
    /home/cpansand/.cpan/build/Mail-RFC822-Address-0.3-H5SLjG/blib/arch
    /home/cpansand/.cpan/build/Mail-RFC822-Address-0.3-H5SLjG/blib/lib
    /home/cpansand/.cpan/build/Net-RabbitFoot-1.03-b_BEDT/blib/arch
    /home/cpansand/.cpan/build/Net-RabbitFoot-1.03-b_BEDT/blib/lib
    /home/cpansand/.cpan/build/Regexp-Common-net-CIDR-0.02-xh_CVQ/blib/arch
    /home/cpansand/.cpan/build/Regexp-Common-net-CIDR-0.02-xh_CVQ/blib/lib
    /home/cpansand/.cpan/build/AnyEvent-RabbitMQ-1.15-Gqouv1/blib/arch
    /home/cpansand/.cpan/build/AnyEvent-RabbitMQ-1.15-Gqouv1/blib/lib
    /usr/perl5.18.2/lib/site_perl/5.18.2/amd64-freebsd
    /usr/perl5.18.2/lib/site_perl/5.18.2
    /usr/perl5.18.2/lib/5.18.2/amd64-freebsd
    /usr/perl5.18.2/lib/5.18.2
    .