Report for Bread-Board-Declare-0.16

Back
From: metabase:user:aa011456-2c23-11e4-9f02-33022c9783ef
Subject: PASS Bread-Board-Declare-0.16 v5.23.9 GNU/Linux
Date: 2016-03-21T01:17:07Z

This distribution has been tested as part of the CPAN Testers
project, supporting the Perl programming language.  See
http://wiki.cpantesters.org/ for more information or email
questions to cpan-testers-discuss@perl.org


--
Dear DOY,

This is a computer-generated report for Bread-Board-Declare-0.16
on perl 5.23.9, created by App::cpanminus::reporter 0.13 (1.7040).

Thank you for uploading your work to CPAN.  Congratulations!
All tests were successful.

Sections of this report:

    * Tester comments
    * Program output
    * Prerequisites
    * Environment and other context

------------------------------
TESTER COMMENTS
------------------------------

Additional comments from tester:

none provided

------------------------------
PROGRAM OUTPUT
------------------------------

Output from '':

Building and testing Bread-Board-Declare-0.16
cp lib/Bread/Board/Declare/BlockInjection.pm blib/lib/Bread/Board/Declare/BlockInjection.pm
cp lib/Bread/Board/Declare/Role/Object.pm blib/lib/Bread/Board/Declare/Role/Object.pm
cp lib/Bread/Board/Declare/Meta/Role/Class.pm blib/lib/Bread/Board/Declare/Meta/Role/Class.pm
cp lib/Bread/Board/Declare/Meta/Role/Attribute/Container.pm blib/lib/Bread/Board/Declare/Meta/Role/Attribute/Container.pm
cp lib/Bread/Board/Declare/Meta/Role/Instance.pm blib/lib/Bread/Board/Declare/Meta/Role/Instance.pm
cp lib/Bread/Board/Declare.pm blib/lib/Bread/Board/Declare.pm
cp lib/Bread/Board/Declare/Literal.pm blib/lib/Bread/Board/Declare/Literal.pm
cp lib/Bread/Board/Declare/Role/Service.pm blib/lib/Bread/Board/Declare/Role/Service.pm
cp lib/Bread/Board/Declare/Meta/Role/Attribute.pm blib/lib/Bread/Board/Declare/Meta/Role/Attribute.pm
cp lib/Bread/Board/Declare/ConstructorInjection.pm blib/lib/Bread/Board/Declare/ConstructorInjection.pm
cp lib/Bread/Board/Declare/Meta/Role/Attribute/Service.pm blib/lib/Bread/Board/Declare/Meta/Role/Attribute/Service.pm
Manifying 11 pod documents
PERL_DL_NONLAZY=1 "/opt/plenv/versions/5.23.9/bin/perl5.23.9" "-MExtUtils::Command::MM" "-MTest::Harness" "-e" "undef *Test::Harness::Switches; test_harness(0, 'blib/lib', 'blib/arch')" t/*.t
t/00-compile.t .............. ok
t/auto-deref.t .............. ok
t/basic.t ................... ok
t/block.t ................... ok
t/circular-dependency.t ..... ok
t/constructor-name.t ........ ok
t/defaults.t ................ ok
t/deps.t .................... ok
t/extends.t ................. ok
t/infer-loading.t ........... ok
t/infer-subclasses.t ........ ok
t/infer.t ................... ok
t/inheritance.t ............. ok
t/inline-services.t ......... ok
t/inlining.t ................ ok
t/leak.t .................... ok
t/lifecycle.t ............... ok
t/mop.t ..................... ok
t/more-inheritance.t ........ ok
t/multiple-instantiation.t .. ok
t/no-service.t .............. ok
t/parameters.t .............. ok
t/roles.t ................... ok
t/subcontainers.t ........... ok
t/type-checks.t ............. ok
All tests successful.
Files=25, Tests=358, 15 wallclock secs ( 0.19 usr  0.04 sys + 14.40 cusr  0.58 csys = 15.21 CPU)
Result: PASS

------------------------------
PREREQUISITES
------------------------------

Prerequisite modules loaded:

    No requirements found

------------------------------
ENVIRONMENT AND OTHER CONTEXT
------------------------------

Environment variables:

    LANG = en_US.UTF-8
    LC_ALL = en_US.UTF-8
    PATH = /opt/plenv/versions/5.23.9/bin:/opt/plenv/libexec:/opt/plenv/plugins/perl-build/bin:/opt/plenv/shims:/opt/plenv/bin:/opt/git/bin:/opt/plenv/shims:/opt/plenv/bin:/home/genehack/bin:/opt/node/bin:/opt/vim/bin:/opt/tmux/bin:/opt/ruby/bin:/opt/rust/bin:/opt/emacs/bin:/opt/local/bin:/opt/git/bin:/usr/local/bin:/usr/bin:/bin:/usr/games
    PERL_CPANM_OPT = --skip-installed --prompt
    SHELL = /bin/zsh
    TERM = screen-256color

Perl special variables (and OS-specific diagnostics, for MSWin32):

    EGID = 1001 24 25 27 29 30 44 46 102 1001
    EUID = 1001
    EXECUTABLE_NAME = /opt/plenv/versions/5.23.9/bin/perl5.23.9
    GID = 1001 24 25 27 29 30 44 46 102 1001
    UID = 1001

Perl module toolchain versions installed:

    Module              Have    
    ------------------- --------
    CPAN                2.11    
    CPAN::Meta          2.150005
    Cwd                 3.63    
    ExtUtils::CBuilder  0.280225
    ExtUtils::Command   7.10    
    ExtUtils::Install   2.04    
    ExtUtils::MakeMaker 7.10_01 
    ExtUtils::Manifest  1.70    
    ExtUtils::ParseXS   3.31    
    File::Spec          3.63    
    JSON                2.90    
    JSON::PP            2.27300 
    Module::Build       0.4216  
    Module::Signature   n/a     
    Parse::CPAN::Meta   1.4417  
    Test::Harness       3.36    
    Test::More          1.001014
    YAML                1.15    
    YAML::Syck          n/a     
    version             0.9916  


--

Summary of my perl5 (revision 5 version 23 subversion 9) configuration:
   
  Platform:
    osname=linux, osvers=3.16.0-4-amd64, archname=x86_64-linux
    uname='linux ferb 3.16.0-4-amd64 #1 smp debian 3.16.7-ckt20-1+deb8u3 (2016-01-17) x86_64 gnulinux '
    config_args='-Dprefix=/opt/plenv/versions/5.23.9 -de -Dusedevel -A'eval:scriptdir=/opt/plenv/versions/5.23.9/bin''
    hint=recommended, useposix=true, d_sigaction=define
    useithreads=undef, usemultiplicity=undef
    use64bitint=define, use64bitall=define, uselongdouble=undef
    usemymalloc=n, bincompat5005=undef
  Compiler:
    cc='cc', ccflags ='-fwrapv -fno-strict-aliasing -pipe -fstack-protector-strong -I/usr/local/include -D_LARGEFILE_SOURCE -D_FILE_OFFSET_BITS=64 -D_FORTIFY_SOURCE=2',
    optimize='-O2',
    cppflags='-fwrapv -fno-strict-aliasing -pipe -fstack-protector-strong -I/usr/local/include'
    ccversion='', gccversion='4.9.2', gccosandvers=''
    intsize=4, longsize=8, ptrsize=8, doublesize=8, byteorder=12345678, doublekind=3
    d_longlong=define, longlongsize=8, d_longdbl=define, longdblsize=16, longdblkind=3
    ivtype='long', ivsize=8, nvtype='double', nvsize=8, Off_t='off_t', lseeksize=8
    alignbytes=8, prototype=define
  Linker and Libraries:
    ld='cc', ldflags =' -fstack-protector-strong -L/usr/local/lib'
    libpth=/usr/local/lib /usr/lib/gcc/x86_64-linux-gnu/4.9/include-fixed /usr/include/x86_64-linux-gnu /usr/lib /lib/x86_64-linux-gnu /lib/../lib /usr/lib/x86_64-linux-gnu /usr/lib/../lib /lib
    libs=-lpthread -lnsl -lgdbm -ldl -lm -lcrypt -lutil -lc -lgdbm_compat
    perllibs=-lpthread -lnsl -ldl -lm -lcrypt -lutil -lc
    libc=libc-2.19.so, so=so, useshrplib=false, libperl=libperl.a
    gnulibc_version='2.19'
  Dynamic Linking:
    dlsrc=dl_dlopen.xs, dlext=so, d_dlsymun=undef, ccdlflags='-Wl,-E'
    cccdlflags='-fPIC', lddlflags='-shared -O2 -L/usr/local/lib -fstack-protector-strong'


Characteristics of this binary (from libperl): 
  Compile-time options: HAS_TIMES PERLIO_LAYERS PERL_COPY_ON_WRITE
                        PERL_DONT_CREATE_GVSV
                        PERL_HASH_FUNC_ONE_AT_A_TIME_HARD PERL_MALLOC_WRAP
                        PERL_PRESERVE_IVUV PERL_USE_DEVEL USE_64_BIT_ALL
                        USE_64_BIT_INT USE_LARGE_FILES USE_LOCALE
                        USE_LOCALE_COLLATE USE_LOCALE_CTYPE
                        USE_LOCALE_NUMERIC USE_LOCALE_TIME USE_PERLIO
                        USE_PERL_ATOF
  Locally applied patches:
	Devel::PatchPerl 1.40
  Built under linux
  Compiled at Mar 20 2016 10:54:36
  %ENV:
    PERL_CPANM_OPT="--skip-installed --prompt"
  @INC:
    /opt/plenv/versions/5.23.9/lib/perl5/site_perl/5.23.9/x86_64-linux
    /opt/plenv/versions/5.23.9/lib/perl5/site_perl/5.23.9
    /opt/plenv/versions/5.23.9/lib/perl5/5.23.9/x86_64-linux
    /opt/plenv/versions/5.23.9/lib/perl5/5.23.9
    .