Test-Class-Moose v0.91 Perl 5 v5.24.3 x86_64-linux

Status
Pass
From
Serguei Trouchelle (STRO)
Dist
Test-Class-Moose v0.91
Platform
Perl 5 v5.24.3 x86_64-linux
Date
2017-12-12 03:57:52
ID
a0969df4-def0-11e7-aa07-cd4edd6fbb59
This distribution has been tested as part of the CPAN Testers
project, supporting the Perl programming language.  See
http://wiki.cpantesters.org/ for more information or email
questions to cpan-testers-discuss@perl.org


--
Dear Dave Rolsky,

This is a computer-generated report for Test-Class-Moose-0.91
on perl 5.24.3, created by CPAN-Reporter-1.2018.

Thank you for uploading your work to CPAN.  Congratulations!
All tests were successful.

Sections of this report:

    * Tester comments
    * Program output
    * Prerequisites
    * Environment and other context

------------------------------
TESTER COMMENTS
------------------------------

Additional comments from tester:

this report is from an automated smoke testing program
and was not reviewed by a human for accuracy

------------------------------
PROGRAM OUTPUT
------------------------------

Output from '/usr/bin/make test':

PERL_DL_NONLAZY=1 "/home/stro/perl/5.24.3/bin/perl" "-MExtUtils::Command::MM" "-MTest::Harness" "-e" "undef *Test::Harness::Switches; test_harness(0, 'blib/lib', 'blib/arch')" t/*.t
# 
# Versions for all modules listed in MYMETA.json (including optional ones):
# 
# === Configure Requires ===
# 
#     Module              Want Have
#     ------------------- ---- ----
#     ExtUtils::MakeMaker  any 7.30
# 
# === Build Requires ===
# 
#     Module              Want Have
#     ------------------- ---- ----
#     ExtUtils::MakeMaker  any 7.30
# 
# === Test Requires ===
# 
#     Module                    Want     Have
#     --------------------- -------- --------
#     ExtUtils::MakeMaker        any     7.30
#     File::Spec                 any  3.63_01
#     File::Temp                 any   0.2304
#     Test2::Tools::Basic        any 0.000097
#     Test2::Tools::Class        any 0.000097
#     Test2::Tools::Compare      any 0.000097
#     Test2::Tools::Subtest      any 0.000097
#     Test2::V0                  any 0.000097
#     Test::More            1.302015 1.302120
#     Test::Requires             any     0.10
#     Test::Warnings             any    0.026
#     lib                        any     0.63
# 
# === Test Recommends ===
# 
#     Module           Want     Have
#     ------------ -------- --------
#     CPAN::Meta   2.120900 2.150005
#     Test::Output   0.0005    1.031
# 
# === Runtime Requires ===
# 
#     Module                            Want     Have
#     ---------------------------- --------- --------
#     Benchmark                          any     1.22
#     Carp                               any     1.40
#     Class::MOP                         any   2.2006
#     Exporter                           any     5.72
#     File::Find                         any     1.34
#     File::Spec                         any  3.63_01
#     Import::Into                       any 1.002005
#     JSON                               any     2.94
#     List::SomeUtils                    any     0.56
#     List::Util                         any     1.49
#     Module::Runtime                    any    0.015
#     Module::Util                       any     1.09
#     Moose                           2.0000   2.2006
#     Moose::Role                     2.0000   2.2006
#     Moose::Util::TypeConstraints       any   2.2006
#     MooseX::Getopt                    0.71     0.71
#     MooseX::Getopt::Dashes             any     0.71
#     Package::DeprecationManager       0.16     0.17
#     Parallel::ForkManager              any     1.19
#     Scalar::Util                       any     1.49
#     Sub::Attribute                     any     0.06
#     TAP::Formatter::Color             3.29  3.36_01
#     Test2                        1.1302118 1.302120
#     Test2::API                         any 1.302120
#     Test2::AsyncSubtest           0.000018 0.000097
#     Test2::IPC                         any 1.302120
#     Test2::Tools::AsyncSubtest         any 0.000097
#     Test::Most                         any     0.35
#     Try::Tiny                          any     0.28
#     namespace::autoclean               any     0.28
#     strict                             any     1.11
#     warnings                           any     1.36
# 
# === Runtime Recommends ===
# 
#     Module                  Want Have
#     --------------------- ------ ----
#     Parallel::ForkManager v0.7.6 1.19
# 
t/00-report-prereqs.t .......... ok
t/autouse.t .................... ok
t/bare.t ....................... ok
t/basic.t ...................... ok
t/cli.t ........................ ok
t/environment.t ................ ok
t/include_classes.t ............ ok
t/include_exclude.t ............ ok
t/load.t ....................... ok
t/no_tests_run.t ............... ok
t/non_randomize_classes.t ...... ok
.......................t/parallel.t ................... ok
t/parameterized.t .............. ok
t/plans.t ...................... ok
t/process_name.t ............... ok
t/reportpassed.t ............... ok
t/skip.t ....................... ok
t/tags.t ....................... ok
t/test_class_is_not_loaded.t ... ok
t/test_control_methods.t ....... ok
t/test_control_methods_skip.t .. ok
t/timing.t ..................... ok
All tests successful.
Files=22, Tests=204, 20 wallclock secs ( 0.20 usr  0.00 sys +  8.46 cusr  0.46 csys =  9.12 CPU)
Result: PASS

------------------------------
PREREQUISITES
------------------------------

Prerequisite modules loaded:

requires:

    Module                       Need      Have    
    ---------------------------- --------- --------
    Benchmark                    0         1.22    
    Carp                         0         1.40    
    Class::MOP                   0         2.2006  
    Exporter                     0         5.72    
    File::Find                   0         1.34    
    File::Spec                   0         3.63_01 
    Import::Into                 0         1.002005
    JSON                         0         2.94    
    List::SomeUtils              0         0.56    
    List::Util                   0         1.49    
    Module::Runtime              0         0.015   
    Module::Util                 0         1.09    
    Moose                        2.0000    2.2006  
    Moose::Role                  2.0000    2.2006  
    Moose::Util::TypeConstraints 0         2.2006  
    MooseX::Getopt               0.71      0.71    
    MooseX::Getopt::Dashes       0         0.71    
    namespace::autoclean         0         0.28    
    Package::DeprecationManager  0.16      0.17    
    Parallel::ForkManager        0         1.19    
    perl                         5.010000  5.024003
    Scalar::Util                 0         1.49    
    strict                       0         1.11    
    Sub::Attribute               0         0.06    
    TAP::Formatter::Color        3.29      3.36_01 
    Test2                        1.1302118 1.302120
    Test2::API                   0         1.302120
    Test2::AsyncSubtest          0.000018  0.000097
    Test2::IPC                   0         1.302120
    Test2::Tools::AsyncSubtest   0         0.000097
    Test::Most                   0         0.35    
    Try::Tiny                    0         0.28    
    warnings                     0         1.36    

build_requires:

    Module                       Need      Have    
    ---------------------------- --------- --------
    ExtUtils::MakeMaker          0         7.30    
    File::Spec                   0         3.63_01 
    File::Temp                   0         0.2304  
    lib                          0         0.63    
    Test2::Tools::Basic          0         0.000097
    Test2::Tools::Class          0         0.000097
    Test2::Tools::Compare        0         0.000097
    Test2::Tools::Subtest        0         0.000097
    Test2::V0                    0         0.000097
    Test::More                   1.302015  1.302120
    Test::Requires               0         0.10    
    Test::Warnings               0         0.026   

configure_requires:

    Module                       Need      Have    
    ---------------------------- --------- --------
    ExtUtils::MakeMaker          0         7.30    

opt_requires:

    Module                       Need      Have    
    ---------------------------- --------- --------
    Parallel::ForkManager        v0.7.6    1.19    

opt_build_requires:

    Module                       Need      Have    
    ---------------------------- --------- --------
    CPAN::Meta                   2.120900  2.150005
    Test::Output                 0.0005    1.031   


------------------------------
ENVIRONMENT AND OTHER CONTEXT
------------------------------

Environment variables:

    AUTOMATED_TESTING = 1
    LANG = en_US.UTF-8
    PATH = /usr/local/bin:/usr/bin:/bin:/usr/local/games:/usr/games
    PERL5LIB = 
    PERL5OPT = 
    PERL5_CPANPLUS_IS_RUNNING = 30742
    PERL5_CPAN_IS_RUNNING = 30742
    PERL5_CPAN_IS_RUNNING_IN_RECURSION = 20061,30742
    PERL_CR_SMOKER_CURRENT = Test-Class-Moose-0.91
    PERL_EXTUTILS_AUTOINSTALL = --defaultdeps
    PERL_MM_USE_DEFAULT = 1
    SHELL = /bin/bash
    TERM = xterm-256color

Perl special variables (and OS-specific diagnostics, for MSWin32):

    $^X = /home/stro/perl/5.24.3/bin/perl
    $UID/$EUID = 1000 / 1000
    $GID = 1000 24 25 29 30 44 46 108 114 1000
    $EGID = 1000 24 25 29 30 44 46 108 114 1000

Perl module toolchain versions installed:

    Module              Have      
    ------------------- ----------
    CPAN                2.16      
    CPAN::Meta          2.150005  
    Cwd                 3.63_01   
    ExtUtils::CBuilder  0.280226  
    ExtUtils::Command   7.30      
    ExtUtils::Install   2.06      
    ExtUtils::MakeMaker 7.30      
    ExtUtils::Manifest  1.70      
    ExtUtils::ParseXS   3.31      
    File::Spec          3.63_01   
    JSON                2.94      
    JSON::PP            2.94      
    Module::Build       0.4224    
    Module::Signature   0.81      
    Parse::CPAN::Meta   1.4417_001
    Test::Harness       3.36_01   
    Test::More          1.302120  
    YAML                1.24      
    YAML::Syck          1.30      
    version             0.9916    


--

Summary of my perl5 (revision 5 version 24 subversion 3) configuration:
   
  Platform:
    osname=linux, osvers=3.16.0-4-amd64, archname=x86_64-linux
    uname='linux vm-debian-001 3.16.0-4-amd64 #1 smp debian 3.16.7-ckt11-1 (2015-05-24) x86_64 gnulinux '
    config_args=''
    hint=recommended, useposix=true, d_sigaction=define
    useithreads=undef, usemultiplicity=undef
    use64bitint=define, use64bitall=define, uselongdouble=undef
    usemymalloc=n, bincompat5005=undef
  Compiler:
    cc='cc', ccflags ='-fwrapv -fno-strict-aliasing -pipe -fstack-protector-strong -I/usr/local/include -D_LARGEFILE_SOURCE -D_FILE_OFFSET_BITS=64 -D_FORTIFY_SOURCE=2',
    optimize='-O2',
    cppflags='-fwrapv -fno-strict-aliasing -pipe -fstack-protector-strong -I/usr/local/include'
    ccversion='', gccversion='4.9.2', gccosandvers=''
    intsize=4, longsize=8, ptrsize=8, doublesize=8, byteorder=12345678, doublekind=3
    d_longlong=define, longlongsize=8, d_longdbl=define, longdblsize=16, longdblkind=3
    ivtype='long', ivsize=8, nvtype='double', nvsize=8, Off_t='off_t', lseeksize=8
    alignbytes=8, prototype=define
  Linker and Libraries:
    ld='cc', ldflags =' -fstack-protector-strong -L/usr/local/lib'
    libpth=/usr/local/lib /usr/lib/gcc/x86_64-linux-gnu/4.9/include-fixed /usr/include/x86_64-linux-gnu /usr/lib /lib/x86_64-linux-gnu /lib/../lib /usr/lib/x86_64-linux-gnu /usr/lib/../lib /lib
    libs=-lpthread -lnsl -ldl -lm -lcrypt -lutil -lc
    perllibs=-lpthread -lnsl -ldl -lm -lcrypt -lutil -lc
    libc=libc-2.19.so, so=so, useshrplib=false, libperl=libperl.a
    gnulibc_version='2.19'
  Dynamic Linking:
    dlsrc=dl_dlopen.xs, dlext=so, d_dlsymun=undef, ccdlflags='-Wl,-E'
    cccdlflags='-fPIC', lddlflags='-shared -O2 -L/usr/local/lib -fstack-protector-strong'


Characteristics of this binary (from libperl): 
  Compile-time options: HAS_TIMES PERLIO_LAYERS PERL_COPY_ON_WRITE
                        PERL_DONT_CREATE_GVSV
                        PERL_HASH_FUNC_ONE_AT_A_TIME_HARD PERL_MALLOC_WRAP
                        PERL_PRESERVE_IVUV USE_64_BIT_ALL USE_64_BIT_INT
                        USE_LARGE_FILES USE_LOCALE USE_LOCALE_COLLATE
                        USE_LOCALE_CTYPE USE_LOCALE_NUMERIC USE_LOCALE_TIME
                        USE_PERLIO USE_PERL_ATOF
  Built under linux
  Compiled at Sep 22 2017 19:11:07
  %ENV:
    PERL5LIB=""
    PERL5OPT=""
    PERL5_CPANPLUS_IS_RUNNING="30742"
    PERL5_CPAN_IS_RUNNING="30742"
    PERL5_CPAN_IS_RUNNING_IN_RECURSION="20061,30742"
    PERL_CR_SMOKER_CURRENT="Test-Class-Moose-0.91"
    PERL_EXTUTILS_AUTOINSTALL="--defaultdeps"
    PERL_MM_USE_DEFAULT="1"
  @INC:
    /home/stro/perl/5.24.3/lib/site_perl/5.24.3/x86_64-linux
    /home/stro/perl/5.24.3/lib/site_perl/5.24.3
    /home/stro/perl/5.24.3/lib/5.24.3/x86_64-linux
    /home/stro/perl/5.24.3/lib/5.24.3
    .