Back
From: metabase:user:c086eaf4-c8a4-11e2-b158-c35ef8e388f9
Subject: PASS Dist-Zilla-Plugin-CheckExtraTests-0.021 v5.19.10 Mac OS X
Date: 2014-03-31T19:28:24Z
This distribution has been tested as part of the CPAN Testers
project, supporting the Perl programming language. See
http://wiki.cpantesters.org/ for more information or email
questions to cpan-testers-discuss@perl.org
--
Dear DAGOLDEN,
This is a computer-generated report for Dist-Zilla-Plugin-CheckExtraTests-0.021
on perl 5.19.10, created by App::cpanminus::reporter 0.10 (1.7001).
Thank you for uploading your work to CPAN. Congratulations!
All tests were successful.
Sections of this report:
* Tester comments
* Program output
* Prerequisites
* Environment and other context
------------------------------
TESTER COMMENTS
------------------------------
Additional comments from tester:
none provided
------------------------------
PROGRAM OUTPUT
------------------------------
Output from '':
Building and testing Dist-Zilla-Plugin-CheckExtraTests-0.021
cp lib/Dist/Zilla/Plugin/RunExtraTests.pm blib/lib/Dist/Zilla/Plugin/RunExtraTests.pm
cp lib/Dist/Zilla/Plugin/CheckExtraTests.pm blib/lib/Dist/Zilla/Plugin/CheckExtraTests.pm
cp lib/Dist/Zilla/App/Command/xtest.pm blib/lib/Dist/Zilla/App/Command/xtest.pm
Manifying blib/man3/Dist::Zilla::App::Command::xtest.0
Manifying blib/man3/Dist::Zilla::Plugin::CheckExtraTests.0
Manifying blib/man3/Dist::Zilla::Plugin::RunExtraTests.0
PERL_DL_NONLAZY=1 /Users/ether/perl5/perlbrew/perls/19.10/bin/perl5.19.10 "-MExtUtils::Command::MM" "-MTest::Harness" "-e" "undef *Test::Harness::Switches; test_harness(0, 'blib/lib', 'blib/arch')" t/*.t
#
# Versions for all modules listed in MYMETA.json (including optional ones):
# Version Module
# -------- --------------------------------
# 3.30 App::Prove
# 1.96 Archive::Tar
# 2.140640 CPAN::Meta
# 2.125 CPAN::Meta::Requirements
# 0.24 Capture::Tiny
# 5.015 Dist::Zilla
# 5.015 Dist::Zilla::App
# 5.015 Dist::Zilla::App::Tester
# 5.015 Dist::Zilla::Role::BeforeRelease
# 5.015 Dist::Zilla::Role::TestRunner
# 5.015 Dist::Zilla::Tester
# 6.94 ExtUtils::MakeMaker
# 3.47 File::Spec::Functions
# 1.006 File::pushd
# 1.38 List::Util
# 2.1204 Moose
# 0.15 Moose::Autobox
# 1.07 Params::Util
# 1.008 Path::Iterator::Rule
# 0.052 Path::Tiny
# 0.987 Sub::Exporter
# 1.001003 Test::More
# 0.07 Test::Requires
# 0.20 Try::Tiny
# 0.63 lib
# 0.15 namespace::autoclean
# 1.08 strict
# 0.9908 version
# 1.23 warnings
t/00-report-prereqs.t .. ok
t/withblib.t ........... ok
t/checkxt.t ............ ok
t/runxt.t .............. ok
All tests successful.
Files=4, Tests=16, 10 wallclock secs ( 0.04 usr 0.01 sys + 14.00 cusr 3.01 csys = 17.06 CPU)
Result: PASS
------------------------------
PREREQUISITES
------------------------------
Prerequisite modules loaded:
No requirements found
------------------------------
ENVIRONMENT AND OTHER CONTEXT
------------------------------
Environment variables:
LANG = en_CA.UTF-8
PATH = /Users/ether/.perlbrew/libs/19.10@std/bin:/Users/ether/perl5/perlbrew/bin:/Users/ether/perl5/perlbrew/perls/19.10/bin:/Users/ether/bin:/Users/ether/git/misc/install/tequila/bin:/Users/ether/git/misc/install/generic/bin:/opt/local/bin:/opt/local/sbin:/usr/bin:/bin:/usr/sbin:/sbin:/usr/local/bin:/usr/X11/bin:/opt/local/share/git-core/contrib/workdir
PERL5LIB = /Users/ether/.perlbrew/libs/19.10@std/lib/perl5
PERLBREW_BASHRC_VERSION = 0.67
PERLBREW_HOME = /Users/ether/.perlbrew
PERLBREW_LIB = std
PERLBREW_MANPATH = /Users/ether/.perlbrew/libs/19.10@std/man:/Users/ether/perl5/perlbrew/perls/19.10/man
PERLBREW_PATH = /Users/ether/.perlbrew/libs/19.10@std/bin:/Users/ether/perl5/perlbrew/bin:/Users/ether/perl5/perlbrew/perls/19.10/bin
PERLBREW_PERL = 19.10
PERLBREW_ROOT = /Users/ether/perl5/perlbrew
PERLBREW_VERSION = 0.67
PERLDOC_PAGER = less -sicMr
PERL_AUTOINSTALL_PREFER_CPAN = 1
PERL_LOCAL_LIB_ROOT = /Users/ether/.perlbrew/libs/19.10@std
PERL_MB_OPT = --install_base /Users/ether/.perlbrew/libs/19.10@std
PERL_MM_OPT = INSTALL_BASE=/Users/ether/.perlbrew/libs/19.10@std
SHELL = /bin/bash
TERM = xterm-color
TMPDIR = /var/folders/+h/+hzG2W8MHem4qQiRP616jE+++TQ/-Tmp-/
Perl special variables (and OS-specific diagnostics, for MSWin32):
EGID = 20 20 402 204 100 98 81 80 79 61 12 404 401 403
EUID = 503
EXECUTABLE_NAME = /Users/ether/perl5/perlbrew/perls/19.10/bin/perl5.19.10
GID = 20 20 402 204 100 98 81 80 79 61 12 404 401 403
UID = 503
Perl module toolchain versions installed:
Module Have
------------------- --------
CPAN 2.04
CPAN::Meta 2.140640
Cwd 3.47
ExtUtils::CBuilder 0.280216
ExtUtils::Command 1.18
ExtUtils::Install 1.63
ExtUtils::MakeMaker 6.94
ExtUtils::Manifest 1.63
ExtUtils::ParseXS 3.24
File::Spec 3.47
JSON 2.90
JSON::PP 2.27203
Module::Build 0.4205
Module::Signature n/a
Parse::CPAN::Meta 1.4414
Test::Harness 3.30
Test::More 1.001003
YAML 0.90
YAML::Syck 1.27
version 0.9908
--
Summary of my perl5 (revision 5 version 19 subversion 10) configuration:
Platform:
osname=darwin, osvers=10.8.0, archname=darwin-2level
uname='darwin tequila 10.8.0 darwin kernel version 10.8.0: tue jun 7 16:33:36 pdt 2011; root:xnu-1504.15.3~1release_i386 i386 '
config_args='-de -Dprefix=/Users/ether/perl5/perlbrew/perls/19.10 -Dman1dir=none -Dman3dir=none -Dusedevel -Aeval:scriptdir=/Users/ether/perl5/perlbrew/perls/19.10/bin'
hint=recommended, useposix=true, d_sigaction=define
useithreads=undef, usemultiplicity=undef
use64bitint=define, use64bitall=define, uselongdouble=undef
usemymalloc=n, bincompat5005=undef
Compiler:
cc='cc', ccflags ='-fno-common -DPERL_DARWIN -fno-strict-aliasing -pipe -fstack-protector -I/usr/local/include -I/opt/local/include',
optimize='-O3',
cppflags='-fno-common -DPERL_DARWIN -fno-strict-aliasing -pipe -fstack-protector -I/usr/local/include -I/opt/local/include'
ccversion='', gccversion='4.2.1 (Apple Inc. build 5666) (dot 3)', gccosandvers=''
intsize=4, longsize=8, ptrsize=8, doublesize=8, byteorder=12345678
d_longlong=define, longlongsize=8, d_longdbl=define, longdblsize=16
ivtype='long', ivsize=8, nvtype='double', nvsize=8, Off_t='off_t', lseeksize=8
alignbytes=8, prototype=define
Linker and Libraries:
ld='env MACOSX_DEPLOYMENT_TARGET=10.3 cc', ldflags =' -fstack-protector -L/usr/local/lib -L/opt/local/lib'
libpth=/usr/local/lib /usr/lib /opt/local/lib
libs=-lgdbm -ldbm -ldl -lm -lutil -lc
perllibs=-ldl -lm -lutil -lc
libc=, so=dylib, useshrplib=false, libperl=libperl.a
gnulibc_version=''
Dynamic Linking:
dlsrc=dl_dlopen.xs, dlext=bundle, d_dlsymun=undef, ccdlflags=' '
cccdlflags=' ', lddlflags=' -bundle -undefined dynamic_lookup -L/usr/local/lib -L/opt/local/lib -fstack-protector'
Characteristics of this binary (from libperl):
Compile-time options: HAS_TIMES PERLIO_LAYERS PERL_DONT_CREATE_GVSV
PERL_HASH_FUNC_ONE_AT_A_TIME_HARD PERL_MALLOC_WRAP
PERL_NEW_COPY_ON_WRITE PERL_PRESERVE_IVUV
PERL_USE_DEVEL USE_64_BIT_ALL USE_64_BIT_INT
USE_LARGE_FILES USE_LOCALE USE_LOCALE_COLLATE
USE_LOCALE_CTYPE USE_LOCALE_NUMERIC USE_PERLIO
USE_PERL_ATOF
Built under darwin
Compiled at Mar 25 2014 20:40:29
%ENV:
PERL5LIB="/Users/ether/.perlbrew/libs/19.10@std/lib/perl5"
PERLBREW_BASHRC_VERSION="0.67"
PERLBREW_HOME="/Users/ether/.perlbrew"
PERLBREW_LIB="std"
PERLBREW_MANPATH="/Users/ether/.perlbrew/libs/19.10@std/man:/Users/ether/perl5/perlbrew/perls/19.10/man"
PERLBREW_PATH="/Users/ether/.perlbrew/libs/19.10@std/bin:/Users/ether/perl5/perlbrew/bin:/Users/ether/perl5/perlbrew/perls/19.10/bin"
PERLBREW_PERL="19.10"
PERLBREW_ROOT="/Users/ether/perl5/perlbrew"
PERLBREW_VERSION="0.67"
PERLDOC_PAGER="less -sicMr"
PERL_AUTOINSTALL_PREFER_CPAN="1"
PERL_LOCAL_LIB_ROOT="/Users/ether/.perlbrew/libs/19.10@std"
PERL_MB_OPT="--install_base /Users/ether/.perlbrew/libs/19.10@std"
PERL_MM_OPT="INSTALL_BASE=/Users/ether/.perlbrew/libs/19.10@std"
@INC:
/Users/ether/.perlbrew/libs/19.10@std/lib/perl5/darwin-2level
/Users/ether/.perlbrew/libs/19.10@std/lib/perl5
/Users/ether/perl5/perlbrew/perls/19.10/lib/site_perl/5.19.10/darwin-2level
/Users/ether/perl5/perlbrew/perls/19.10/lib/site_perl/5.19.10
/Users/ether/perl5/perlbrew/perls/19.10/lib/5.19.10/darwin-2level
/Users/ether/perl5/perlbrew/perls/19.10/lib/5.19.10
.