Test-Class-Moose v0.98 Perl 5 v5.31.5 amd64-netbsd-thread-multi
- Status
- Pass
- From
- Nigel Horne
- Dist
-
Test-Class-Moose v0.98
- Platform
- Perl 5 v5.31.5 amd64-netbsd-thread-multi
- Date
- 2019-11-02 08:41:54
- ID
- 9f56e332-fd4c-11e9-a9f4-f68962b887d7
This distribution has been tested as part of the CPAN Testers
project, supporting the Perl programming language. See
http://wiki.cpantesters.org/ for more information or email
questions to cpan-testers-discuss@perl.org
--
Dear Dave Rolsky,
This is a computer-generated report for Test-Class-Moose-0.98
on perl 5.31.5, created by CPAN-Reporter-1.2018.
Thank you for uploading your work to CPAN. Congratulations!
All tests were successful.
Sections of this report:
* Tester comments
* Program output
* Prerequisites
* Environment and other context
------------------------------
TESTER COMMENTS
------------------------------
Additional comments from tester:
none provided
------------------------------
PROGRAM OUTPUT
------------------------------
Output from '/usr/bin/make test':
PERL_DL_NONLAZY=1 "/home/njh/perl5/perlbrew/perls/perl-5.31.5-thread/bin/perl5.31.5" "-MExtUtils::Command::MM" "-MTest::Harness" "-e" "undef *Test::Harness::Switches; test_harness(0, 'blib/lib', 'blib/arch')" t/*.t
#
# Versions for all modules listed in MYMETA.json (including optional ones):
#
# === Configure Requires ===
#
# Module Want Have
# ------------------- ---- ----
# ExtUtils::MakeMaker any 7.38
#
# === Build Requires ===
#
# Module Want Have
# ------------------- ---- ----
# ExtUtils::MakeMaker any 7.38
#
# === Test Requires ===
#
# Module Want Have
# --------------------- -------- --------
# ExtUtils::MakeMaker any 7.38
# File::Spec any 3.78
# File::Temp any 0.2309
# Test2::Tools::Basic any 0.000127
# Test2::Tools::Class any 0.000127
# Test2::Tools::Compare any 0.000127
# Test2::Tools::Subtest any 0.000127
# Test2::V0 any 0.000127
# Test::Builder any 1.302168
# Test::More 1.302015 1.302168
# Test::Requires any 0.10
# Test::Warnings any 0.027
# lib any 0.65
#
# === Test Recommends ===
#
# Module Want Have
# ------------ -------- --------
# CPAN::Meta 2.120900 2.150010
# Test::Output 0.0005 1.031
#
# === Runtime Requires ===
#
# Module Want Have
# ---------------------------- -------- --------
# Benchmark any 1.22
# Carp any 1.50
# Class::MOP any 2.2011
# Exporter any 5.74
# File::Find any 1.37
# File::Spec any 3.78
# Import::Into any 1.002005
# JSON::MaybeXS any 1.004000
# List::SomeUtils any 0.56
# List::Util any 1.52
# Module::Runtime any 0.016
# Module::Util any 1.09
# Moose 2.0000 2.2011
# Moose::Role 2.0000 2.2011
# Moose::Util any 2.2011
# Moose::Util::TypeConstraints any 2.2011
# MooseX::Getopt 0.71 0.74
# MooseX::Getopt::Dashes any 0.74
# Package::DeprecationManager 0.16 0.17
# Parallel::ForkManager any 2.02
# Scalar::Util any 1.52
# Sub::Attribute any 0.07
# TAP::Formatter::Color 3.29 3.42
# Test2 1.302118 1.302168
# Test2::API any 1.302168
# Test2::AsyncSubtest 0.000018 0.000127
# Test2::IPC any 1.302168
# Test2::Tools::AsyncSubtest any 0.000127
# Test::Most any 0.35
# Try::Tiny any 0.30
# namespace::autoclean any 0.29
# strict any 1.11
# warnings any 1.45
#
# === Runtime Recommends ===
#
# Module Want Have
# --------------------- ------ ----
# Parallel::ForkManager v0.7.6 2.02
#
t/00-report-prereqs.t .......... ok
t/autouse.t .................... ok
t/bad_subclass.t ............... ok
t/bare.t ....................... ok
t/basic.t ...................... ok
Can't stat t/lib/Local: No such file or directory
at /home/njh/.cpan/build/Test-Class-Moose-0.98-4/blib/lib/Test/Class/Moose/Load.pm line 73.
t/cli.t ........................ ok
t/environment.t ................ ok
t/executor_roles.t ............. ok
t/include_classes.t ............ ok
t/include_exclude.t ............ ok
t/load-special-characters.t .... ok
t/load.t ....................... ok
t/no_tests_run.t ............... ok
t/non_randomize_classes.t ...... ok
[32m.[0m[32m.[0m[32m.[0m[32m.[0m[32m.[0m[32m.[0m[32m.[0m[32m.[0m[32m.[0m[32m.[0m[32m.[0m[32m.[0m[32m.[0m[32m.[0m[32m.[0m[32m.[0m[32m.[0m[32m.[0m[32m.[0m[32m.[0m[32m.[0m[31mX[0m[32m.[0m[31mX[0m[32m.[0m[32m.[0mt/parallel.t ................... ok
t/parameterized.t .............. ok
t/plans.t ...................... ok
t/process_name.t ............... ok
t/reportpassed.t ............... ok
t/skip.t ....................... ok
t/tags.t ....................... ok
t/test_class_is_not_loaded.t ... ok
t/test_control_methods.t ....... ok
t/test_control_methods_skip.t .. ok
t/timing.t ..................... ok
t/todo.t ....................... ok
All tests successful.
Files=26, Tests=215, 30 wallclock secs ( 0.32 usr 0.15 sys + 16.60 cusr 3.16 csys = 20.23 CPU)
Result: PASS
------------------------------
PREREQUISITES
------------------------------
Prerequisite modules loaded:
requires:
Module Need Have
---------------------------- -------- --------
Benchmark 0 1.22
Carp 0 1.50
Class::MOP 0 2.2011
Exporter 0 5.74
File::Find 0 1.37
File::Spec 0 3.78
Import::Into 0 1.002005
JSON::MaybeXS 0 1.004000
List::SomeUtils 0 0.56
List::Util 0 1.52
Module::Runtime 0 0.016
Module::Util 0 1.09
Moose 2.0000 2.2011
Moose::Role 2.0000 2.2011
Moose::Util 0 2.2011
Moose::Util::TypeConstraints 0 2.2011
MooseX::Getopt 0.71 0.74
MooseX::Getopt::Dashes 0 0.74
namespace::autoclean 0 0.29
Package::DeprecationManager 0.16 0.17
Parallel::ForkManager 0 2.02
perl 5.010000 5.031005
Scalar::Util 0 1.52
strict 0 1.11
Sub::Attribute 0 0.07
TAP::Formatter::Color 3.29 3.42
Test2 1.302118 1.302168
Test2::API 0 1.302168
Test2::AsyncSubtest 0.000018 0.000127
Test2::IPC 0 1.302168
Test2::Tools::AsyncSubtest 0 0.000127
Test::Most 0 0.35
Try::Tiny 0 0.30
warnings 0 1.45
build_requires:
Module Need Have
---------------------------- -------- --------
ExtUtils::MakeMaker 0 7.38
File::Spec 0 3.78
File::Temp 0 0.2309
lib 0 0.65
Test2::Tools::Basic 0 0.000127
Test2::Tools::Class 0 0.000127
Test2::Tools::Compare 0 0.000127
Test2::Tools::Subtest 0 0.000127
Test2::V0 0 0.000127
Test::Builder 0 1.302168
Test::More 1.302015 1.302168
Test::Requires 0 0.10
Test::Warnings 0 0.027
configure_requires:
Module Need Have
---------------------------- -------- --------
ExtUtils::MakeMaker 0 7.38
------------------------------
ENVIRONMENT AND OTHER CONTEXT
------------------------------
Environment variables:
NONINTERACTIVE_TESTING = 1
PATH = /home/njh/perl5/perlbrew/bin:/home/njh/perl5/perlbrew/perls/perl-5.31.5-thread/bin:/usr/bin:/bin:/usr/pkg/bin:/usr/local/bin
PERL5LIB =
PERL5OPT =
PERL5_CPANPLUS_IS_RUNNING = 9353
PERL5_CPAN_IS_RUNNING = 9353
PERLBREW_HOME = /home/njh/.perlbrew
PERLBREW_MANPATH = /home/njh/perl5/perlbrew/perls/perl-5.31.5-thread/man
PERLBREW_PATH = /home/njh/perl5/perlbrew/bin:/home/njh/perl5/perlbrew/perls/perl-5.31.5-thread/bin
PERLBREW_PERL = perl-5.31.5-thread
PERLBREW_ROOT = /home/njh/perl5/perlbrew
PERLBREW_SHELLRC_VERSION = 0.82
PERLBREW_VERSION = 0.82
PERL_MM_USE_DEFAULT = 1
PERL_USE_UNSAFE_INC = 1
SHELL = /bin/sh
TMPDIR = /tmp
Perl special variables (and OS-specific diagnostics, for MSWin32):
$^X = /home/njh/perl5/perlbrew/perls/perl-5.31.5-thread/bin/perl5.31.5
$UID/$EUID = 1000 / 1000
$GID = 100 100 0
$EGID = 100 100 0
Perl module toolchain versions installed:
Module Have
------------------- --------
CPAN 2.27
CPAN::Meta 2.150010
Cwd 3.78
ExtUtils::CBuilder 0.280233
ExtUtils::Command 7.38
ExtUtils::Install 2.14
ExtUtils::MakeMaker 7.38
ExtUtils::Manifest 1.72
ExtUtils::ParseXS 3.40
File::Spec 3.78
JSON 4.02
JSON::PP 4.04
Module::Build 0.4229
Module::Signature n/a
Parse::CPAN::Meta 2.150010
Test::Harness 3.42
Test::More 1.302168
YAML 1.29
YAML::Syck 1.31
version 0.9924
--
Summary of my perl5 (revision 5 version 31 subversion 5) configuration:
Platform:
osname=netbsd
osvers=7.1.2
archname=amd64-netbsd-thread-multi
uname='netbsd vultr2.bandsman.co.uk 7.1.2 netbsd 7.1.2 (generic.201803151611z) amd64 '
config_args='-de -Dprefix=/home/njh/perl5/perlbrew/perls/perl-5.31.5-thread -Dusedevel -Dusethreads -Dusedevel -Accflags=-O2 -W -Wformat=2 -Wswitch -Wshadow -Wwrite-strings -Wuninitialized -Wall -pipe -fomit-frame-pointer -pedantic -D_FORTIFY_SOURCE=2 -Wpointer-arith -Wstrict-prototypes -fstack-protector -Wstack-protector -Wextra -Wbad-function-cast -Wcast-align -Wcast-qual -Wdisabled-optimization -Wendif-labels -Wfloat-equal -Wformat-nonliteral -Winline -Wmissing-declarations -Wmissing-prototypes -Wnested-externs -Wpointer-arith -Wundef -Wformat-security -ftree-vectorize -mmmx -msse -mfpmath=sse -msse2 -msse3 -msse4.1 -msse4.2 -mtune=native -Aeval:scriptdir=/home/njh/perl5/perlbrew/perls/perl-5.31.5-thread/bin'
hint=recommended
useposix=true
d_sigaction=define
useithreads=define
usemultiplicity=define
use64bitint=define
use64bitall=define
uselongdouble=undef
usemymalloc=n
default_inc_excludes_dot=define
bincompat5005=undef
Compiler:
cc='cc'
ccflags ='-O2 -W -Wformat=2 -Wswitch -Wshadow -Wwrite-strings -Wuninitialized -Wall -pipe -fomit-frame-pointer -pedantic -D_FORTIFY_SOURCE=2 -Wpointer-arith -Wstrict-prototypes -fstack-protector -Wstack-protector -Wextra -Wbad-function-cast -Wcast-align -Wcast-qual -Wdisabled-optimization -Wendif-labels -Wfloat-equal -Wformat-nonliteral -Winline -Wmissing-declarations -Wmissing-prototypes -Wnested-externs -Wpointer-arith -Wundef -Wformat-security -ftree-vectorize -mmmx -msse -mfpmath=sse -msse2 -msse3 -msse4.1 -msse4.2 -mtune=native -fwrapv -fno-strict-aliasing -I/usr/pkg/include'
optimize='-O'
cppflags='-O2 -W -Wformat=2 -Wswitch -Wshadow -Wwrite-strings -Wuninitialized -Wall -pipe -fomit-frame-pointer -pedantic -D_FORTIFY_SOURCE=2 -Wpointer-arith -Wstrict-prototypes -fstack-protector -Wstack-protector -Wextra -Wbad-function-cast -Wcast-align -Wcast-qual -Wdisabled-optimization -Wendif-labels -Wfloat-equal -Wformat-nonliteral -Winline -Wmissing-declarations -Wmissing-prototypes -Wnested-externs -Wpointer-arith -Wundef -Wformat-security -ftree-vectorize -mmmx -msse -mfpmath=sse -msse2 -msse3 -msse4.1 -msse4.2 -mtune=native -fwrapv -fno-strict-aliasing -I/usr/pkg/include'
ccversion=''
gccversion='4.8.5'
gccosandvers=''
intsize=4
longsize=8
ptrsize=8
doublesize=8
byteorder=12345678
doublekind=3
d_longlong=define
longlongsize=8
d_longdbl=define
longdblsize=16
longdblkind=3
ivtype='long'
ivsize=8
nvtype='double'
nvsize=8
Off_t='off_t'
lseeksize=8
alignbytes=8
prototype=define
Linker and Libraries:
ld='cc'
ldflags =' -Wl,-rpath,/usr/pkg/lib -Wl,-rpath,/usr/local/lib -fstack-protector -L/usr/pkg/lib'
libpth=/usr/include/gcc-4.8 /usr/lib /usr/pkg/lib /lib
libs=-lpthread -lm -lcrypt -lutil -lc -lposix
perllibs=-lpthread -lm -lcrypt -lutil -lc -lposix
libc=/lib/libc.so
so=so
useshrplib=false
libperl=libperl.a
gnulibc_version=''
Dynamic Linking:
dlsrc=dl_dlopen.xs
dlext=so
d_dlsymun=undef
ccdlflags='-Wl,-E '
cccdlflags='-DPIC -fPIC '
lddlflags='-shared -L/usr/pkg/lib -fstack-protector'
Characteristics of this binary (from libperl):
Compile-time options:
HAS_TIMES
MULTIPLICITY
PERLIO_LAYERS
PERL_COPY_ON_WRITE
PERL_DONT_CREATE_GVSV
PERL_IMPLICIT_CONTEXT
PERL_MALLOC_WRAP
PERL_OP_PARENT
PERL_PRESERVE_IVUV
PERL_USE_DEVEL
USE_64_BIT_ALL
USE_64_BIT_INT
USE_ITHREADS
USE_LARGE_FILES
USE_LOCALE
USE_LOCALE_COLLATE
USE_LOCALE_CTYPE
USE_LOCALE_NUMERIC
USE_LOCALE_TIME
USE_PERLIO
USE_PERL_ATOF
USE_REENTRANT_API
Locally applied patches:
Devel::PatchPerl 1.48
Built under netbsd
Compiled at Oct 21 2019 08:23:34
%ENV:
PERL5LIB=""
PERL5OPT=""
PERL5_CPANPLUS_IS_RUNNING="9353"
PERL5_CPAN_IS_RUNNING="9353"
PERLBREW_HOME="/home/njh/.perlbrew"
PERLBREW_MANPATH="/home/njh/perl5/perlbrew/perls/perl-5.31.5-thread/man"
PERLBREW_PATH="/home/njh/perl5/perlbrew/bin:/home/njh/perl5/perlbrew/perls/perl-5.31.5-thread/bin"
PERLBREW_PERL="perl-5.31.5-thread"
PERLBREW_ROOT="/home/njh/perl5/perlbrew"
PERLBREW_SHELLRC_VERSION="0.82"
PERLBREW_VERSION="0.82"
PERL_MM_USE_DEFAULT="1"
PERL_USE_UNSAFE_INC="1"
@INC:
/home/njh/perl5/perlbrew/perls/perl-5.31.5-thread/lib/site_perl/5.31.5/amd64-netbsd-thread-multi
/home/njh/perl5/perlbrew/perls/perl-5.31.5-thread/lib/site_perl/5.31.5
/home/njh/perl5/perlbrew/perls/perl-5.31.5-thread/lib/5.31.5/amd64-netbsd-thread-multi
/home/njh/perl5/perlbrew/perls/perl-5.31.5-thread/lib/5.31.5
.