Report for Data-Conveyor-1.103130

Back
From: metabase:user:8286d1fc-3d52-11e2-9ec4-cb9cdd236785
Subject: PASS Data-Conveyor-1.103130 v5.12.4 GNU/Linux
Date: 2014-05-08T04:45:47Z

This distribution has been tested as part of the CPAN Testers
project, supporting the Perl programming language.  See
http://wiki.cpantesters.org/ for more information or email
questions to cpan-testers-discuss@perl.org


--
Dear Marcel Gruenauer,

This is a computer-generated report for Data-Conveyor-1.103130
on perl 5.12.4, created by CPAN-Reporter-1.2011.

Thank you for uploading your work to CPAN.  Congratulations!
All tests were successful.

Sections of this report:

    * Tester comments
    * Program output
    * Prerequisites
    * Environment and other context

------------------------------
TESTER COMMENTS
------------------------------

Additional comments from tester:

this report is from an automated smoke testing program
and was not reviewed by a human for accuracy

------------------------------
PROGRAM OUTPUT
------------------------------

Output from '/usr/local/bin/make test':

PERL_DL_NONLAZY=1 /opt/perl444-27-32-5.12.4/bin/perl "-MExtUtils::Command::MM" "-MTest::Harness" "-e" "undef *Test::Harness::Switches; test_harness(0, 'blib/lib', 'blib/arch')" t/*.t
t/00-compile.t ............... ok
# Testing with Perl 5.012004, /opt/perl444-27-32-5.12.4/bin/perl
#     Carp version is 1.32
#     Class::Accessor::Complex version is 1.100880
#     Class::Scaffold::Accessor version is 1.102280
#     Class::Scaffold::App::CommandLine version is 1.102280
#     Class::Scaffold::App::Test::Classes version is 1.102280
#     Class::Scaffold::App::Test::YAMLDriven version is 1.102280
#     Class::Scaffold::Base version is 1.102280
#     Class::Scaffold::ConstantImporter version is 1.102280
#     Class::Scaffold::Delegate::Mixin version is 1.102280
#     Class::Scaffold::Environment version is 1.102280
#     Class::Scaffold::Exception version is 1.102280
#     Class::Scaffold::Exception::Business version is 1.102280
#     Class::Scaffold::Exception::Container version is 1.102280
#     Class::Scaffold::Exception::Util version is 1.102280
#     Class::Scaffold::Factory version is 1.102280
#     Class::Scaffold::Factory::Type version is 1.102280
#     Class::Scaffold::HierarchicalDirty version is 1.102280
#     Class::Scaffold::Log version is 1.102280
#     Class::Scaffold::Storable version is 1.102280
#     Class::Scaffold::Test version is 1.102280
#     Class::Scaffold::Test::Inherited version is 1.102280
#     Class::Scaffold::Test::UtilLoader version is 1.102280
#     Class::Scaffold::Util version is 1.102280
#     Class::Scaffold::YAML::Active version is 1.102280
#     Class::Scaffold::YAML::Active::Hash version is 1.102280
#     Class::Scaffold::YAML::Marshall version is 1.102280
#     Class::Value version is 1.100840
#     Class::Value::Enum version is 1.100840
#     Class::Value::Exception::Base version is 1.100840
#     Class::Value::Exception::NotWellFormedValue version is 1.100840
#     Class::Value::String version is 1.100840
#     Compress::Zlib version is 2.064
#     DBI version is 1.631
#     Data::Container version is 1.100840
#     Data::Dumper version is 2.151
#     Data::Inherited version is 1.100860
#     Data::Miscellany version is 1.100850
#     Data::Storage::DBI::Mock version is 1.102720
#     Data::Storage::DBI::Oracle version is 1.102720
#     Data::Storage::DBI::Pg version is 1.102720
#     Data::Storage::DBI::SQLite version is 1.102720
#     Data::Storage::Memory version is 1.102720
#     Data::Storage::Null version is 1.102720
#     Date::Calc version is 6.3
#     English version is 1.04
#     Error version is 0.17022
#     Error::Hierarchy version is 1.103530
#     Error::Hierarchy::Internal version is 1.103530
#     Error::Hierarchy::Internal::CustomMessage version is 1.103530
#     Error::Hierarchy::Internal::DBI::STH version is 1.103530
#     Error::Hierarchy::Test version is 1.103530
#     Error::Hierarchy::Util version is 1.103530
#     Exporter version is 5.70
#     ExtUtils::MakeMaker version is 6.98
#     Fcntl version is 1.06
#     File::Find version is 1.15
#     File::Temp version is 0.2304
#     FindBin version is 1.50
#     Getopt::Long version is 2.42
#     Hash::Flatten version is 1.19
#     Hook::Modular version is 1.101050
#     IO::Handle version is 1.28
#     IO::Pager version is 0.31
#     Pod::Text version is 3.18
#     Scalar::Util version is 1.38
#     Storable version is 2.45
#     String::FlexMatch::Test version is 1.100820
#     Sys::Hostname version is 1.11
#     Term::Shell::Enhanced version is 1.101420
#     Test::Builder version is 1.001003
#     Test::Class version is 0.41
#     Test::More version is 1.001003
#     Text::Table version is 1.130
#     Time::HiRes version is 1.9726
#     YAML version is 0.90
#     YAML::Active version is 1.100810
#     YAML::Marshall version is 0.90
#     charnames version is 1.07
#     constant version is 1.27
#     once version is 1.101420
#     overload version is 1.10
#     parent version is 0.228
t/000-report-versions.t ...... ok
t/01_companion_classes.t ..... ok
t/author-critic.t ............ skipped: these tests are for testing by the author
t/release-check-changes.t .... skipped: these tests are for release candidate testing
t/release-dist-manifest.t .... skipped: these tests are for release candidate testing
t/release-distmeta.t ......... skipped: these tests are for release candidate testing
t/release-eol.t .............. skipped: these tests are for release candidate testing
t/release-has-version.t ...... skipped: these tests are for release candidate testing
t/release-kwalitee.t ......... skipped: these tests are for release candidate testing
t/release-minimum-version.t .. skipped: these tests are for release candidate testing
t/release-no-tabs.t .......... skipped: these tests are for release candidate testing
t/release-pod-coverage.t ..... skipped: these tests are for release candidate testing
t/release-pod-spell.t ........ skipped: these tests are for release candidate testing
t/release-pod-syntax.t ....... skipped: these tests are for release candidate testing
t/release-portability.t ...... skipped: these tests are for release candidate testing
t/release-synopsis.t ......... skipped: these tests are for release candidate testing
t/release-unused-vars.t ...... skipped: these tests are for release candidate testing
All tests successful.
Files=18, Tests=223, 41 wallclock secs ( 0.29 usr  0.05 sys + 31.10 cusr  4.44 csys = 35.88 CPU)
Result: PASS

------------------------------
PREREQUISITES
------------------------------

Prerequisite modules loaded:

requires:

    Module                                      Need Have    
    ------------------------------------------- ---- --------
    charnames                                   0    1.07    
    Class::Accessor::Complex                    0    1.100880
    Class::Scaffold::Accessor                   0    1.102280
    Class::Scaffold::App::CommandLine           0    1.102280
    Class::Scaffold::App::Test::YAMLDriven      0    1.102280
    Class::Scaffold::Base                       0    1.102280
    Class::Scaffold::ConstantImporter           0    1.102280
    Class::Scaffold::Delegate::Mixin            0    1.102280
    Class::Scaffold::Environment                0    1.102280
    Class::Scaffold::Exception                  0    1.102280
    Class::Scaffold::Exception::Business        0    1.102280
    Class::Scaffold::Exception::Container       0    1.102280
    Class::Scaffold::Exception::Util            0    1.102280
    Class::Scaffold::Factory                    0    1.102280
    Class::Scaffold::Factory::Type              0    1.102280
    Class::Scaffold::HierarchicalDirty          0    1.102280
    Class::Scaffold::Log                        0    1.102280
    Class::Scaffold::Storable                   0    1.102280
    Class::Scaffold::Test                       0    1.102280
    Class::Scaffold::Test::Inherited            0    1.102280
    Class::Scaffold::Test::UtilLoader           0    1.102280
    Class::Scaffold::Util                       0    1.102280
    Class::Scaffold::YAML::Active               0    1.102280
    Class::Scaffold::YAML::Active::Hash         0    1.102280
    Class::Scaffold::YAML::Marshall             0    1.102280
    Class::Value                                0    1.100840
    Class::Value::Enum                          0    1.100840
    Class::Value::Exception::Base               0    1.100840
    Class::Value::Exception::NotWellFormedValue 0    1.100840
    Class::Value::String                        0    1.100840
    Compress::Zlib                              0    2.064   
    constant                                    0    1.27    
    Data::Container                             0    1.100840
    Data::Dumper                                0    2.151   
    Data::Inherited                             0    1.100860
    Data::Miscellany                            0    1.100850
    Data::Storage::DBI::Mock                    0    1.102720
    Data::Storage::DBI::Oracle                  0    1.102720
    Data::Storage::DBI::Pg                      0    1.102720
    Data::Storage::DBI::SQLite                  0    1.102720
    Data::Storage::Memory                       0    1.102720
    Data::Storage::Null                         0    1.102720
    Date::Calc                                  0    6.3     
    DBI                                         0    1.631   
    Error                                       0    0.17022 
    Error::Hierarchy                            0    1.103530
    Error::Hierarchy::Internal                  0    1.103530
    Error::Hierarchy::Internal::CustomMessage   0    1.103530
    Error::Hierarchy::Internal::DBI::STH        0    1.103530
    Error::Hierarchy::Test                      0    1.103530
    Error::Hierarchy::Util                      0    1.103530
    Exporter                                    0    5.70    
    Fcntl                                       0    1.06    
    FindBin                                     0    1.50    
    Getopt::Long                                0    2.42    
    Hash::Flatten                               0    1.19    
    Hook::Modular                               0    1.101050
    IO::Handle                                  0    1.28    
    IO::Pager                                   0    0.31    
    once                                        0    1.101420
    overload                                    0    1.10    
    parent                                      0    0.228   
    Pod::Text                                   0    3.18    
    Storable                                    0    2.45    
    String::FlexMatch::Test                     0    1.100820
    Sys::Hostname                               0    1.11    
    Term::Shell::Enhanced                       0    1.101420
    Test::Builder                               0    1.001003
    Test::Class                                 0    0.41    
    Test::More                                  0    1.001003
    Text::Table                                 0    1.130   
    Time::HiRes                                 0    1.9726  
    YAML                                        0    0.90    
    YAML::Active                                0    1.100810
    YAML::Marshall                              0    0.90    

build_requires:

    Module                                      Need Have    
    ------------------------------------------- ---- --------
    Carp                                        0    1.32    
    Class::Scaffold::App::Test::Classes         0    1.102280
    English                                     0    1.04    
    File::Find                                  0    1.15    
    File::Temp                                  0    0.2304  
    Scalar::Util                                0    1.38    
    Test::More                                  0.94 1.001003

configure_requires:

    Module                                      Need Have    
    ------------------------------------------- ---- --------
    ExtUtils::MakeMaker                         6.31 6.98    


------------------------------
ENVIRONMENT AND OTHER CONTEXT
------------------------------

Environment variables:

    AUTOMATED_TESTING = 1
    LANG = en_US.UTF-8
    LD_LIBRARY_PATH = /usr/local/lib
    NONINTERACTIVE_TESTING = 1
    PATH = /usr/lib/qt-3.3/bin:/usr/kerberos/sbin:/usr/kerberos/bin:/usr/lib/ccache:/usr/local/sbin:/usr/local/bin:/sbin:/bin:/usr/sbin:/usr/bin:/usr/lib/alliance/bin:/opt/real/RealPlayer:/root/bin:/usr/lib/alliance/bin:/opt/real/RealPlayer
    PERL5LIB = 
    PERL5OPT = 
    PERL5_CPANPLUS_IS_RUNNING = 1320
    PERL5_CPAN_IS_RUNNING = 1320
    PERL_MM_USE_DEFAULT = 1
    SHELL = /bin/bash
    TERM = xterm

Perl special variables (and OS-specific diagnostics, for MSWin32):

    $^X = /opt/perl444-27-32-5.12.4/bin/perl
    $UID/$EUID = 0 / 0
    $GID = 0 0 1 2 3 4 6 10
    $EGID = 0 0 1 2 3 4 6 10

Perl module toolchain versions installed:

    Module              Have    
    ------------------- --------
    CPAN                2.05    
    CPAN::Meta          2.133380
    Cwd                 3.40    
    ExtUtils::CBuilder  0.280216
    ExtUtils::Command   1.16    
    ExtUtils::Install   1.54    
    ExtUtils::MakeMaker 6.98    
    ExtUtils::Manifest  1.63    
    ExtUtils::ParseXS   3.22    
    File::Spec          3.40    
    JSON                2.90    
    JSON::PP            2.27203 
    Module::Build       0.4205  
    Module::Signature   0.73    
    Parse::CPAN::Meta   1.4414  
    Test::Harness       3.30    
    Test::More          1.001003
    YAML                0.90    
    YAML::Syck          1.27    
    version             0.9908  


--

Summary of my perl5 (revision 5 version 12 subversion 4) configuration:
   
  Platform:
    osname=linux, osvers=2.6.27-repin.1, archname=i686-linux-thread-multi-ld
    uname='linux localhost.localdomain 2.6.27-repin.1 #1 smp tue jan 25 20:07:21 msk 2011 i686 i686 i386 gnulinux '
    config_args='-Dcc=/opt/444/bin/gcc -Doptimize=-O3 -DDMALLOC=/usr/local/bin/dmalloc -Dprefix=/opt/perl444-27-32-5.12.4 -DDEBUGGING'
    hint=recommended, useposix=true, d_sigaction=define
    useithreads=define, usemultiplicity=define
    useperlio=define, d_sfio=undef, uselargefiles=define, usesocks=undef
    use64bitint=undef, use64bitall=undef, uselongdouble=define
    usemymalloc=n, bincompat5005=undef
  Compiler:
    cc='/opt/444/bin/gcc', ccflags ='-DDMALLOC -D_LARGEFILE_SOURCE -D_FILE_OFFSET_BITS=64',
    optimize='-O3 -g',
    cppflags='-DDMALLOC'
    ccversion='', gccversion='4.4.4', gccosandvers=''
    intsize=4, longsize=4, ptrsize=4, doublesize=8, byteorder=1234
    d_longlong=define, longlongsize=8, d_longdbl=define, longdblsize=12
    ivtype='long', ivsize=4, nvtype='long double', nvsize=12, Off_t='off_t', lseeksize=8
    alignbytes=4, prototype=define
  Linker and Libraries:
    ld='/opt/444/bin/gcc', ldflags =' -L/usr/local/lib'
    libpth=/usr/local/lib /lib /usr/lib
    libs=-lnsl -lgdbm -ldb -ldl -lm -lcrypt -lutil -lpthread -lc
    perllibs=-lnsl -ldl -lm -lcrypt -lutil -lpthread -lc
    libc=/lib/libc-2.5.so, so=so, useshrplib=true, libperl=libperl.so
    gnulibc_version='2.5'
  Dynamic Linking:
    dlsrc=dl_dlopen.xs, dlext=so, d_dlsymun=undef, ccdlflags='-Wl,-E -Wl,-rpath,/opt/perl444-27-32-5.12.4/lib/5.12.4/i686-linux-thread-multi-ld/CORE'
    cccdlflags='-fPIC', lddlflags='-shared -O3 -g -L/usr/local/lib'


Characteristics of this binary (from libperl): 
  Compile-time options: MULTIPLICITY PERL_DONT_CREATE_GVSV
                        PERL_IMPLICIT_CONTEXT PERL_MAD PERL_MALLOC_WRAP
                        USE_FAST_STDIO USE_ITHREADS USE_LARGE_FILES
                        USE_LONG_DOUBLE USE_PERLIO USE_PERL_ATOF
                        USE_REENTRANT_API
  Built under linux
  Compiled at Oct 23 2013 21:45:17
  %ENV:
    PERL5LIB=""
    PERL5OPT=""
    PERL5_CPANPLUS_IS_RUNNING="1320"
    PERL5_CPAN_IS_RUNNING="1320"
    PERL_MM_USE_DEFAULT="1"
  @INC:
    /opt/perl444-27-32-5.12.4/lib/site_perl/5.12.4/i686-linux-thread-multi-ld
    /opt/perl444-27-32-5.12.4/lib/site_perl/5.12.4
    /opt/perl444-27-32-5.12.4/lib/5.12.4/i686-linux-thread-multi-ld
    /opt/perl444-27-32-5.12.4/lib/5.12.4
    .