Test-Moose-More v0.050 Perl 5 v5.40.0 armv6l-linux
- Status
- Pass
- From
- gregor herrmann
- Dist
-
Test-Moose-More v0.050
- Platform
- Perl 5 v5.40.0 armv6l-linux
- Date
- 2024-06-19 07:22:01
- ID
- 9ed79cd0-2e0c-11ef-977c-ab0b9b17b5b4
This distribution has been tested as part of the CPAN Testers
project, supporting the Perl programming language. See
http://wiki.cpantesters.org/ for more information or email
questions to cpan-testers-discuss@perl.org
--
Dear RSRCHBOY,
This is a computer-generated report for Test-Moose-More-0.050
on perl 5.40.0, created by App::cpanminus::reporter 0.21 (1.7047).
Thank you for uploading your work to CPAN. Congratulations!
All tests were successful.
Sections of this report:
* Tester comments
* Program output
* Prerequisites
* Environment and other context
------------------------------
TESTER COMMENTS
------------------------------
Additional comments from tester:
none provided
------------------------------
PROGRAM OUTPUT
------------------------------
Output from '':
Building and testing Test-Moose-More-0.050
cp lib/Test/Moose/More/Utils.pm blib/lib/Test/Moose/More/Utils.pm
cp lib/Test/Moose/More.pm blib/lib/Test/Moose/More.pm
Manifying 2 pod documents
PERL_DL_NONLAZY=1 "/srv/smoker/perl5/perlbrew/perls/perl-5.40.0/bin/perl" "-MExtUtils::Command::MM" "-MTest::Harness" "-e" "undef *Test::Harness::Switches; test_harness(0, 'blib/lib', 'blib/arch')" t/*.t t/attribute_options_ok/*.t t/is_class_ok/*.t t/validate_attribute/*.t t/validate_class/*.t t/validate_role/*.t t/validate_thing/*.t t/wrapped/*.t
t/00-check-deps.t ...................................... ok
Smartmatch is deprecated at (eval 10) line 8.
Smartmatch is deprecated at (eval 10) line 15.
Smartmatch is deprecated at (eval 11) line 8.
Smartmatch is deprecated at (eval 11) line 15.
Smartmatch is deprecated at (eval 12) line 8.
Smartmatch is deprecated at (eval 12) line 15.
Smartmatch is deprecated at (eval 13) line 11.
Smartmatch is deprecated at (eval 13) line 21.
t/00-compile.t ......................................... ok
#
# Versions for all modules listed in MYMETA.json (including optional ones):
#
# === Configure Requires ===
#
# Module Want Have
# ------------------- ---- ----
# ExtUtils::MakeMaker any 7.70
#
# === Build Requires ===
#
# Module Want Have
# ------------------- ---- ----
# ExtUtils::MakeMaker any 7.70
#
# === Test Requires ===
#
# Module Want Have
# ---------------------- ----- --------
# ExtUtils::MakeMaker any 7.70
# File::Spec any 3.90
# IO::Handle any 1.55
# IPC::Open3 any 1.22
# List::Util 1.45 1.63
# Moose any 2.2207
# Moose::Meta::Attribute any 2.2207
# Moose::Role any 2.2207
# Moose::Util::MetaRole any 2.2207
# TAP::SimpleOutput 0.009 0.009
# Test::Builder::Tester any 1.302199
# Test::CheckDeps 0.010 0.010
# Test::More 0.94 1.302199
# namespace::autoclean any 0.29
#
# === Test Recommends ===
#
# Module Want Have
# ---------- -------- --------
# CPAN::Meta 2.120900 2.150010
#
# === Runtime Requires ===
#
# Module Want Have
# ---------------------------- ---- --------
# Carp any 1.54
# Data::OptList any 0.114
# List::MoreUtils any 0.430
# List::Util 1.45 1.63
# Moose::Util any 2.2207
# Moose::Util::TypeConstraints any 2.2207
# Scalar::Util any 1.63
# Sub::Exporter::Progressive any 0.001013
# Syntax::Keyword::Junction any 0.003008
# Test::Builder any 1.302199
# Test::Moose any 2.2207
# Test::More 0.94 1.302199
# strict any 1.13
# warnings any 1.70
#
t/00-report-prereqs.t .................................. ok
Smartmatch is deprecated at (eval 10) line 8.
Smartmatch is deprecated at (eval 10) line 15.
Smartmatch is deprecated at (eval 11) line 8.
Smartmatch is deprecated at (eval 11) line 15.
Smartmatch is deprecated at (eval 12) line 8.
Smartmatch is deprecated at (eval 12) line 15.
Smartmatch is deprecated at (eval 13) line 11.
Smartmatch is deprecated at (eval 13) line 21.
t/attribute_options_ok/basic.t ......................... ok
Smartmatch is deprecated at (eval 10) line 8.
Smartmatch is deprecated at (eval 10) line 15.
Smartmatch is deprecated at (eval 11) line 8.
Smartmatch is deprecated at (eval 11) line 15.
Smartmatch is deprecated at (eval 12) line 8.
Smartmatch is deprecated at (eval 12) line 15.
Smartmatch is deprecated at (eval 13) line 11.
Smartmatch is deprecated at (eval 13) line 21.
t/attribute_options_ok/subtest-wrapper.t ............... ok
Smartmatch is deprecated at (eval 163) line 8.
Smartmatch is deprecated at (eval 163) line 15.
Smartmatch is deprecated at (eval 164) line 8.
Smartmatch is deprecated at (eval 164) line 15.
Smartmatch is deprecated at (eval 165) line 8.
Smartmatch is deprecated at (eval 165) line 15.
Smartmatch is deprecated at (eval 166) line 11.
Smartmatch is deprecated at (eval 166) line 21.
t/check_sugar.t ........................................ ok
Smartmatch is deprecated at (eval 10) line 8.
Smartmatch is deprecated at (eval 10) line 15.
Smartmatch is deprecated at (eval 11) line 8.
Smartmatch is deprecated at (eval 11) line 15.
Smartmatch is deprecated at (eval 12) line 8.
Smartmatch is deprecated at (eval 12) line 15.
Smartmatch is deprecated at (eval 13) line 11.
Smartmatch is deprecated at (eval 13) line 21.
t/definition_context.t ................................. ok
Smartmatch is deprecated at (eval 10) line 8.
Smartmatch is deprecated at (eval 10) line 15.
Smartmatch is deprecated at (eval 11) line 8.
Smartmatch is deprecated at (eval 11) line 15.
Smartmatch is deprecated at (eval 12) line 8.
Smartmatch is deprecated at (eval 12) line 15.
Smartmatch is deprecated at (eval 13) line 11.
Smartmatch is deprecated at (eval 13) line 21.
t/does_metaroles_ok.t .................................. ok
Smartmatch is deprecated at (eval 10) line 8.
Smartmatch is deprecated at (eval 10) line 15.
Smartmatch is deprecated at (eval 11) line 8.
Smartmatch is deprecated at (eval 11) line 15.
Smartmatch is deprecated at (eval 12) line 8.
Smartmatch is deprecated at (eval 12) line 15.
Smartmatch is deprecated at (eval 13) line 11.
Smartmatch is deprecated at (eval 13) line 21.
t/does_not_metaroles_ok.t .............................. ok
Smartmatch is deprecated at (eval 175) line 8.
Smartmatch is deprecated at (eval 175) line 15.
Smartmatch is deprecated at (eval 176) line 8.
Smartmatch is deprecated at (eval 176) line 15.
Smartmatch is deprecated at (eval 177) line 8.
Smartmatch is deprecated at (eval 177) line 15.
Smartmatch is deprecated at (eval 178) line 11.
Smartmatch is deprecated at (eval 178) line 21.
t/does_not_ok.t ........................................ ok
Smartmatch is deprecated at (eval 179) line 8.
Smartmatch is deprecated at (eval 179) line 15.
Smartmatch is deprecated at (eval 180) line 8.
Smartmatch is deprecated at (eval 180) line 15.
Smartmatch is deprecated at (eval 181) line 8.
Smartmatch is deprecated at (eval 181) line 15.
Smartmatch is deprecated at (eval 182) line 11.
Smartmatch is deprecated at (eval 182) line 21.
t/does_ok.t ............................................ ok
Smartmatch is deprecated at (eval 167) line 8.
Smartmatch is deprecated at (eval 167) line 15.
Smartmatch is deprecated at (eval 168) line 8.
Smartmatch is deprecated at (eval 168) line 15.
Smartmatch is deprecated at (eval 169) line 8.
Smartmatch is deprecated at (eval 169) line 15.
Smartmatch is deprecated at (eval 170) line 11.
Smartmatch is deprecated at (eval 170) line 21.
t/has_attribute_ok.t ................................... ok
Smartmatch is deprecated at (eval 10) line 8.
Smartmatch is deprecated at (eval 10) line 15.
Smartmatch is deprecated at (eval 11) line 8.
Smartmatch is deprecated at (eval 11) line 15.
Smartmatch is deprecated at (eval 12) line 8.
Smartmatch is deprecated at (eval 12) line 15.
Smartmatch is deprecated at (eval 13) line 11.
Smartmatch is deprecated at (eval 13) line 21.
t/is_anon_ok.t ......................................... ok
Smartmatch is deprecated at (eval 163) line 8.
Smartmatch is deprecated at (eval 163) line 15.
Smartmatch is deprecated at (eval 164) line 8.
Smartmatch is deprecated at (eval 164) line 15.
Smartmatch is deprecated at (eval 165) line 8.
Smartmatch is deprecated at (eval 165) line 15.
Smartmatch is deprecated at (eval 166) line 11.
Smartmatch is deprecated at (eval 166) line 21.
t/is_class_ok/basic.t .................................. ok
Smartmatch is deprecated at (eval 10) line 8.
Smartmatch is deprecated at (eval 10) line 15.
Smartmatch is deprecated at (eval 11) line 8.
Smartmatch is deprecated at (eval 11) line 15.
Smartmatch is deprecated at (eval 12) line 8.
Smartmatch is deprecated at (eval 12) line 15.
Smartmatch is deprecated at (eval 13) line 11.
Smartmatch is deprecated at (eval 13) line 21.
t/is_class_ok/moose-meta-attribute-should-be-moosey.t .. ok
Smartmatch is deprecated at (eval 163) line 8.
Smartmatch is deprecated at (eval 163) line 15.
Smartmatch is deprecated at (eval 164) line 8.
Smartmatch is deprecated at (eval 164) line 15.
Smartmatch is deprecated at (eval 165) line 8.
Smartmatch is deprecated at (eval 165) line 15.
Smartmatch is deprecated at (eval 166) line 11.
Smartmatch is deprecated at (eval 166) line 21.
t/is_immutable_ok.t .................................... ok
Smartmatch is deprecated at (eval 10) line 8.
Smartmatch is deprecated at (eval 10) line 15.
Smartmatch is deprecated at (eval 11) line 8.
Smartmatch is deprecated at (eval 11) line 15.
Smartmatch is deprecated at (eval 12) line 8.
Smartmatch is deprecated at (eval 12) line 15.
Smartmatch is deprecated at (eval 13) line 11.
Smartmatch is deprecated at (eval 13) line 21.
t/is_not_anon_ok.t ..................................... ok
Smartmatch is deprecated at (eval 163) line 8.
Smartmatch is deprecated at (eval 163) line 15.
Smartmatch is deprecated at (eval 164) line 8.
Smartmatch is deprecated at (eval 164) line 15.
Smartmatch is deprecated at (eval 165) line 8.
Smartmatch is deprecated at (eval 165) line 15.
Smartmatch is deprecated at (eval 166) line 11.
Smartmatch is deprecated at (eval 166) line 21.
t/is_role_ok.t ......................................... ok
Smartmatch is deprecated at (eval 163) line 8.
Smartmatch is deprecated at (eval 163) line 15.
Smartmatch is deprecated at (eval 164) line 8.
Smartmatch is deprecated at (eval 164) line 15.
Smartmatch is deprecated at (eval 165) line 8.
Smartmatch is deprecated at (eval 165) line 15.
Smartmatch is deprecated at (eval 166) line 11.
Smartmatch is deprecated at (eval 166) line 21.
t/meta_ok.t ............................................ ok
Smartmatch is deprecated at (eval 10) line 8.
Smartmatch is deprecated at (eval 10) line 15.
Smartmatch is deprecated at (eval 11) line 8.
Smartmatch is deprecated at (eval 11) line 15.
Smartmatch is deprecated at (eval 12) line 8.
Smartmatch is deprecated at (eval 12) line 15.
Smartmatch is deprecated at (eval 13) line 11.
Smartmatch is deprecated at (eval 13) line 21.
t/method_from_pkg_ok.t ................................. ok
Smartmatch is deprecated at (eval 10) line 8.
Smartmatch is deprecated at (eval 10) line 15.
Smartmatch is deprecated at (eval 11) line 8.
Smartmatch is deprecated at (eval 11) line 15.
Smartmatch is deprecated at (eval 12) line 8.
Smartmatch is deprecated at (eval 12) line 15.
Smartmatch is deprecated at (eval 13) line 11.
Smartmatch is deprecated at (eval 13) line 21.
t/method_is_accessor_ok.t .............................. ok
Smartmatch is deprecated at (eval 10) line 8.
Smartmatch is deprecated at (eval 10) line 15.
Smartmatch is deprecated at (eval 11) line 8.
Smartmatch is deprecated at (eval 11) line 15.
Smartmatch is deprecated at (eval 12) line 8.
Smartmatch is deprecated at (eval 12) line 15.
Smartmatch is deprecated at (eval 13) line 11.
Smartmatch is deprecated at (eval 13) line 21.
t/method_is_not_accessor_ok.t .......................... ok
Smartmatch is deprecated at (eval 10) line 8.
Smartmatch is deprecated at (eval 10) line 15.
Smartmatch is deprecated at (eval 11) line 8.
Smartmatch is deprecated at (eval 11) line 15.
Smartmatch is deprecated at (eval 12) line 8.
Smartmatch is deprecated at (eval 12) line 15.
Smartmatch is deprecated at (eval 13) line 11.
Smartmatch is deprecated at (eval 13) line 21.
t/method_not_from_pkg_ok.t ............................. ok
Smartmatch is deprecated at (eval 167) line 8.
Smartmatch is deprecated at (eval 167) line 15.
Smartmatch is deprecated at (eval 168) line 8.
Smartmatch is deprecated at (eval 168) line 15.
Smartmatch is deprecated at (eval 169) line 8.
Smartmatch is deprecated at (eval 169) line 15.
Smartmatch is deprecated at (eval 170) line 11.
Smartmatch is deprecated at (eval 170) line 21.
t/method_ok.t .......................................... ok
Smartmatch is deprecated at (eval 163) line 8.
Smartmatch is deprecated at (eval 163) line 15.
Smartmatch is deprecated at (eval 164) line 8.
Smartmatch is deprecated at (eval 164) line 15.
Smartmatch is deprecated at (eval 165) line 8.
Smartmatch is deprecated at (eval 165) line 15.
Smartmatch is deprecated at (eval 166) line 11.
Smartmatch is deprecated at (eval 166) line 21.
t/no_meta_ok.t ......................................... ok
Smartmatch is deprecated at (eval 10) line 8.
Smartmatch is deprecated at (eval 10) line 15.
Smartmatch is deprecated at (eval 11) line 8.
Smartmatch is deprecated at (eval 11) line 15.
Smartmatch is deprecated at (eval 12) line 8.
Smartmatch is deprecated at (eval 12) line 15.
Smartmatch is deprecated at (eval 13) line 11.
Smartmatch is deprecated at (eval 13) line 21.
t/pristine_ok.t ........................................ ok
Smartmatch is deprecated at (eval 161) line 8.
Smartmatch is deprecated at (eval 161) line 15.
Smartmatch is deprecated at (eval 162) line 8.
Smartmatch is deprecated at (eval 162) line 15.
Smartmatch is deprecated at (eval 163) line 8.
Smartmatch is deprecated at (eval 163) line 15.
Smartmatch is deprecated at (eval 164) line 11.
Smartmatch is deprecated at (eval 164) line 21.
t/requires_method_ok.t ................................. ok
Smartmatch is deprecated at (eval 10) line 8.
Smartmatch is deprecated at (eval 10) line 15.
Smartmatch is deprecated at (eval 11) line 8.
Smartmatch is deprecated at (eval 11) line 15.
Smartmatch is deprecated at (eval 12) line 8.
Smartmatch is deprecated at (eval 12) line 15.
Smartmatch is deprecated at (eval 13) line 11.
Smartmatch is deprecated at (eval 13) line 21.
t/subtest-1.t .......................................... ok
Smartmatch is deprecated at (eval 10) line 8.
Smartmatch is deprecated at (eval 10) line 15.
Smartmatch is deprecated at (eval 11) line 8.
Smartmatch is deprecated at (eval 11) line 15.
Smartmatch is deprecated at (eval 12) line 8.
Smartmatch is deprecated at (eval 12) line 15.
Smartmatch is deprecated at (eval 13) line 11.
Smartmatch is deprecated at (eval 13) line 21.
t/validate_attribute/basic.t ........................... ok
Smartmatch is deprecated at (eval 10) line 8.
Smartmatch is deprecated at (eval 10) line 15.
Smartmatch is deprecated at (eval 11) line 8.
Smartmatch is deprecated at (eval 11) line 15.
Smartmatch is deprecated at (eval 12) line 8.
Smartmatch is deprecated at (eval 12) line 15.
Smartmatch is deprecated at (eval 13) line 11.
Smartmatch is deprecated at (eval 13) line 21.
t/validate_attribute/coerce.t .......................... ok
Smartmatch is deprecated at (eval 10) line 8.
Smartmatch is deprecated at (eval 10) line 15.
Smartmatch is deprecated at (eval 11) line 8.
Smartmatch is deprecated at (eval 11) line 15.
Smartmatch is deprecated at (eval 12) line 8.
Smartmatch is deprecated at (eval 12) line 15.
Smartmatch is deprecated at (eval 13) line 11.
Smartmatch is deprecated at (eval 13) line 21.
t/validate_attribute/in_roles.t ........................ ok
Smartmatch is deprecated at (eval 10) line 8.
Smartmatch is deprecated at (eval 10) line 15.
Smartmatch is deprecated at (eval 11) line 8.
Smartmatch is deprecated at (eval 11) line 15.
Smartmatch is deprecated at (eval 12) line 8.
Smartmatch is deprecated at (eval 12) line 15.
Smartmatch is deprecated at (eval 13) line 11.
Smartmatch is deprecated at (eval 13) line 21.
t/validate_attribute/lazy.t ............................ ok
Smartmatch is deprecated at (eval 10) line 8.
Smartmatch is deprecated at (eval 10) line 15.
Smartmatch is deprecated at (eval 11) line 8.
Smartmatch is deprecated at (eval 11) line 15.
Smartmatch is deprecated at (eval 12) line 8.
Smartmatch is deprecated at (eval 12) line 15.
Smartmatch is deprecated at (eval 13) line 11.
Smartmatch is deprecated at (eval 13) line 21.
t/validate_attribute/required.t ........................ ok
Smartmatch is deprecated at (eval 167) line 8.
Smartmatch is deprecated at (eval 167) line 15.
Smartmatch is deprecated at (eval 168) line 8.
Smartmatch is deprecated at (eval 168) line 15.
Smartmatch is deprecated at (eval 169) line 8.
Smartmatch is deprecated at (eval 169) line 15.
Smartmatch is deprecated at (eval 170) line 11.
Smartmatch is deprecated at (eval 170) line 21.
t/validate_class/basic.t ............................... ok
Smartmatch is deprecated at (eval 165) line 8.
Smartmatch is deprecated at (eval 165) line 15.
Smartmatch is deprecated at (eval 166) line 8.
Smartmatch is deprecated at (eval 166) line 15.
Smartmatch is deprecated at (eval 167) line 8.
Smartmatch is deprecated at (eval 167) line 15.
Smartmatch is deprecated at (eval 168) line 11.
Smartmatch is deprecated at (eval 168) line 21.
t/validate_class/metaclasses.t ......................... ok
Smartmatch is deprecated at (eval 165) line 8.
Smartmatch is deprecated at (eval 165) line 15.
Smartmatch is deprecated at (eval 166) line 8.
Smartmatch is deprecated at (eval 166) line 15.
Smartmatch is deprecated at (eval 167) line 8.
Smartmatch is deprecated at (eval 167) line 15.
Smartmatch is deprecated at (eval 168) line 11.
Smartmatch is deprecated at (eval 168) line 21.
t/validate_class/metaroles.t ........................... ok
Smartmatch is deprecated at (eval 161) line 8.
Smartmatch is deprecated at (eval 161) line 15.
Smartmatch is deprecated at (eval 162) line 8.
Smartmatch is deprecated at (eval 162) line 15.
Smartmatch is deprecated at (eval 163) line 8.
Smartmatch is deprecated at (eval 163) line 15.
Smartmatch is deprecated at (eval 164) line 11.
Smartmatch is deprecated at (eval 164) line 21.
t/validate_class/methods.t ............................. ok
Smartmatch is deprecated at (eval 167) line 8.
Smartmatch is deprecated at (eval 167) line 15.
Smartmatch is deprecated at (eval 168) line 8.
Smartmatch is deprecated at (eval 168) line 15.
Smartmatch is deprecated at (eval 169) line 8.
Smartmatch is deprecated at (eval 169) line 15.
Smartmatch is deprecated at (eval 170) line 11.
Smartmatch is deprecated at (eval 170) line 21.
t/validate_role/basic.t ................................ ok
Smartmatch is deprecated at (eval 165) line 8.
Smartmatch is deprecated at (eval 165) line 15.
Smartmatch is deprecated at (eval 166) line 8.
Smartmatch is deprecated at (eval 166) line 15.
Smartmatch is deprecated at (eval 167) line 8.
Smartmatch is deprecated at (eval 167) line 15.
Smartmatch is deprecated at (eval 168) line 11.
Smartmatch is deprecated at (eval 168) line 21.
t/validate_role/compose.t .............................. ok
Smartmatch is deprecated at (eval 165) line 8.
Smartmatch is deprecated at (eval 165) line 15.
Smartmatch is deprecated at (eval 166) line 8.
Smartmatch is deprecated at (eval 166) line 15.
Smartmatch is deprecated at (eval 167) line 8.
Smartmatch is deprecated at (eval 167) line 15.
Smartmatch is deprecated at (eval 168) line 11.
Smartmatch is deprecated at (eval 168) line 21.
t/validate_role/metaclasses.t .......................... ok
Smartmatch is deprecated at (eval 165) line 8.
Smartmatch is deprecated at (eval 165) line 15.
Smartmatch is deprecated at (eval 166) line 8.
Smartmatch is deprecated at (eval 166) line 15.
Smartmatch is deprecated at (eval 167) line 8.
Smartmatch is deprecated at (eval 167) line 15.
Smartmatch is deprecated at (eval 168) line 11.
Smartmatch is deprecated at (eval 168) line 21.
t/validate_role/metaroles.t ............................ ok
Smartmatch is deprecated at (eval 165) line 8.
Smartmatch is deprecated at (eval 165) line 15.
Smartmatch is deprecated at (eval 166) line 8.
Smartmatch is deprecated at (eval 166) line 15.
Smartmatch is deprecated at (eval 167) line 8.
Smartmatch is deprecated at (eval 167) line 15.
Smartmatch is deprecated at (eval 168) line 11.
Smartmatch is deprecated at (eval 168) line 21.
t/validate_thing/metaclasses.t ......................... ok
Smartmatch is deprecated at (eval 161) line 8.
Smartmatch is deprecated at (eval 161) line 15.
Smartmatch is deprecated at (eval 162) line 8.
Smartmatch is deprecated at (eval 162) line 15.
Smartmatch is deprecated at (eval 163) line 8.
Smartmatch is deprecated at (eval 163) line 15.
Smartmatch is deprecated at (eval 164) line 11.
Smartmatch is deprecated at (eval 164) line 21.
t/validate_thing/methods.t ............................. ok
Smartmatch is deprecated at (eval 10) line 8.
Smartmatch is deprecated at (eval 10) line 15.
Smartmatch is deprecated at (eval 11) line 8.
Smartmatch is deprecated at (eval 11) line 15.
Smartmatch is deprecated at (eval 12) line 8.
Smartmatch is deprecated at (eval 12) line 15.
Smartmatch is deprecated at (eval 13) line 11.
Smartmatch is deprecated at (eval 13) line 21.
t/validate_thing/sugar.t ............................... ok
Smartmatch is deprecated at (eval 10) line 8.
Smartmatch is deprecated at (eval 10) line 15.
Smartmatch is deprecated at (eval 11) line 8.
Smartmatch is deprecated at (eval 11) line 15.
Smartmatch is deprecated at (eval 12) line 8.
Smartmatch is deprecated at (eval 12) line 15.
Smartmatch is deprecated at (eval 13) line 11.
Smartmatch is deprecated at (eval 13) line 21.
t/wrapped/in_roles.t ................................... ok
All tests successful.
Test Summary Report
-------------------
t/00-check-deps.t (Wstat: 0 Tests: 32 Failed: 0)
TODO passed: 32
Files=45, Tests=235, 913 wallclock secs ( 3.24 usr 0.53 sys + 372.95 cusr 12.35 csys = 389.07 CPU)
Result: PASS
------------------------------
PREREQUISITES
------------------------------
Prerequisite modules loaded:
runtime:
Module Need Have
---------------------------- ----- --------
Carp 0 1.54
Data::OptList 0 0.114
List::MoreUtils 0 0.430
List::Util 1.45 1.63
Moose::Util 0 2.2207
Moose::Util::TypeConstraints 0 2.2207
perl 5.006 5.040000
Scalar::Util 0 1.63
strict 0 1.13
Sub::Exporter::Progressive 0 0.001013
Syntax::Keyword::Junction 0 0.003008
Test::Builder 0 1.302199
Test::Moose 0 2.2207
Test::More 0.94 1.302199
warnings 0 1.70
build:
Module Need Have
---------------------------- ----- --------
ExtUtils::MakeMaker 0 7.70
configure:
Module Need Have
---------------------------- ----- --------
ExtUtils::MakeMaker 0 7.70
------------------------------
ENVIRONMENT AND OTHER CONTEXT
------------------------------
Environment variables:
LC_CTYPE = de_AT.utf8
PATH = /srv/smoker/bin:/usr/lib/ccache:/srv/smoker/perl5/perlbrew/bin:/srv/smoker/perl5/perlbrew/perls/perl-5.40.0/bin:/usr/local/bin:/usr/bin:/bin:/usr/local/games:/usr/games
PERLBREW_HOME = /srv/smoker/.perlbrew
PERLBREW_MANPATH = /srv/smoker/perl5/perlbrew/perls/perl-5.40.0/man
PERLBREW_PATH = /srv/smoker/perl5/perlbrew/bin:/srv/smoker/perl5/perlbrew/perls/perl-5.40.0/bin
PERLBREW_PERL = perl-5.40.0
PERLBREW_ROOT = /srv/smoker/perl5/perlbrew
PERLBREW_SHELLRC_VERSION = 0.98
PERLBREW_VERSION = 0.98
PERL_CPANM_OPT = --prompt --configure-timeout 300 --build-timeout 18000 --test-timeout 18000 --from https://www.cpan.org
PERL_TEST_TIME_OUT_FACTOR = 3
SHELL = /bin/bash
TERM = screen-256color
Perl special variables (and OS-specific diagnostics, for MSWin32):
EGID = 65534 65534
EUID = 1111
EXECUTABLE_NAME = /srv/smoker/perl5/perlbrew/perls/perl-5.40.0/bin/perl
GID = 65534 65534
UID = 1111
Perl module toolchain versions installed:
Module Have
------------------- --------
CPAN 2.36
CPAN::Meta 2.150010
Cwd 3.90
ExtUtils::CBuilder 0.280240
ExtUtils::Command 7.70
ExtUtils::Install 2.22
ExtUtils::MakeMaker 7.70
ExtUtils::Manifest 1.75
ExtUtils::ParseXS 3.51
File::Spec 3.90
JSON 4.10
JSON::PP 4.16
Module::Build 0.4234
Module::Signature n/a
Parse::CPAN::Meta 2.150010
Test::Harness 3.48
Test::More 1.302199
YAML 1.31
YAML::Syck n/a
version 0.9930
--
Summary of my perl5 (revision 5 version 40 subversion 0) configuration:
Platform:
osname=linux
osvers=5.10.103+
archname=armv6l-linux
uname='linux smoker 5.10.103+ #1529 tue mar 8 12:19:18 gmt 2022 armv6l gnulinux '
config_args='-de -Dprefix=/srv/smoker/perl5/perlbrew/perls/perl-5.40.0 -Aeval:scriptdir=/srv/smoker/perl5/perlbrew/perls/perl-5.40.0/bin'
hint=recommended
useposix=true
d_sigaction=define
useithreads=undef
usemultiplicity=undef
use64bitint=undef
use64bitall=undef
uselongdouble=undef
usemymalloc=n
default_inc_excludes_dot=define
Compiler:
cc='cc'
ccflags ='-fwrapv -fno-strict-aliasing -pipe -fstack-protector-strong -I/usr/local/include -D_LARGEFILE_SOURCE -D_FILE_OFFSET_BITS=64 -D_FORTIFY_SOURCE=2'
optimize='-O2'
cppflags='-fwrapv -fno-strict-aliasing -pipe -fstack-protector-strong -I/usr/local/include'
ccversion=''
gccversion='13.2.0'
gccosandvers=''
intsize=4
longsize=4
ptrsize=4
doublesize=8
byteorder=1234
doublekind=3
d_longlong=define
longlongsize=8
d_longdbl=define
longdblsize=8
longdblkind=0
ivtype='long'
ivsize=4
nvtype='double'
nvsize=8
Off_t='off_t'
lseeksize=8
alignbytes=8
prototype=define
Linker and Libraries:
ld='cc'
ldflags =' -fstack-protector-strong -L/usr/local/lib'
libpth=/usr/local/lib /usr/lib/arm-linux-gnueabihf /usr/lib
libs=-lpthread -ldb -ldl -lm -lcrypt -lutil -lc
perllibs=-lpthread -ldl -lm -lcrypt -lutil -lc
libc=/lib/arm-linux-gnueabihf/libc.so.6
so=so
useshrplib=false
libperl=libperl.a
gnulibc_version='2.38'
Dynamic Linking:
dlsrc=dl_dlopen.xs
dlext=so
d_dlsymun=undef
ccdlflags='-Wl,-E'
cccdlflags='-fPIC'
lddlflags='-shared -O2 -L/usr/local/lib -fstack-protector-strong'
Characteristics of this binary (from libperl):
Compile-time options:
HAS_LONG_DOUBLE
HAS_STRTOLD
HAS_TIMES
PERLIO_LAYERS
PERL_COPY_ON_WRITE
PERL_DONT_CREATE_GVSV
PERL_HASH_FUNC_ZAPHOD32
PERL_HASH_USE_SBOX32
PERL_MALLOC_WRAP
PERL_OP_PARENT
PERL_PRESERVE_IVUV
PERL_USE_SAFE_PUTENV
USE_LARGE_FILES
USE_LOCALE
USE_LOCALE_COLLATE
USE_LOCALE_CTYPE
USE_LOCALE_NUMERIC
USE_LOCALE_TIME
USE_PERLIO
USE_PERL_ATOF
Built under linux
Compiled at Jun 10 2024 21:35:21
%ENV:
PERLBREW_HOME="/srv/smoker/.perlbrew"
PERLBREW_MANPATH="/srv/smoker/perl5/perlbrew/perls/perl-5.40.0/man"
PERLBREW_PATH="/srv/smoker/perl5/perlbrew/bin:/srv/smoker/perl5/perlbrew/perls/perl-5.40.0/bin"
PERLBREW_PERL="perl-5.40.0"
PERLBREW_ROOT="/srv/smoker/perl5/perlbrew"
PERLBREW_SHELLRC_VERSION="0.98"
PERLBREW_VERSION="0.98"
PERL_CPANM_OPT="--prompt --configure-timeout 300 --build-timeout 18000 --test-timeout 18000 --from https://www.cpan.org"
PERL_TEST_TIME_OUT_FACTOR="3"
@INC:
/srv/smoker/perl5/perlbrew/perls/perl-5.40.0/lib/site_perl/5.40.0/armv6l-linux
/srv/smoker/perl5/perlbrew/perls/perl-5.40.0/lib/site_perl/5.40.0
/srv/smoker/perl5/perlbrew/perls/perl-5.40.0/lib/5.40.0/armv6l-linux
/srv/smoker/perl5/perlbrew/perls/perl-5.40.0/lib/5.40.0