Parse-Eyapp v1.21 Perl 5 v5.24.1 arm-freebsd-thread-multi
- Status
- Pass
- From
- Nigel Horne
- Dist
-
Parse-Eyapp v1.21
- Platform
- Perl 5 v5.24.1 arm-freebsd-thread-multi
- Date
- 2017-12-16 12:49:56
- ID
- 9e816414-e25f-11e7-b8bd-809199b835e7
This distribution has been tested as part of the CPAN Testers
project, supporting the Perl programming language. See
http://wiki.cpantesters.org/ for more information or email
questions to cpan-testers-discuss@perl.org
--
Dear William N. Braswell, Jr.,
This is a computer-generated report for Parse-Eyapp-1.21
on perl 5.24.1, created by CPAN-Reporter-1.2018.
Thank you for uploading your work to CPAN. Congratulations!
All tests were successful.
Sections of this report:
* Tester comments
* Program output
* Prerequisites
* Environment and other context
------------------------------
TESTER COMMENTS
------------------------------
Additional comments from tester:
this report is from an automated smoke testing program
and was not reviewed by a human for accuracy
------------------------------
PROGRAM OUTPUT
------------------------------
Output from '/usr/bin/make test':
PERL_DL_NONLAZY=1 "/home/njh/perl5/perlbrew/perls/perl-5.24.1/bin/perl5.24.1" "-MExtUtils::Command::MM" "-MTest::Harness" "-e" "undef *Test::Harness::Switches; test_harness(0, 'blib/lib', 'blib/arch')" t/*.t
t/01calc.t .................................. ok
t/03newgrammar.t ............................ ok
t/04foldandzero.t ........................... ok
t/05treewithvars.t .......................... ok
t/06meta.t .................................. ok
t/09ts_with_defaultaction.t ................. ok
t/07translationschemetype.t ................. ok
t/08tschemetypestar.t ....................... ok
t/10ts_with_treereg.t ....................... ok
Possible precedence issue with control flow operator at t/11ts_simplify_codes.t line 74.
t/11ts_simplify_codes.t ..................... ok
t/12ts_simplify_with_s.t .................... ok
t/13ts_simplify_with_delete.t ............... ok
t/14ts_simplify_with_trreereg.t ............. ok
t/16treeregswitharrayattheend.t ............. ok
t/15treeregswith2arrays.t ................... ok
t/18fatherpatternwitharrays.t ............... ok
t/17fatherisscalar.t ........................ ok
t/20treeregswitharrays2transf.t ............. ok
t/19treeregswitharrays2transf.t ............. ok
t/21fatherisdot.t ........................... ok
t/22treeregswithregexpwithid.t .............. ok
t/25foldwithnew.t ........................... ok
t/23treeregswitharraysandregexps.t .......... ok
t/24prefixes.t .............................. ok
t/26foldwithnewwithvars.t ................... ok
t/27unshiftinmyself.t ....................... ok
t/28unshifttwoitems.t ....................... ok
t/29foldinglistsofexpressions.t ............. ok
t/30complextreereg.t ........................ ok
t/31optional.t .............................. ok
t/33moveinvariantoutofloop.t ................ ok
t/34moveinvariantoutofloopcomplexformula.t .. ok
t/32deletenodewithwarn.t .................... ok
t/35match.t ................................. ok
t/36tswithmultipledefact.t .................. ok
t/38tspostfix_resultisarray.t ............... ok
t/37tsplus.t ................................ ok
t/38tspostfix.t ............................. ok
t/39tspostfix.t ............................. ok
t/42pod.t ................................... skipped: Developer test
t/40wrongoptionforTreeregexp_new.t .......... ok
t/41indexbug.t .............................. ok
t/45starandarray.t .......................... ok
t/43dotandscalar.t .......................... ok
t/44repeatedarray.t ......................... ok
t/46starandstar.t ........................... ok
t/47ruleindex.t ............................. ok
t/48yyprefix.t .............................. ok
t/49conflicts.t ............................. ok
t/53accessorsskip.t ......................... ok
t/52accesors.t .............................. ok
t/50SimpleChalfscope.t ...................... ok
t/54alias_and_yyprefix.t .................... ok
t/55builder.t ............................... ok
t/56equal.t ................................. ok
t/57testequal.t ............................. ok
t/58standalone.t ............................ ok
t/60dynamicyyprefix_and_alias.t ............. ok
t/61standalonegift.t ........................ ok
t/59newgrammarerrors.t ...................... ok
t/62docinsideeyapp.t ........................ ok
t/64standalonegiftandeyapp.t ................ ok
t/65yydebugandpod.t ......................... ok
t/63docwithdoublecut.t ...................... ok
t/71dynamicconflictresolution.t ............. ok
t/70dos2unix.t .............................. ok
t/66yydebugstandaloneandpod.t ............... ok
t/67outputfile.t ............................ ok
t/72mixedstandaloneanddynamicload.t ......... ok
t/73dynamicshiftreduceconflictresolution.t .. ok
t/75tokenandvariablewiththesamename.t ....... ok
t/74lalrdependanttest.t ..................... ok
t/77lexicalanalyzergeneration.t ............. ok
t/76minusvoption.t .......................... ok
t/78twolexers.t ............................. ok
t/79syntactictokenwithdef.t ................. ok
t/81tokendirectiveandsubstitution.t ......... ok
t/80ppcr.t .................................. ok
t/82expectandPLI.t .......................... ok
t/84graphics.t .............................. ok
t/83parsingstringsandtrees.t ................ ok
t/85minusSoption.t .......................... ok
t/87namingSchemes.t ......................... ok
t/86recycle.t ............................... ok
t/88explorer.t .............................. ok
t/98nopm.t .................................. ok
t/99Cplusplusgrammar.t ...................... skipped: Developer test
All tests successful.
Files=87, Tests=881, 40 wallclock secs ( 2.80 usr 0.97 sys + 96.08 cusr 18.59 csys = 118.44 CPU)
Result: PASS
------------------------------
PREREQUISITES
------------------------------
Prerequisite modules loaded:
requires:
Module Need Have
------------------- ---- -----
Data::Dumper 1.0 2.161
List::Util 1.0 1.47
Parse::Yapp 1.2 1.21
Pod::Usage 1.0 1.69
build_requires:
Module Need Have
------------------- ---- -----
ExtUtils::MakeMaker 0 7.24
configure_requires:
Module Need Have
------------------- ---- -----
ExtUtils::MakeMaker 0 7.24
------------------------------
ENVIRONMENT AND OTHER CONTEXT
------------------------------
Environment variables:
AUTOMATED_TESTING = 1
HARNESS_OPTIONS = j4
PATH = /home/njh/perl5/perlbrew/bin:/home/njh/perl5/perlbrew/perls/perl-5.24.1/bin:/sbin:/bin:/usr/sbin:/usr/bin:/usr/local/sbin:/usr/local/bin:src/njh/smoker/bin
PERL5LIB = /home/njh/.cpan/build/Parse-Yapp-1.21-0/blib/arch:/home/njh/.cpan/build/Parse-Yapp-1.21-0/blib/lib:/home/njh/.cpan/build/Exceptions-0.102-0/blib/arch:/home/njh/.cpan/build/Exceptions-0.102-0/blib/lib
PERL5OPT =
PERL5_CPANPLUS_IS_RUNNING = 82185
PERL5_CPAN_IS_RUNNING = 82185
PERLBREW_BASHRC_VERSION = 0.80
PERLBREW_HOME = /home/njh/.perlbrew
PERLBREW_MANPATH = /home/njh/perl5/perlbrew/perls/perl-5.24.1/man
PERLBREW_PATH = /home/njh/perl5/perlbrew/bin:/home/njh/perl5/perlbrew/perls/perl-5.24.1/bin
PERLBREW_PERL = perl-5.24.1
PERLBREW_ROOT = /home/njh/perl5/perlbrew
PERLBREW_VERSION = 0.80
SHELL = /bin/sh
Perl special variables (and OS-specific diagnostics, for MSWin32):
$^X = /home/njh/perl5/perlbrew/perls/perl-5.24.1/bin/perl5.24.1
$UID/$EUID = 1000 / 1000
$GID = 1000 1000 0
$EGID = 1000 1000 0
Perl module toolchain versions installed:
Module Have
------------------- --------
CPAN 2.16
CPAN::Meta 2.150010
Cwd 3.63_01
ExtUtils::CBuilder 0.280225
ExtUtils::Command 7.24
ExtUtils::Install 2.04
ExtUtils::MakeMaker 7.24
ExtUtils::Manifest 1.70
ExtUtils::ParseXS 3.31
File::Spec 3.63_01
JSON 2.94
JSON::PP 2.27400
Module::Build 0.4220
Module::Signature n/a
Parse::CPAN::Meta 2.150010
Test::Harness 3.36_01
Test::More 1.302075
YAML 1.24
YAML::Syck 1.30
version 0.9917
--
Summary of my perl5 (revision 5 version 24 subversion 1) configuration:
Platform:
osname=freebsd, osvers=12.0-current, archname=arm-freebsd-thread-multi
uname='freebsd pi2b.bandsman.co.uk 12.0-current freebsd 12.0-current #0 r305028: tue aug 30 05:53:50 utc 2016 root@releng3.nyi.freebsd.org:usrobjarm.armv6usrsrcsysrpi2 arm '
config_args='-de -Dprefix=/home/njh/perl5/perlbrew/perls/perl-5.24.1 -Duseithreads -Dusemultiplicity -Dusedevel -Accflags=-O2 -W -Wformat=2 -Wswitch -Wshadow -Wwrite-strings -Wuninitialized -Wall -pipe -Aeval:scriptdir=/home/njh/perl5/perlbrew/perls/perl-5.24.1/bin'
hint=recommended, useposix=true, d_sigaction=define
useithreads=define, usemultiplicity=define
use64bitint=undef, use64bitall=undef, uselongdouble=undef
usemymalloc=n, bincompat5005=undef
Compiler:
cc='cc', ccflags ='-DHAS_FPSETMASK -DHAS_FLOATINGPOINT_H -O2 -W -Wformat=2 -Wswitch -Wshadow -Wwrite-strings -Wuninitialized -Wall -pipe -fno-strict-aliasing -fstack-protector-strong -I/usr/local/include -D_FORTIFY_SOURCE=2',
optimize='-O',
cppflags='-DHAS_FPSETMASK -DHAS_FLOATINGPOINT_H -O2 -W -Wformat=2 -Wswitch -Wshadow -Wwrite-strings -Wuninitialized -Wall -pipe -fno-strict-aliasing -fstack-protector-strong -I/usr/local/include'
ccversion='', gccversion='4.2.1 Compatible FreeBSD Clang 3.8.0 (tags/RELEASE_380/final 262564)', gccosandvers=''
intsize=4, longsize=4, ptrsize=4, doublesize=8, byteorder=1234, doublekind=3
d_longlong=define, longlongsize=8, d_longdbl=define, longdblsize=8, longdblkind=0
ivtype='long', ivsize=4, nvtype='double', nvsize=8, Off_t='off_t', lseeksize=8
alignbytes=8, prototype=define
Linker and Libraries:
ld='cc', ldflags ='-pthread -Wl,-E -fstack-protector-strong -L/usr/local/lib'
libpth=/usr/lib /usr/local/lib /usr/bin/../lib/clang/3.8.0/lib /usr/lib
libs=-lpthread -lm -lcrypt -lutil
perllibs=-lpthread -lm -lcrypt -lutil
libc=, so=so, useshrplib=false, libperl=libperl.a
gnulibc_version=''
Dynamic Linking:
dlsrc=dl_dlopen.xs, dlext=so, d_dlsymun=undef, ccdlflags=' '
cccdlflags='-DPIC -fPIC', lddlflags='-shared -L/usr/local/lib -fstack-protector-strong'
Characteristics of this binary (from libperl):
Compile-time options: HAS_TIMES MULTIPLICITY PERLIO_LAYERS
PERL_COPY_ON_WRITE PERL_DONT_CREATE_GVSV
PERL_HASH_FUNC_ONE_AT_A_TIME_HARD
PERL_IMPLICIT_CONTEXT PERL_MALLOC_WRAP
PERL_PRESERVE_IVUV PERL_USE_DEVEL USE_ITHREADS
USE_LARGE_FILES USE_LOCALE USE_LOCALE_COLLATE
USE_LOCALE_CTYPE USE_LOCALE_NUMERIC USE_LOCALE_TIME
USE_PERLIO USE_PERL_ATOF USE_REENTRANT_API
Locally applied patches:
Devel::PatchPerl 1.38
Built under freebsd
Compiled at Jan 18 2017 15:40:04
%ENV:
PERL5LIB="/home/njh/.cpan/build/Parse-Yapp-1.21-0/blib/arch:/home/njh/.cpan/build/Parse-Yapp-1.21-0/blib/lib:/home/njh/.cpan/build/Exceptions-0.102-0/blib/arch:/home/njh/.cpan/build/Exceptions-0.102-0/blib/lib"
PERL5OPT=""
PERL5_CPANPLUS_IS_RUNNING="82185"
PERL5_CPAN_IS_RUNNING="82185"
PERLBREW_BASHRC_VERSION="0.80"
PERLBREW_HOME="/home/njh/.perlbrew"
PERLBREW_MANPATH="/home/njh/perl5/perlbrew/perls/perl-5.24.1/man"
PERLBREW_PATH="/home/njh/perl5/perlbrew/bin:/home/njh/perl5/perlbrew/perls/perl-5.24.1/bin"
PERLBREW_PERL="perl-5.24.1"
PERLBREW_ROOT="/home/njh/perl5/perlbrew"
PERLBREW_VERSION="0.80"
@INC:
/home/njh/.cpan/build/Parse-Yapp-1.21-0/blib/arch
/home/njh/.cpan/build/Parse-Yapp-1.21-0/blib/lib
/home/njh/.cpan/build/Exceptions-0.102-0/blib/arch
/home/njh/.cpan/build/Exceptions-0.102-0/blib/lib
/home/njh/perl5/perlbrew/perls/perl-5.24.1/lib/site_perl/5.24.1/arm-freebsd-thread-multi
/home/njh/perl5/perlbrew/perls/perl-5.24.1/lib/site_perl/5.24.1
/home/njh/perl5/perlbrew/perls/perl-5.24.1/lib/5.24.1/arm-freebsd-thread-multi
/home/njh/perl5/perlbrew/perls/perl-5.24.1/lib/5.24.1
.