ExtUtils-MakeMaker v7.72 Perl 5 v5.40.0 x86_64-linux-thread-multi
- Status
- Pass
- From
- Arpad Szasz
- Dist
-
ExtUtils-MakeMaker v7.72
- Platform
- Perl 5 v5.40.0 x86_64-linux-thread-multi
- Date
- 2025-03-15 12:25:44
- ID
- 9de3a110-0198-11f0-a2dc-daece32ab0e7
This distribution has been tested as part of the CPAN Testers
project, supporting the Perl programming language. See
http://wiki.cpantesters.org/ for more information or email
questions to cpan-testers-discuss@perl.org
--
Dear BINGOS,
This is a computer-generated report for ExtUtils-MakeMaker-7.72
on perl 5.40.0, created by App::cpanminus::reporter 0.22 (1.7047).
Thank you for uploading your work to CPAN. Congratulations!
All tests were successful.
Sections of this report:
* Tester comments
* Program output
* Prerequisites
* Environment and other context
------------------------------
TESTER COMMENTS
------------------------------
Additional comments from tester:
none provided
------------------------------
PROGRAM OUTPUT
------------------------------
Output from '':
Building and testing ExtUtils-MakeMaker-7.72
cp lib/ExtUtils/MM_Cygwin.pm blib/lib/ExtUtils/MM_Cygwin.pm
cp lib/ExtUtils/Command.pm blib/lib/ExtUtils/Command.pm
cp lib/ExtUtils/MM_BeOS.pm blib/lib/ExtUtils/MM_BeOS.pm
cp lib/ExtUtils/testlib.pm blib/lib/ExtUtils/testlib.pm
cp lib/ExtUtils/MM_Win32.pm blib/lib/ExtUtils/MM_Win32.pm
cp lib/ExtUtils/MM_UWIN.pm blib/lib/ExtUtils/MM_UWIN.pm
cp lib/ExtUtils/MakeMaker/FAQ.pod blib/lib/ExtUtils/MakeMaker/FAQ.pod
cp lib/ExtUtils/MM_DOS.pm blib/lib/ExtUtils/MM_DOS.pm
cp lib/ExtUtils/MakeMaker/Config.pm blib/lib/ExtUtils/MakeMaker/Config.pm
cp lib/ExtUtils/MM_OS2.pm blib/lib/ExtUtils/MM_OS2.pm
cp lib/ExtUtils/MM_MacOS.pm blib/lib/ExtUtils/MM_MacOS.pm
cp lib/ExtUtils/MakeMaker/version.pm blib/lib/ExtUtils/MakeMaker/version.pm
cp lib/ExtUtils/MM.pm blib/lib/ExtUtils/MM.pm
cp lib/ExtUtils/MakeMaker/version/vpp.pm blib/lib/ExtUtils/MakeMaker/version/vpp.pm
cp lib/ExtUtils/Liblist/Kid.pm blib/lib/ExtUtils/Liblist/Kid.pm
cp lib/ExtUtils/MakeMaker/version/regex.pm blib/lib/ExtUtils/MakeMaker/version/regex.pm
cp lib/ExtUtils/MakeMaker/Locale.pm blib/lib/ExtUtils/MakeMaker/Locale.pm
cp lib/ExtUtils/MM_Win95.pm blib/lib/ExtUtils/MM_Win95.pm
cp lib/ExtUtils/MM_NW5.pm blib/lib/ExtUtils/MM_NW5.pm
cp lib/ExtUtils/MakeMaker.pm blib/lib/ExtUtils/MakeMaker.pm
cp lib/ExtUtils/MM_Unix.pm blib/lib/ExtUtils/MM_Unix.pm
cp lib/ExtUtils/MM_QNX.pm blib/lib/ExtUtils/MM_QNX.pm
cp lib/ExtUtils/Command/MM.pm blib/lib/ExtUtils/Command/MM.pm
cp lib/ExtUtils/MM_VOS.pm blib/lib/ExtUtils/MM_VOS.pm
cp lib/ExtUtils/MM_OS390.pm blib/lib/ExtUtils/MM_OS390.pm
cp lib/ExtUtils/MM_AIX.pm blib/lib/ExtUtils/MM_AIX.pm
cp lib/ExtUtils/MM_VMS.pm blib/lib/ExtUtils/MM_VMS.pm
cp lib/ExtUtils/Mksymlists.pm blib/lib/ExtUtils/Mksymlists.pm
cp lib/ExtUtils/MY.pm blib/lib/ExtUtils/MY.pm
cp lib/ExtUtils/MM_Darwin.pm blib/lib/ExtUtils/MM_Darwin.pm
cp lib/ExtUtils/Liblist.pm blib/lib/ExtUtils/Liblist.pm
cp lib/ExtUtils/MakeMaker/Tutorial.pod blib/lib/ExtUtils/MakeMaker/Tutorial.pod
cp lib/ExtUtils/MM_Any.pm blib/lib/ExtUtils/MM_Any.pm
cp lib/ExtUtils/Mkbootstrap.pm blib/lib/ExtUtils/Mkbootstrap.pm
cp bin/instmodsh blib/script/instmodsh
"/home/arpi/opt/perl5/perls/perl-5.40.0/bin/perl" "-Iblib/arch" "-Iblib/lib" -MExtUtils::MY -e 'MY->fixin(shift)' -- blib/script/instmodsh
Manifying 1 pod document
Manifying 30 pod documents
PERL_DL_NONLAZY=1 "/home/arpi/opt/perl5/perls/perl-5.40.0/bin/perl" "-Iblib/arch" "-Iblib/lib" "-MExtUtils::Command::MM" "-MTest::Harness" "-e" "undef *Test::Harness::Switches; test_harness(0, 'blib/lib', 'blib/arch')" t/*.t
t/00compile.t ............. ok
t/01perl_bugs.t ........... ok
t/02-xsdynamic.t .......... ok
t/03-xsstatic.t ........... skipped: Shared perl library
t/04-xs-rpath-darwin.t .... skipped: Not darwin platform
t/arch_check.t ............ ok
t/backwards.t ............. ok
t/basic.t ................. ok
t/build_man.t ............. ok
t/cd.t .................... ok
t/config.t ................ ok
t/cp.t .................... ok
t/dir_target.t ............ ok
t/echo.t .................. ok
t/eu_command.t ............ ok
t/FIRST_MAKEFILE.t ........ ok
t/fix_libs.t .............. ok
t/fixin.t ................. ok
t/hints.t ................. ok
t/INST.t .................. ok
t/INST_PREFIX.t ........... ok
t/INSTALL_BASE.t .......... ok
t/installed_file.t ........ ok
t/is_of_type.t ............ ok
t/Liblist.t ............... ok
t/Liblist_Kid.t ........... ok
t/make.t .................. ok
t/MakeMaker_Parameters.t .. ok
t/maketext_filter.t ....... ok
t/meta_convert.t .......... ok
t/metafile_data.t ......... ok
t/metafile_file.t ......... ok
t/min_perl_version.t ...... ok
t/miniperl.t .............. skipped: miniperl test only necessary for the perl core
t/Mkbootstrap.t ........... ok
t/MM_Any.t ................ ok
t/MM_BeOS.t ............... skipped: This is not BeOS
t/MM_Cygwin.t ............. skipped: This is not cygwin
t/MM_NW5.t ................ skipped: This is not NW5
t/MM_OS2.t ................ skipped: This is not OS/2
t/MM_Unix.t ............... ok
t/MM_VMS.t ................ skipped: This is not VMS
t/MM_Win32.t .............. skipped: This is not Win32
t/oneliner.t .............. ok
t/os_unsupported.t ........ ok
t/parse_abstract.t ........ ok
t/parse_version.t ......... ok
t/PL_FILES.t .............. ok
t/pm.t .................... ok
t/pm_to_blib.t ............ ok
t/pod2man.t ............... ok
t/postamble.t ............. ok
t/prefixify.t ............. ok
t/prereq.t ................ ok
t/prereq_print.t .......... ok
t/problems.t .............. ok
t/prompt.t ................ ok
t/rec_att_keys.t .......... ok
t/recurs.t ................ ok
t/revision.t .............. ok
t/several_authors.t ....... ok
t/split_command.t ......... ok
t/test_boilerplate.t ...... ok
t/testlib.t ............... ok
t/unicode.t ............... ok
t/VERSION_FROM.t .......... ok
t/vstrings.t .............. ok
t/WriteEmptyMakefile.t .... ok
t/writemakefile_args.t .... ok
All tests successful.
Files=69, Tests=1437, 55 wallclock secs ( 0.24 usr 0.09 sys + 36.77 cusr 11.10 csys = 48.20 CPU)
Result: PASS
------------------------------
PREREQUISITES
------------------------------
Prerequisite modules loaded:
runtime:
Module Need Have
-------------- ----- --------
Data::Dumper 0 2.189
Encode 0 3.21
File::Basename 0 2.86
File::Spec 0.8 3.90
perl 5.006 5.040000
Pod::Man 0 v6.0.2
------------------------------
ENVIRONMENT AND OTHER CONTEXT
------------------------------
Environment variables:
LANG = en_US.UTF-8
LC_ADDRESS = ro_RO.UTF-8
LC_IDENTIFICATION = ro_RO.UTF-8
LC_MEASUREMENT = ro_RO.UTF-8
LC_MONETARY = ro_RO.UTF-8
LC_NAME = ro_RO.UTF-8
LC_NUMERIC = ro_RO.UTF-8
LC_PAPER = ro_RO.UTF-8
LC_TELEPHONE = ro_RO.UTF-8
LC_TIME = ro_RO.UTF-8
PATH = /home/arpi/.cargo/bin:/home/arpi/.nvm/versions/node/v20.0.0/bin:/home/arpi/opt/perl5/bin:/home/arpi/opt/perl5/perls/stable/bin:/home/arpi/.rvm/gems/ruby-3.2.2/bin:/home/arpi/.rvm/gems/ruby-3.2.2@global/bin:/home/arpi/.rvm/rubies/ruby-3.2.2/bin:/home/arpi/.cargo/bin:/home/arpi/.local/share/umake/bin::/home/arpi/.rakudobrew/bin:/home/arpi/.local/bin:/home/arpi/bin:/home/arpi/bin:/usr/local/sbin:/usr/local/bin:/usr/sbin:/usr/bin:/sbin:/bin:/usr/games:/usr/local/games:/snap/bin:/snap/bin:/home/arpi/.yarn/bin:/home/arpi/go/bin:/home/arpi/.rvm/bin:/home/arpi/.fzf/bin:/home/arpi/go/bin:/home/arpi/.rvm/bin
PERLBREW_HOME = /home/arpi/.perlbrew
PERLBREW_MANPATH = /home/arpi/opt/perl5/perls/stable/man
PERLBREW_PATH = /home/arpi/opt/perl5/bin:/home/arpi/opt/perl5/perls/stable/bin
PERLBREW_PERL = stable
PERLBREW_ROOT = /home/arpi/opt/perl5
PERLBREW_SHELLRC_VERSION = 0.98
PERLBREW_VERSION = 0.98
PROGRAMMING_TESTS = /home/arpi/Tresors/Default/Programming
SHELL = /bin/bash
TERM = xterm-ghostty
Perl special variables (and OS-specific diagnostics, for MSWin32):
EGID = 1000 4 20 24 27 29 30 46 108 115 131 132 145 998 1000 1007
EUID = 1000
EXECUTABLE_NAME = /home/arpi/opt/perl5/perls/perl-5.40.0/bin/perl
GID = 1000 4 20 24 27 29 30 46 108 115 131 132 145 998 1000 1007
UID = 1000
Perl module toolchain versions installed:
Module Have
------------------- --------
CPAN 2.38
CPAN::Meta 2.150010
Cwd 3.90
ExtUtils::CBuilder 0.280240
ExtUtils::Command 7.72
ExtUtils::Install 2.22
ExtUtils::MakeMaker 7.72
ExtUtils::Manifest 1.75
ExtUtils::ParseXS 3.51
File::Spec 3.90
JSON 4.10
JSON::PP 4.16
Module::Build 0.4234
Module::Signature n/a
Parse::CPAN::Meta 2.150010
Test::Harness 3.50
Test::More 1.302209
YAML 1.31
YAML::Syck n/a
version 0.9933
--
Summary of my perl5 (revision 5 version 40 subversion 0) configuration:
Platform:
osname=linux
osvers=6.8.0-35-generic
archname=x86_64-linux-thread-multi
uname='linux guppy 6.8.0-35-generic #35-ubuntu smp preempt_dynamic mon may 20 15:51:52 utc 2024 x86_64 x86_64 x86_64 gnulinux '
config_args='-de -Dprefix=/home/arpi/opt/perl5/perls/perl-5.40.0 -Dusethreads -Duselargefiles -Duse64bitall -Dusesitecustomize -Duseshrplib -Dinc_version_list=none -Dpager=/bin/less -Doptimize=-O2 -Dcf_by=Plenum.ro -Dcf_email=arpad.szasz@plenum.ro -Uuserelocatableinc -UDEBUGGING -Aeval:scriptdir=/home/arpi/opt/perl5/perls/perl-5.40.0/bin'
hint=recommended
useposix=true
d_sigaction=define
useithreads=define
usemultiplicity=define
use64bitint=define
use64bitall=define
uselongdouble=undef
usemymalloc=n
default_inc_excludes_dot=define
Compiler:
cc='cc'
ccflags ='-D_REENTRANT -D_GNU_SOURCE -fwrapv -fno-strict-aliasing -pipe -fstack-protector-strong -I/usr/local/include -D_LARGEFILE_SOURCE -D_FILE_OFFSET_BITS=64'
optimize='-O2'
cppflags='-D_REENTRANT -D_GNU_SOURCE -fwrapv -fno-strict-aliasing -pipe -fstack-protector-strong -I/usr/local/include'
ccversion=''
gccversion='13.2.0'
gccosandvers=''
intsize=4
longsize=8
ptrsize=8
doublesize=8
byteorder=12345678
doublekind=3
d_longlong=define
longlongsize=8
d_longdbl=define
longdblsize=16
longdblkind=3
ivtype='long'
ivsize=8
nvtype='double'
nvsize=8
Off_t='off_t'
lseeksize=8
alignbytes=8
prototype=define
Linker and Libraries:
ld='cc'
ldflags =' -fstack-protector-strong -L/usr/local/lib'
libpth=/usr/local/lib /usr/lib/x86_64-linux-gnu /usr/lib /usr/lib64
libs=-lpthread -lgdbm -ldl -lm -lcrypt -lutil -lc
perllibs=-lpthread -ldl -lm -lcrypt -lutil -lc
libc=/lib/x86_64-linux-gnu/libc.so.6
so=so
useshrplib=true
libperl=libperl.so
gnulibc_version='2.39'
Dynamic Linking:
dlsrc=dl_dlopen.xs
dlext=so
d_dlsymun=undef
ccdlflags='-Wl,-E -Wl,-rpath,/home/arpi/opt/perl5/perls/perl-5.40.0/lib/5.40.0/x86_64-linux-thread-multi/CORE'
cccdlflags='-fPIC'
lddlflags='-shared -O2 -L/usr/local/lib -fstack-protector-strong'
Characteristics of this binary (from libperl):
Compile-time options:
HAS_LONG_DOUBLE
HAS_STRTOLD
HAS_TIMES
MULTIPLICITY
PERLIO_LAYERS
PERL_COPY_ON_WRITE
PERL_DONT_CREATE_GVSV
PERL_HASH_FUNC_SIPHASH13
PERL_HASH_USE_SBOX32
PERL_MALLOC_WRAP
PERL_OP_PARENT
PERL_PRESERVE_IVUV
PERL_USE_SAFE_PUTENV
USE_64_BIT_ALL
USE_64_BIT_INT
USE_ITHREADS
USE_LARGE_FILES
USE_LOCALE
USE_LOCALE_COLLATE
USE_LOCALE_CTYPE
USE_LOCALE_NUMERIC
USE_LOCALE_TIME
USE_PERLIO
USE_PERL_ATOF
USE_REENTRANT_API
USE_SITECUSTOMIZE
USE_THREAD_SAFE_LOCALE
Built under linux
Compiled at Jun 13 2024 09:47:45
%ENV:
PERLBREW_HOME="/home/arpi/.perlbrew"
PERLBREW_MANPATH="/home/arpi/opt/perl5/perls/stable/man"
PERLBREW_PATH="/home/arpi/opt/perl5/bin:/home/arpi/opt/perl5/perls/stable/bin"
PERLBREW_PERL="stable"
PERLBREW_ROOT="/home/arpi/opt/perl5"
PERLBREW_SHELLRC_VERSION="0.98"
PERLBREW_VERSION="0.98"
@INC:
/home/arpi/opt/perl5/perls/perl-5.40.0/lib/site_perl/5.40.0/x86_64-linux-thread-multi
/home/arpi/opt/perl5/perls/perl-5.40.0/lib/site_perl/5.40.0
/home/arpi/opt/perl5/perls/perl-5.40.0/lib/5.40.0/x86_64-linux-thread-multi
/home/arpi/opt/perl5/perls/perl-5.40.0/lib/5.40.0