Report for Business-CyberSource-0.010004

Back
From: metabase:user:314402c4-2aae-11df-837a-5e0a49663a4f
Subject: PASS Business-CyberSource-0.010004 v5.10.1 GNU/Linux
Date: 2014-11-19T06:16:36Z

This distribution has been tested as part of the CPAN Testers
project, supporting the Perl programming language.  See
http://wiki.cpantesters.org/ for more information or email
questions to cpan-testers-discuss@perl.org


--
Dear Caleb Cushing,

This is a computer-generated report for Business-CyberSource-0.010004
on perl 5.10.1, created by CPAN-Reporter-1.2011.

Thank you for uploading your work to CPAN.  Congratulations!
All tests were successful.

Sections of this report:

    * Tester comments
    * Program output
    * Prerequisites
    * Environment and other context

------------------------------
TESTER COMMENTS
------------------------------

Additional comments from tester:

none provided

------------------------------
PROGRAM OUTPUT
------------------------------

Output from '/usr/bin/make test':

Skip blib/lib/auto/share/dist/Business-CyberSource/production/CyberSourceTransaction_1_71.wsdL (unchanged)
Skip blib/lib/auto/share/dist/Business-CyberSource/production/CyberSourceTransaction_1_71.xsd (unchanged)
Skip blib/lib/auto/share/dist/Business-CyberSource/test/CyberSourceTransaction_1_71.wsdl (unchanged)
Skip blib/lib/auto/share/dist/Business-CyberSource/test/CyberSourceTransaction_1_71.xsd (unchanged)
PERL_DL_NONLAZY=1 "/bbbike/perl-5.10.1/bin/perl5.10.1" "-MExtUtils::Command::MM" "-MTest::Harness" "-e" "undef *Test::Harness::Switches; test_harness(0, 'blib/lib', 'blib/arch')" t/*.t
t/00-compile.t ............................. ok
# 
# Versions for all modules listed in MYMETA.json (including optional ones):
# 
# === Configure Requires ===
# 
#     Module                  Want Have
#     ----------------------- ---- ----
#     ExtUtils::MakeMaker      any 7.00
#     File::ShareDir::Install 0.06 0.09
# 
# === Build Requires ===
# 
#     Module              Want Have
#     ------------------- ---- ----
#     ExtUtils::MakeMaker  any 7.00
# 
# === Test Requires ===
# 
#     Module               Want     Have
#     -------------------- ---- --------
#     Business::CreditCard 0.32     0.33
#     DateTime              any     1.10
#     ExtUtils::MakeMaker   any     7.00
#     File::Spec            any     3.47
#     FindBin               any     1.50
#     IO::Handle            any     1.28
#     IPC::Open3            any     1.04
#     Test::Deep            any    0.113
#     Test::Fatal           any    0.013
#     Test::Method          any 0.001002
#     Test::Moose           any   2.1213
#     Test::More            any 1.001009
#     Test::Requires        any     0.08
#     lib                   any     0.62
# 
# === Test Recommends ===
# 
#     Module           Want     Have
#     ------------ -------- --------
#     Bread::Board     0.25     0.32
#     CPAN::Meta   2.120900 2.142690
# 
# === Runtime Requires ===
# 
#     Module                                           Want     Have
#     -------------------------------------------- -------- --------
#     Business::CreditCard                             0.32     0.33
#     DateTime::Format::W3CDTF                         0.06     0.06
#     File::ShareDir::ProjectDistDir                  1.000 1.000004
#     LWP::Protocol::https                              any     6.06
#     Module::Load                                      any     0.32
#     Module::Runtime                                   any    0.014
#     Moose                                             any   2.1213
#     Moose::Exception                                  any   2.1213
#     Moose::Exception::AttributeIsRequired             any   2.1213
#     Moose::Role                                       any   2.1213
#     Moose::Util                                       any   2.1213
#     Moose::Util::TypeConstraints                      any   2.1213
#     MooseX::AbstractFactory                           any 0.004003
#     MooseX::Aliases                                   any     0.11
#     MooseX::RemoteHelper                              any 0.001021
#     MooseX::RemoteHelper::CompositeSerialization      any 0.001021
#     MooseX::RemoteHelper::Types                       any 0.001021
#     MooseX::SetOnce                              0.200001 0.200002
#     MooseX::Types                                     any     0.45
#     MooseX::Types::Common::Numeric               0.001003 0.001012
#     MooseX::Types::Common::String                0.001005 0.001012
#     MooseX::Types::CreditCard                       0.002 0.002003
#     MooseX::Types::DateTime                           any     0.10
#     MooseX::Types::DateTime::W3C                      any 1.103360
#     MooseX::Types::Email                              any    0.006
#     MooseX::Types::Locale::Country                    any     0.05
#     MooseX::Types::Locale::Currency                   any 0.001005
#     MooseX::Types::Moose                              any     0.45
#     MooseX::Types::NetAddr::IP                        any     0.07
#     MooseY::RemoteHelper::MessagePart                 any 0.001021
#     MooseY::RemoteHelper::Role::Client                any 0.001021
#     Type::Params                                      any 1.000005
#     Type::Utils                                       any 1.000005
#     Types::Standard                                   any 1.000005
#     XML::Compile::SOAP11                              any     3.05
#     XML::Compile::SOAP::WSS                          1.04     1.12
#     XML::Compile::Transport::SOAPHTTP                 any     3.05
#     XML::Compile::WSDL11                              any     3.02
#     namespace::autoclean                              any     0.21
#     strict                                            any     1.04
#     warnings                                          any     1.06
# 
t/00-report-prereqs.t ...................... ok
t/auth-reversal.t .......................... ok
street deprecated check the perldoc for the actual attribute at /opt/perl-5.10.1/lib/site_perl/5.10.1/x86_64-linux/Class/MOP/Method/Wrapped.pm line 157.
street deprecated check the perldoc for the actual attribute at /opt/perl-5.10.1/lib/site_perl/5.10.1/x86_64-linux/Class/MOP/Method/Wrapped.pm line 157.
street deprecated check the perldoc for the actual attribute at /opt/perl-5.10.1/lib/site_perl/5.10.1/x86_64-linux/Class/MOP/Method/Wrapped.pm line 157.
t/authorization.t .......................... ok
street deprecated check the perldoc for the actual attribute at /opt/perl-5.10.1/lib/site_perl/5.10.1/x86_64-linux/Class/MOP/Method/Wrapped.pm line 157.
zip deprecated check the perldoc for the actual attribute at /opt/perl-5.10.1/lib/site_perl/5.10.1/x86_64-linux/Class/MOP/Method/Wrapped.pm line 157.
street deprecated check the perldoc for the actual attribute at /opt/perl-5.10.1/lib/site_perl/5.10.1/x86_64-linux/Class/MOP/Method/Wrapped.pm line 157.
street deprecated check the perldoc for the actual attribute at /opt/perl-5.10.1/lib/site_perl/5.10.1/x86_64-linux/Class/MOP/Method/Wrapped.pm line 157.
t/billto-exceptions.t ...................... ok
t/billto.t ................................. ok
t/business-rules.t ......................... ok
t/capture.t ................................ ok
t/card.t ................................... ok
t/client.t ................................. ok
street deprecated check the perldoc for the actual attribute at /opt/perl-5.10.1/lib/site_perl/5.10.1/x86_64-linux/Class/MOP/Method/Wrapped.pm line 157.
t/credit.t ................................. ok
t/dcc-autorization.t ....................... ok
t/dcc.t .................................... ok
t/error-exception.t ........................ ok
street deprecated check the perldoc for the actual attribute at /opt/perl-5.10.1/lib/site_perl/5.10.1/x86_64-linux/Class/MOP/Method/Wrapped.pm line 157.
t/exceptions.t ............................. ok
t/factory-request.t ........................ ok
t/item-serialization.t ..................... ok
t/items.t .................................. ok
t/purchase-totals.t ........................ ok
t/response-removed-methods-successfully.t .. ok
t/response-sale.t .......................... ok
t/response.t ............................... ok
t/rule-expired-card.t ...................... skipped: Unable to send with fake credentials. Set both PERL_BUSINESS_CYBERSOURCE_USERNAME and PERL_BUSINESS_CYBERSOURCE_PASSWORD in the environment
t/rule-request-id-is-zero.t ................ skipped: Unable to send with fake credentials. Set both PERL_BUSINESS_CYBERSOURCE_USERNAME and PERL_BUSINESS_CYBERSOURCE_PASSWORD in the environment
t/service.t ................................ ok
All tests successful.
Files=25, Tests=244, 33 wallclock secs ( 0.09 usr  0.09 sys + 28.24 cusr  3.52 csys = 31.94 CPU)
Result: PASS

------------------------------
PREREQUISITES
------------------------------

Prerequisite modules loaded:

requires:

    Module                                       Need     Have    
    -------------------------------------------- -------- --------
    Business::CreditCard                         0.32     0.33    
    DateTime::Format::W3CDTF                     0.06     0.06    
    File::ShareDir::ProjectDistDir               1.000    1.000004
    LWP::Protocol::https                         0        6.06    
    Module::Load                                 0        0.32    
    Module::Runtime                              0        0.014   
    Moose                                        0        2.1213  
    Moose::Exception                             0        2.1213  
    Moose::Exception::AttributeIsRequired        0        2.1213  
    Moose::Role                                  0        2.1213  
    Moose::Util                                  0        2.1213  
    Moose::Util::TypeConstraints                 0        2.1213  
    MooseX::AbstractFactory                      0        0.004003
    MooseX::Aliases                              0        0.11    
    MooseX::RemoteHelper                         0        0.001021
    MooseX::RemoteHelper::CompositeSerialization 0        0.001021
    MooseX::RemoteHelper::Types                  0        0.001021
    MooseX::SetOnce                              0.200001 0.200002
    MooseX::Types                                0        0.45    
    MooseX::Types::Common::Numeric               0.001003 0.001012
    MooseX::Types::Common::String                0.001005 0.001012
    MooseX::Types::CreditCard                    0.002    0.002003
    MooseX::Types::DateTime                      0        0.10    
    MooseX::Types::DateTime::W3C                 0        1.103360
    MooseX::Types::Email                         0        0.006   
    MooseX::Types::Locale::Country               0        0.05    
    MooseX::Types::Locale::Currency              0        0.001005
    MooseX::Types::Moose                         0        0.45    
    MooseX::Types::NetAddr::IP                   0        0.07    
    MooseY::RemoteHelper::MessagePart            0        0.001021
    MooseY::RemoteHelper::Role::Client           0        0.001021
    namespace::autoclean                         0        0.21    
    perl                                         5.010    5.010001
    strict                                       0        1.04    
    Type::Params                                 0        1.000005
    Type::Utils                                  0        1.000005
    Types::Standard                              0        1.000005
    warnings                                     0        1.06    
    XML::Compile::SOAP11                         0        3.05    
    XML::Compile::SOAP::WSS                      1.04     1.12    
    XML::Compile::Transport::SOAPHTTP            0        3.05    
    XML::Compile::WSDL11                         0        3.02    

build_requires:

    Module                                       Need     Have    
    -------------------------------------------- -------- --------
    Business::CreditCard                         0.32     0.33    
    DateTime                                     0        1.10    
    ExtUtils::MakeMaker                          0        7.00    
    File::Spec                                   0        3.47    
    FindBin                                      0        1.50    
    IO::Handle                                   0        1.28    
    IPC::Open3                                   0        1.04    
    lib                                          0        0.62    
    Test::Deep                                   0        0.113   
    Test::Fatal                                  0        0.013   
    Test::Method                                 0        0.001002
    Test::Moose                                  0        2.1213  
    Test::More                                   0        1.001009
    Test::Requires                               0        0.08    

configure_requires:

    Module                                       Need     Have    
    -------------------------------------------- -------- --------
    ExtUtils::MakeMaker                          0        7.00    
    File::ShareDir::Install                      0.06     0.09    


------------------------------
ENVIRONMENT AND OTHER CONTEXT
------------------------------

Environment variables:

    DBIC_NO_WARN_BAD_PERL = 1
    LANG = C
    LC_ALL = de_DE.UTF-8
    PATH = /usr/local/bin:/usr/bin:/bin:/usr/local/sbin:/usr/sbin:/sbin:/home/eserte/bin/linux-gnu:/home/eserte/bin/sh:/home/eserte/bin:/usr/games:/home/eserte/devel:/home/eserte/src/srezic-misc/scripts
    PERL5LIB = 
    PERL5OPT = 
    PERL5_CPANPLUS_IS_RUNNING = 9089
    PERL5_CPAN_IS_RUNNING = 9089
    PERL5_CPAN_IS_RUNNING_IN_RECURSION = 9006,9089
    PERLDOC = -MPod::Perldoc::ToTextOverstrike
    PERL_BATCH = yes
    PERL_CPAN_REPORTER_CONFIG = /var/tmp/cpansmoker-1001/TYzVc810Dh_config.ini
    PERL_EXTUTILS_AUTOINSTALL = --defaultdeps
    PERL_HTML_DISPLAY_CLASS = HTML::Display::Mozilla
    PERL_PARALLEL_SMOKER = yes
    SHELL = /bin/zsh
    TERM = screen
    TMPDIR = /var/tmp/cpansmoker-1001

Perl special variables (and OS-specific diagnostics, for MSWin32):

    $^X = /bbbike/perl-5.10.1/bin/perl5.10.1
    $UID/$EUID = 1001 / 1001
    $GID = 1001 109 1001
    $EGID = 1001 109 1001

Perl module toolchain versions installed:

    Module              Have    
    ------------------- --------
    CPAN                1.9402  
    CPAN::Meta          2.142690
    Cwd                 3.47    
    ExtUtils::CBuilder  0.280219
    ExtUtils::Command   1.16    
    ExtUtils::Install   2.04    
    ExtUtils::MakeMaker 7.00    
    ExtUtils::Manifest  1.68    
    ExtUtils::ParseXS   3.24    
    File::Spec          3.47    
    JSON                2.90    
    JSON::PP            2.27203 
    Module::Build       0.4210  
    Module::Signature   0.73    
    Parse::CPAN::Meta   1.4414  
    Test::Harness       3.34    
    Test::More          1.001009
    YAML                1.13    
    YAML::Syck          1.27    
    version             0.9909  


--

Summary of my perl5 (revision 5 version 10 subversion 1) configuration:
   
  Platform:
    osname=linux, osvers=3.2.0-4-amd64, archname=x86_64-linux
    uname='linux eserte 3.2.0-4-amd64 #1 smp debian 3.2.60-1+deb7u3 x86_64 gnulinux '
    config_args='-ds -e -Dprefix=/opt/perl-5.10.1'
    hint=recommended, useposix=true, d_sigaction=define
    useithreads=undef, usemultiplicity=undef
    useperlio=define, d_sfio=undef, uselargefiles=define, usesocks=undef
    use64bitint=define, use64bitall=define, uselongdouble=undef
    usemymalloc=n, bincompat5005=undef
  Compiler:
    cc='cc', ccflags ='-fno-strict-aliasing -pipe -fstack-protector -I/usr/local/include -D_LARGEFILE_SOURCE -D_FILE_OFFSET_BITS=64',
    optimize='-O2',
    cppflags='-fno-strict-aliasing -pipe -fstack-protector -I/usr/local/include'
    ccversion='', gccversion='4.7.2', gccosandvers=''
    intsize=4, longsize=8, ptrsize=8, doublesize=8, byteorder=12345678
    d_longlong=define, longlongsize=8, d_longdbl=define, longdblsize=16
    ivtype='long', ivsize=8, nvtype='double', nvsize=8, Off_t='off_t', lseeksize=8
    alignbytes=8, prototype=define
  Linker and Libraries:
    ld='cc', ldflags =' -fstack-protector -L/usr/local/lib'
    libpth=/usr/local/lib /lib/x86_64-linux-gnu /lib/../lib /usr/lib/x86_64-linux-gnu /usr/lib/../lib /lib /usr/lib
    libs=-lnsl -ldb -ldl -lm -lcrypt -lutil -lc
    perllibs=-lnsl -ldl -lm -lcrypt -lutil -lc
    libc=libc-2.13.so, so=so, useshrplib=false, libperl=libperl.a
    gnulibc_version='2.13'
  Dynamic Linking:
    dlsrc=dl_dlopen.xs, dlext=so, d_dlsymun=undef, ccdlflags='-Wl,-E'
    cccdlflags='-fPIC', lddlflags='-shared -O2 -L/usr/local/lib -fstack-protector'


Characteristics of this binary (from libperl): 
  Compile-time options: PERL_DONT_CREATE_GVSV PERL_MALLOC_WRAP USE_64_BIT_ALL
                        USE_64_BIT_INT USE_LARGE_FILES USE_PERLIO
  Built under linux
  Compiled at Aug 18 2014 20:38:33
  %ENV:
    PERL5LIB=""
    PERL5OPT=""
    PERL5_CPANPLUS_IS_RUNNING="9089"
    PERL5_CPAN_IS_RUNNING="9089"
    PERL5_CPAN_IS_RUNNING_IN_RECURSION="9006,9089"
    PERLDOC="-MPod::Perldoc::ToTextOverstrike"
    PERL_BATCH="yes"
    PERL_CPAN_REPORTER_CONFIG="/var/tmp/cpansmoker-1001/TYzVc810Dh_config.ini"
    PERL_EXTUTILS_AUTOINSTALL="--defaultdeps"
    PERL_HTML_DISPLAY_CLASS="HTML::Display::Mozilla"
    PERL_PARALLEL_SMOKER="yes"
  @INC:
    /opt/perl-5.10.1/lib/5.10.1/x86_64-linux
    /opt/perl-5.10.1/lib/5.10.1
    /opt/perl-5.10.1/lib/site_perl/5.10.1/x86_64-linux
    /opt/perl-5.10.1/lib/site_perl/5.10.1
    .