Text-Xslate vv3.5.9 Perl 5 v5.32.0 MSWin32-x64-multi-thread

Status
Pass
From
twata
Dist
Text-Xslate vv3.5.9
Platform
Perl 5 v5.32.0 MSWin32-x64-multi-thread
Date
2021-10-31 11:18:22
ID
9d073669-6d82-1014-8029-7b3876a13fd6
This distribution has been tested as part of the CPAN Testers
project, supporting the Perl programming language.  See
http://wiki.cpantesters.org/ for more information or email
questions to cpan-testers-discuss@perl.org


--
Dear Shoichi Kaji,

This is a computer-generated report for Text-Xslate-v3.5.9
on perl 5.32.0, created by CPAN-Reporter-1.2018.

Thank you for uploading your work to CPAN.  Congratulations!
All tests were successful.

Sections of this report:

    * Tester comments
    * Program output
    * Prerequisites
    * Environment and other context

------------------------------
TESTER COMMENTS
------------------------------

Additional comments from tester:

none provided

------------------------------
PROGRAM OUTPUT
------------------------------

Output from 'C:\Strawberry\perl\bin\perl.exe ./Build test':

xs tests
# Testing Text::Xslate/v3.5.9
# Backend: XS
# $ENV{XSLATE}=xs
t\000_load.t .................................... ok
t\010_internals\001_parse.t ..................... ok
t\010_internals\002_compile.t ................... ok
t\010_internals\003_assemble.t .................. ok
t\010_internals\004_magic.t ..................... ok
t\010_internals\005_load_file.t ................. ok
t\010_internals\006_errhandler.t ................ ok
t\010_internals\007_compile_errs.t .............. ok
t\010_internals\008_files.t ..................... ok
t\010_internals\009_goto_address.t .............. ok
t\010_internals\010_line_number.t ............... ok
t\010_internals\011_missuse.t ................... ok
t\010_internals\012_multilines.t ................ ok
t\010_internals\013_deps_str.t .................. ok
t\010_internals\014_deps_file.t ................. ok
t\010_internals\015_deps_file2.t ................ ok
t\010_internals\016_cached.t .................... ok
t\010_internals\017_render.t .................... ok
t\010_internals\018_opinfo.t .................... ok
t\010_internals\019_runtime_error.t ............. ok
t\010_internals\020_optimize.t .................. ok
t\010_internals\021_edge_cases.t ................ ok
t\010_internals\022_signal.t .................... ok
t\010_internals\023_cachepath.t ................. ok
t\010_internals\024_die_in_macros.t ............. ok
t\010_internals\025_reset_hooks.t ............... ok
t\010_internals\026_issue16_deep_recursion.t .... ok
t\010_internals\027_infinite_warn.t ............. ok
t\010_internals\028_taint.t ..................... ok
t\010_internals\029_large_file.t ................ ok
t\010_internals\030_die_in_funcs.t .............. ok
t\010_internals\031_save_src.t .................. ok
t\010_internals\032_encoding_error.t ............ skipped: TODO: the behaviours of PP and XS does not match
t\010_internals\033_vpath_cache.t ............... ok
t\010_internals\034_is_code_ref.t ............... ok
t\010_internals\036_merge_hash.t ................ ok
t\010_internals\037_find_file.t ................. ok
t\010_internals\038_suffix.t .................... ok
t\010_internals\039_taint_issue84.t ............. ok
t\010_internals\100_threads.t ................... ok
t\010_internals\200_leaktrace.t ................. ok
t\010_internals\300_explicit_pp.t ............... ok
t\020_interface\001_parser_option.t ............. ok
t\020_interface\002_myparser.t .................. ok
t\020_interface\003_encoding.t .................. ok
t\020_interface\004_no_vars.t ................... ok
t\020_interface\005_util.t ...................... ok
t\020_interface\006_psgi.t ...................... skipped: Test requires module 'Plack' but it's not found
t\020_interface\007_data_section.t .............. ok
t\020_interface\008_type.t ...................... ok
t\020_interface\009_hash_with_default.t ......... ok
t\020_interface\010_err_encoding.t .............. ok
t\020_interface\011_hwd_w_include_vars.t ........ ok
t\020_interface\012_default_functions.t ......... ok
t\020_interface\013_slurp_template.t ............ ok
t\020_interface\014_customize_option.t .......... ok
t\020_interface\015_render_recursion.t .......... ok
t\020_interface\016_pre_process_handler.t ....... ok
t\020_interface\017_validate.t .................. ok
t\030_kolon\001_interpolate.t ................... ok
t\030_kolon\002_field.t ......................... ok
t\030_kolon\003_for.t ........................... ok
t\030_kolon\004_if.t ............................ ok
t\030_kolon\005_rel_ops.t ....................... ok
t\030_kolon\006_arith_ops.t ..................... ok
t\030_kolon\007_log_ops.t ....................... ok
t\030_kolon\008_literal.t ....................... ok
t\030_kolon\009_include.t ....................... ok
t\030_kolon\010_escaped_str.t ................... ok
t\030_kolon\011_macro.t ......................... ok
t\030_kolon\012_cascade.t ....................... ok
t\030_kolon\013_more_field.t .................... ok
t\030_kolon\014_while.t ......................... ok
t\030_kolon\015_methods.t ....................... ok
t\030_kolon\016_funcs.t ......................... ok
t\030_kolon\017_more_macro.t .................... ok
t\030_kolon\018_dynamic_filters.t ............... ok
t\030_kolon\019_explicit_interpolate.t .......... ok
t\030_kolon\020_chomp.t ......................... ok
t\030_kolon\021_overlay.t ....................... ok
t\030_kolon\022_given.t ......................... ok
t\030_kolon\023_bitwise.t ....................... ok
t\030_kolon\024_localize_vars.t ................. ok
t\030_kolon\025_objectliteral.t ................. ok
t\030_kolon\026_constant.t ...................... ok
t\030_kolon\027_lambda.t ........................ ok
t\030_kolon\028_smartmatch.t .................... ok
t\030_kolon\029_blockfilter.t ................... ok
t\030_kolon\030_xfuncs.t ........................ ok
t\030_kolon\031_post_if.t ....................... ok
t\030_kolon\032_include_bareword.t .............. ok
t\030_kolon\033_ov_forloop.t .................... ok
t\030_kolon\034_print.t ......................... ok
t\030_kolon\035_include_w_vars.t ................ ok
t\030_kolon\036_foreach_else.t .................. ok
t\030_kolon\037_loop_ctl.t ...................... ok
t\030_kolon\038_custom_esc.t .................... ok
t\030_kolon\039_root_vars.t ..................... ok
t\030_kolon\040_external_macro.t ................ skipped: external macros are not yet implemented
t\040_tterse\001_parse.t ........................ ok
t\040_tterse\002_interpolate.t .................. ok
t\040_tterse\003_field.t ........................ ok
t\040_tterse\004_for.t .......................... ok
t\040_tterse\005_if.t ........................... ok
t\040_tterse\006_include.t ...................... ok
t\040_tterse\007_funcs.t ........................ ok
t\040_tterse\008_methods.t ...................... ok
t\040_tterse\009_comments.t ..................... ok
t\040_tterse\010_expr.t ......................... ok
t\040_tterse\011_objectliterals.t ............... ok
t\040_tterse\012_macro.t ........................ ok
t\040_tterse\013_wrapper.t ...................... ok
t\040_tterse\014_set.t .......................... ok
t\040_tterse\015_while.t ........................ ok
t\040_tterse\016_call.t ......................... ok
t\040_tterse\017_filter.t ....................... ok
t\040_tterse\018_process.t ...................... ok
t\040_tterse\019_switch.t ....................... ok
t\040_tterse\020_chomp.t ........................ ok
t\040_tterse\021_fake_use.t ..................... ok
t\040_tterse\022_post_if.t ...................... ok
t\040_tterse\023_loop_ctl.t ..................... ok
t\040_tterse\024_for_else.t ..................... ok
t\040_tterse\025_macro.t ........................ ok
t\040_tterse\100_not_supported.t ................ ok
t\050_builtins\001_builtin_funcs.t .............. ok
t\050_builtins\002_autobox.t .................... ok
t\050_builtins\003_autobox_w_cb.t ............... ok
t\050_builtins\004_copied.t ..................... ok
t\100_plugin\001_import_from.t .................. ok
t\100_plugin\002_import.t ....................... ok
t\100_plugin\003_bridge.t ....................... ok
t\100_plugin\004_star.t ......................... ok
t\100_plugin\005_html_builder_module.t .......... ok
t\100_plugin\100_error.t ........................ ok
t\200_app\001_hello.t ........................... ok
t\200_app\002_tree.t ............................ ok
t\200_app\003_runner.t .......................... ok
t\200_app\004_encoding.t ........................ ok
t\300_examples\001_basic.t ...................... ok
t\300_examples\002_cascade.t .................... ok
t\300_examples\003_metakolon.t .................. ok
t\300_examples\004_tterse.t ..................... ok
t\900_bugs\001_super.t .......................... ok
t\900_bugs\002_addfunc.t ........................ ok
t\900_bugs\003_frame_access.t ................... ok
t\900_bugs\004_errorhandling.t .................. ok
t\900_bugs\005_rec_include.t .................... ok
t\900_bugs\006_complex_lex.t .................... ok
t\900_bugs\007_uuv.t ............................ ok
t\900_bugs\008_include_var.t .................... ok
t\900_bugs\009_quote_in_comments.t .............. ok
t\900_bugs\010_widechar_for_md5.t ............... ok
t\900_bugs\011_reserved_words.t ................. ok
t\900_bugs\012_ltgt_in_comments.t ............... ok
t\900_bugs\013_comments_lineno.t ................ ok
t\900_bugs\014_too_large_int.t .................. ok
t\900_bugs\015_my_scope.t ....................... ok
t\900_bugs\016_x_in_tterse.t .................... ok
t\900_bugs\017_unallocated.t .................... skipped: not yet
t\900_bugs\019_nested_mm.t ...................... ok
t\900_bugs\020_switch_foo.t ..................... ok
t\900_bugs\021_cached_enc.t ..................... ok
t\900_bugs\022_empty_if_block.t ................. ok
t\900_bugs\023_deploy_problem.t ................. ok
t\900_bugs\024_use_cache.t ...................... ok
t\900_bugs\025_clobber-macro-args.t ............. ok
t\900_bugs\026_issue61.t ........................ ok
t\900_bugs\027_issue65.t ........................ ok
t\900_bugs\028_issue68.t ........................ ok
t\900_bugs\029_fork_and_cache.t ................. skipped: deal with memorycache-filecache-original model more effectively
t\900_bugs\030_issue71.t ........................ ok
t\900_bugs\031_yappo.t .......................... ok
t\900_bugs\032_issue79.t ........................ ok
t\900_bugs\033_ex_safe_render.t ................. ok
t\900_bugs\034_hash_key_utf8.t .................. ok
t\900_bugs\035_issue81_tiedhash.t ............... ok
t\900_bugs\036_vpath_utf8.t ..................... ok
t\900_bugs\037_text_str_key.t ................... ok
t\900_bugs\038_conbine_flaged_utf8_and_other.t .. ok
t\900_bugs\039_issue96.t ........................ ok
t\900_bugs\040_issue95.t ........................ ok
t\900_bugs\041_cachedir_other_process.t ......... skipped: fork emulation does not work
t\900_bugs\042_perl59_issue.t ................... ok
t\900_bugs\043_issue107.t ....................... ok
t\900_bugs\044_empty_result.t ................... ok
t\900_bugs\045_issue130.t ....................... ok
t\900_bugs\046_issue156.t ....................... ok
t\900_bugs\046_issue88.t ........................ ok
t\900_bugs\047_undef_concat.t ................... ok
t\900_bugs\048_issue172.t ....................... skipped: Test requires module 'Data::Section::Simple' but it's not found
All tests successful.
Files=191, Tests=2735, 92 wallclock secs ( 0.78 usr +  0.53 sys =  1.31 CPU)
Result: PASS
pureperl tests
# Testing Text::Xslate/v3.5.9
# Backend: PP
# $ENV{XSLATE}=[pp]
t\000_load.t .................................... ok
t\010_internals\001_parse.t ..................... ok
t\010_internals\002_compile.t ................... ok
t\010_internals\003_assemble.t .................. ok
t\010_internals\004_magic.t ..................... ok
t\010_internals\005_load_file.t ................. ok
t\010_internals\006_errhandler.t ................ ok
t\010_internals\007_compile_errs.t .............. ok
t\010_internals\008_files.t ..................... ok
t\010_internals\009_goto_address.t .............. ok
t\010_internals\010_line_number.t ............... ok
t\010_internals\011_missuse.t ................... ok
t\010_internals\012_multilines.t ................ ok
t\010_internals\013_deps_str.t .................. ok
t\010_internals\014_deps_file.t ................. ok
t\010_internals\015_deps_file2.t ................ ok
t\010_internals\016_cached.t .................... ok
t\010_internals\017_render.t .................... ok
t\010_internals\018_opinfo.t .................... ok
t\010_internals\019_runtime_error.t ............. ok
t\010_internals\020_optimize.t .................. ok
t\010_internals\021_edge_cases.t ................ ok
t\010_internals\022_signal.t .................... ok
t\010_internals\023_cachepath.t ................. ok
t\010_internals\024_die_in_macros.t ............. ok
t\010_internals\025_reset_hooks.t ............... ok
t\010_internals\026_issue16_deep_recursion.t .... ok
t\010_internals\027_infinite_warn.t ............. ok
t\010_internals\028_taint.t ..................... ok
t\010_internals\029_large_file.t ................ ok
t\010_internals\030_die_in_funcs.t .............. ok
t\010_internals\031_save_src.t .................. ok
t\010_internals\032_encoding_error.t ............ skipped: TODO: the behaviours of PP and XS does not match
t\010_internals\033_vpath_cache.t ............... ok
t\010_internals\034_is_code_ref.t ............... ok
t\010_internals\036_merge_hash.t ................ ok
t\010_internals\037_find_file.t ................. ok
t\010_internals\038_suffix.t .................... ok
t\010_internals\039_taint_issue84.t ............. ok
t\010_internals\100_threads.t ................... ok
t\010_internals\200_leaktrace.t ................. ok
t\010_internals\300_explicit_pp.t ............... ok
t\020_interface\001_parser_option.t ............. ok
t\020_interface\002_myparser.t .................. ok
t\020_interface\003_encoding.t .................. ok
t\020_interface\004_no_vars.t ................... ok
t\020_interface\005_util.t ...................... ok
t\020_interface\006_psgi.t ...................... skipped: Test requires module 'Plack' but it's not found
t\020_interface\007_data_section.t .............. ok
t\020_interface\008_type.t ...................... ok
t\020_interface\009_hash_with_default.t ......... ok
t\020_interface\010_err_encoding.t .............. ok
t\020_interface\011_hwd_w_include_vars.t ........ ok
t\020_interface\012_default_functions.t ......... ok
t\020_interface\013_slurp_template.t ............ ok
t\020_interface\014_customize_option.t .......... ok
t\020_interface\015_render_recursion.t .......... ok
t\020_interface\016_pre_process_handler.t ....... ok
t\020_interface\017_validate.t .................. ok
t\030_kolon\001_interpolate.t ................... ok
t\030_kolon\002_field.t ......................... ok
t\030_kolon\003_for.t ........................... ok
t\030_kolon\004_if.t ............................ ok
t\030_kolon\005_rel_ops.t ....................... ok
t\030_kolon\006_arith_ops.t ..................... ok
t\030_kolon\007_log_ops.t ....................... ok
t\030_kolon\008_literal.t ....................... ok
t\030_kolon\009_include.t ....................... ok
t\030_kolon\010_escaped_str.t ................... ok
t\030_kolon\011_macro.t ......................... ok
t\030_kolon\012_cascade.t ....................... ok
t\030_kolon\013_more_field.t .................... ok
t\030_kolon\014_while.t ......................... ok
t\030_kolon\015_methods.t ....................... ok
t\030_kolon\016_funcs.t ......................... ok
t\030_kolon\017_more_macro.t .................... ok
t\030_kolon\018_dynamic_filters.t ............... ok
t\030_kolon\019_explicit_interpolate.t .......... ok
t\030_kolon\020_chomp.t ......................... ok
t\030_kolon\021_overlay.t ....................... ok
t\030_kolon\022_given.t ......................... ok
t\030_kolon\023_bitwise.t ....................... ok
t\030_kolon\024_localize_vars.t ................. ok
t\030_kolon\025_objectliteral.t ................. ok
t\030_kolon\026_constant.t ...................... ok
t\030_kolon\027_lambda.t ........................ ok
t\030_kolon\028_smartmatch.t .................... ok
t\030_kolon\029_blockfilter.t ................... ok
t\030_kolon\030_xfuncs.t ........................ ok
t\030_kolon\031_post_if.t ....................... ok
t\030_kolon\032_include_bareword.t .............. ok
t\030_kolon\033_ov_forloop.t .................... ok
t\030_kolon\034_print.t ......................... ok
t\030_kolon\035_include_w_vars.t ................ ok
t\030_kolon\036_foreach_else.t .................. ok
t\030_kolon\037_loop_ctl.t ...................... ok
t\030_kolon\038_custom_esc.t .................... ok
t\030_kolon\039_root_vars.t ..................... ok
t\030_kolon\040_external_macro.t ................ skipped: external macros are not yet implemented
t\040_tterse\001_parse.t ........................ ok
t\040_tterse\002_interpolate.t .................. ok
t\040_tterse\003_field.t ........................ ok
t\040_tterse\004_for.t .......................... ok
t\040_tterse\005_if.t ........................... ok
t\040_tterse\006_include.t ...................... ok
t\040_tterse\007_funcs.t ........................ ok
t\040_tterse\008_methods.t ...................... ok
t\040_tterse\009_comments.t ..................... ok
t\040_tterse\010_expr.t ......................... ok
t\040_tterse\011_objectliterals.t ............... ok
t\040_tterse\012_macro.t ........................ ok
t\040_tterse\013_wrapper.t ...................... ok
t\040_tterse\014_set.t .......................... ok
t\040_tterse\015_while.t ........................ ok
t\040_tterse\016_call.t ......................... ok
t\040_tterse\017_filter.t ....................... ok
t\040_tterse\018_process.t ...................... ok
t\040_tterse\019_switch.t ....................... ok
t\040_tterse\020_chomp.t ........................ ok
t\040_tterse\021_fake_use.t ..................... ok
t\040_tterse\022_post_if.t ...................... ok
t\040_tterse\023_loop_ctl.t ..................... ok
t\040_tterse\024_for_else.t ..................... ok
t\040_tterse\025_macro.t ........................ ok
t\040_tterse\100_not_supported.t ................ ok
t\050_builtins\001_builtin_funcs.t .............. ok
t\050_builtins\002_autobox.t .................... ok
t\050_builtins\003_autobox_w_cb.t ............... ok
t\050_builtins\004_copied.t ..................... ok
t\100_plugin\001_import_from.t .................. ok
t\100_plugin\002_import.t ....................... ok
t\100_plugin\003_bridge.t ....................... ok
t\100_plugin\004_star.t ......................... ok
t\100_plugin\005_html_builder_module.t .......... ok
t\100_plugin\100_error.t ........................ ok
t\200_app\001_hello.t ........................... ok
t\200_app\002_tree.t ............................ ok
t\200_app\003_runner.t .......................... ok
t\200_app\004_encoding.t ........................ ok
t\300_examples\001_basic.t ...................... ok
t\300_examples\002_cascade.t .................... ok
t\300_examples\003_metakolon.t .................. ok
t\300_examples\004_tterse.t ..................... ok
t\900_bugs\001_super.t .......................... ok
t\900_bugs\002_addfunc.t ........................ ok
t\900_bugs\003_frame_access.t ................... ok
t\900_bugs\004_errorhandling.t .................. ok
t\900_bugs\005_rec_include.t .................... ok
t\900_bugs\006_complex_lex.t .................... ok
t\900_bugs\007_uuv.t ............................ skipped: NYI in PP
t\900_bugs\008_include_var.t .................... ok
t\900_bugs\009_quote_in_comments.t .............. ok
t\900_bugs\010_widechar_for_md5.t ............... ok
t\900_bugs\011_reserved_words.t ................. ok
t\900_bugs\012_ltgt_in_comments.t ............... ok
t\900_bugs\013_comments_lineno.t ................ ok
t\900_bugs\014_too_large_int.t .................. ok
t\900_bugs\015_my_scope.t ....................... ok
t\900_bugs\016_x_in_tterse.t .................... ok
t\900_bugs\017_unallocated.t .................... skipped: not yet
t\900_bugs\019_nested_mm.t ...................... ok
t\900_bugs\020_switch_foo.t ..................... ok
t\900_bugs\021_cached_enc.t ..................... ok
t\900_bugs\022_empty_if_block.t ................. ok
t\900_bugs\023_deploy_problem.t ................. ok
t\900_bugs\024_use_cache.t ...................... ok
t\900_bugs\025_clobber-macro-args.t ............. ok
t\900_bugs\026_issue61.t ........................ ok
t\900_bugs\027_issue65.t ........................ ok
t\900_bugs\028_issue68.t ........................ ok
t\900_bugs\029_fork_and_cache.t ................. skipped: deal with memorycache-filecache-original model more effectively
t\900_bugs\030_issue71.t ........................ ok
t\900_bugs\031_yappo.t .......................... ok
t\900_bugs\032_issue79.t ........................ ok
t\900_bugs\033_ex_safe_render.t ................. ok
t\900_bugs\034_hash_key_utf8.t .................. ok
t\900_bugs\035_issue81_tiedhash.t ............... ok
t\900_bugs\036_vpath_utf8.t ..................... ok
t\900_bugs\037_text_str_key.t ................... ok
t\900_bugs\038_conbine_flaged_utf8_and_other.t .. ok
t\900_bugs\039_issue96.t ........................ ok
t\900_bugs\040_issue95.t ........................ ok
t\900_bugs\041_cachedir_other_process.t ......... skipped: fork emulation does not work
t\900_bugs\042_perl59_issue.t ................... ok
t\900_bugs\043_issue107.t ....................... ok
t\900_bugs\044_empty_result.t ................... ok
t\900_bugs\045_issue130.t ....................... ok
t\900_bugs\046_issue156.t ....................... ok
t\900_bugs\046_issue88.t ........................ ok
t\900_bugs\047_undef_concat.t ................... ok
t\900_bugs\048_issue172.t ....................... skipped: Test requires module 'Data::Section::Simple' but it's not found
All tests successful.
Files=191, Tests=2732, 109 wallclock secs ( 0.81 usr +  0.48 sys =  1.30 CPU)
Result: PASS

------------------------------
PREREQUISITES
------------------------------

Prerequisite modules loaded:

requires:

    Module                Need     Have    
    --------------------- -------- --------
    Data::MessagePack     0.38     1.01    
    Encode                2.26     3.16    
    Mouse                 v2.5.0   v2.5.10 
    parent                0.221    0.238   
    perl                  5.008001 5.032000
    Scalar::Util          1.14     1.60    
    Storable              2.15     3.21    

build_requires:

    Module                Need     Have    
    --------------------- -------- --------
    ExtUtils::CBuilder    0        0.280234
    File::Copy::Recursive 0        0.45    
    File::Path            2.07     2.17    
    Test::More            0.98     1.302188
    Test::Requires        0        0.11    

configure_requires:

    Module                Need     Have    
    --------------------- -------- --------
    Devel::PPPort         3.33     3.58    
    Module::Build         0.4005   0.4231  
    Module::Build::XSUtil 0        0.19    
    version               0.9913   0.9924  


------------------------------
ENVIRONMENT AND OTHER CONTEXT
------------------------------

Environment variables:

    COMSPEC = C:\WINDOWS\system32\cmd.exe
    NONINTERACTIVE_TESTING = 1
    NUMBER_OF_PROCESSORS = 4
    PATH = C:\home\sunnyday\perl5\bin;C:\WINDOWS\system32;C:\WINDOWS;C:\WINDOWS\System32\Wbem;C:\WINDOWS\System32\WindowsPowerShell\v1.0\;C:\Strawberry\c\bin;C:\Strawberry\perl\site\bin;C:\Strawberry\perl\bin
    PERL5LIB = C:\home\sunnyday\perl5\lib\perl5
    PERL5OPT = 
    PERL5_CPANPLUS_IS_RUNNING = 1140
    PERL5_CPAN_IS_RUNNING = 1140
    PERL_LOCAL_LIB_ROOT = C:\home\sunnyday\perl5
    PERL_MB_OPT = --install_base "C:\\home\\sunnyday\\perl5"
    PERL_MM_OPT = INSTALL_BASE=C:\\home\\sunnyday\\perl5
    PERL_MM_USE_DEFAULT = 1
    PERL_USE_UNSAFE_INC = 1
    PROCESSOR_IDENTIFIER = Intel64 Family 6 Model 58 Stepping 9, GenuineIntel
    TEMP = C:\Users\USER\AppData\Local\Temp
    TERM = dumb

Perl special variables (and OS-specific diagnostics, for MSWin32):

    $^X = C:\Strawberry\perl\bin\perl.exe
    $UID/$EUID = 0 / 0
    $GID = 0
    $EGID = 0
    Win32::GetOSName = Win8.1
    Win32::GetOSVersion = , 6, 3, 9600, 2, 0, 0, 256, 1
    Win32::FsType = NTFS
    Win32::IsAdminUser = 0

Perl module toolchain versions installed:

    Module              Have    
    ------------------- --------
    CPAN                2.28    
    CPAN::Meta          2.150010
    Cwd                 3.78    
    ExtUtils::CBuilder  0.280234
    ExtUtils::Command   7.46    
    ExtUtils::Install   2.16    
    ExtUtils::MakeMaker 7.46    
    ExtUtils::Manifest  1.72    
    ExtUtils::ParseXS   3.40    
    File::Spec          3.78    
    JSON                4.02    
    JSON::PP            4.05    
    Module::Build       0.4231  
    Module::Signature   n/a     
    Parse::CPAN::Meta   2.150010
    Test::Harness       3.42    
    Test::More          1.302188
    YAML                1.30    
    YAML::Syck          n/a     
    version             0.9924  


--

Summary of my perl5 (revision 5 version 32 subversion 0) configuration:
   
  Platform:
    osname=MSWin32
    osvers=10.0.19041.388
    archname=MSWin32-x64-multi-thread
    uname='Win32 strawberry-perl 5.32.0.1 #1 Sun Aug  2 19:46:04 2020 x64'
    config_args='undef'
    hint=recommended
    useposix=true
    d_sigaction=undef
    useithreads=define
    usemultiplicity=define
    use64bitint=define
    use64bitall=undef
    uselongdouble=undef
    usemymalloc=n
    default_inc_excludes_dot=define
    bincompat5005=undef
  Compiler:
    cc='gcc'
    ccflags =' -DWIN32 -DWIN64 -D__USE_MINGW_ANSI_STDIO -DPERL_TEXTMODE_SCRIPTS -DPERL_IMPLICIT_CONTEXT -DPERL_IMPLICIT_SYS -DUSE_PERLIO -fwrapv -fno-strict-aliasing -mms-bitfields'
    optimize='-s -O2'
    cppflags='-DWIN32'
    ccversion=''
    gccversion='8.3.0'
    gccosandvers=''
    intsize=4
    longsize=4
    ptrsize=8
    doublesize=8
    byteorder=12345678
    doublekind=3
    d_longlong=define
    longlongsize=8
    d_longdbl=define
    longdblsize=16
    longdblkind=3
    ivtype='long long'
    ivsize=8
    nvtype='double'
    nvsize=8
    Off_t='long long'
    lseeksize=8
    alignbytes=8
    prototype=define
  Linker and Libraries:
    ld='g++'
    ldflags ='-s -L"C:\Strawberry\perl\lib\CORE" -L"C:\Strawberry\c\lib"'
    libpth=C:\Strawberry\c\lib C:\Strawberry\c\x86_64-w64-mingw32\lib C:\Strawberry\c\lib\gcc\x86_64-w64-mingw32\8.3.0
    libs= -lmoldname -lkernel32 -luser32 -lgdi32 -lwinspool -lcomdlg32 -ladvapi32 -lshell32 -lole32 -loleaut32 -lnetapi32 -luuid -lws2_32 -lmpr -lwinmm -lversion -lodbc32 -lodbccp32 -lcomctl32
    perllibs= -lmoldname -lkernel32 -luser32 -lgdi32 -lwinspool -lcomdlg32 -ladvapi32 -lshell32 -lole32 -loleaut32 -lnetapi32 -luuid -lws2_32 -lmpr -lwinmm -lversion -lodbc32 -lodbccp32 -lcomctl32
    libc=
    so=dll
    useshrplib=true
    libperl=libperl532.a
    gnulibc_version=''
  Dynamic Linking:
    dlsrc=dl_win32.xs
    dlext=xs.dll
    d_dlsymun=undef
    ccdlflags=' '
    cccdlflags=' '
    lddlflags='-mdll -s -L"C:\Strawberry\perl\lib\CORE" -L"C:\Strawberry\c\lib"'


Characteristics of this binary (from libperl): 
  Compile-time options:
    HAS_TIMES
    HAVE_INTERP_INTERN
    MULTIPLICITY
    PERLIO_LAYERS
    PERL_COPY_ON_WRITE
    PERL_DONT_CREATE_GVSV
    PERL_IMPLICIT_CONTEXT
    PERL_IMPLICIT_SYS
    PERL_MALLOC_WRAP
    PERL_OP_PARENT
    PERL_PRESERVE_IVUV
    USE_64_BIT_INT
    USE_ITHREADS
    USE_LARGE_FILES
    USE_LOCALE
    USE_LOCALE_COLLATE
    USE_LOCALE_CTYPE
    USE_LOCALE_NUMERIC
    USE_LOCALE_TIME
    USE_PERLIO
    USE_PERL_ATOF
  Built under MSWin32
  Compiled at Aug  2 2020 19:51:20
  %ENV:
    PERL5LIB="C:\home\sunnyday\perl5\lib\perl5"
    PERL5_CPANPLUS_IS_RUNNING="1140"
    PERL5_CPAN_IS_RUNNING="1140"
    PERL_LOCAL_LIB_ROOT="C:\home\sunnyday\perl5"
    PERL_MB_OPT="--install_base "C:\\home\\sunnyday\\perl5""
    PERL_MM_OPT="INSTALL_BASE=C:\\home\\sunnyday\\perl5"
    PERL_MM_USE_DEFAULT="1"
    PERL_USE_UNSAFE_INC="1"
  @INC:
    C:\home\sunnyday\perl5\lib\perl5/MSWin32-x64-multi-thread
    C:\home\sunnyday\perl5\lib\perl5
    C:/Strawberry/perl/site/lib
    C:/Strawberry/perl/vendor/lib
    C:/Strawberry/perl/lib
    .