Back
From: metabase:user:30f0bd62-2aae-11df-837a-5e0a49663a4f
Subject: PASS MKDoc-XML-0.75 v5.14.3 OpenBSD
Date: 2012-11-03T01:13:01Z
This distribution has been tested as part of the CPAN Testers
project, supporting the Perl programming language.  See
http://wiki.cpantesters.org/ for more information or email
questions to cpan-testers-discuss@perl.org
--
Dear Bruno Postle,
This is a computer-generated report for MKDoc-XML-0.75
on perl 5.14.3, created by CPAN-Reporter-1.2006.
Thank you for uploading your work to CPAN.  Congratulations!
All tests were successful.
Sections of this report:
    * Tester comments
    * Program output
    * Prerequisites
    * Environment and other context
------------------------------
TESTER COMMENTS
------------------------------
Additional comments from tester:
this report is from an automated smoke testing program
and was not reviewed by a human for accuracy
------------------------------
PROGRAM OUTPUT
------------------------------
Output from '/usr/bin/make test':
PERL_DL_NONLAZY=1 /home/sts/cpansmoke/perl-5.14.3/bin/perl "-MExtUtils::Command::MM" "-e" "test_harness(0, 'blib/lib', 'blib/arch')" t/*.t
t/000_MKDoc_XML_Token.t ................... ok
t/001_MKDoc_XML_Token_tag_open.t .......... ok
t/002_MKDoc_XML_Token_tag_self_close.t .... ok
t/100_MKDoc_XML_Tokenizer.t ............... ok
t/101_MKDoc_XML_Tokenizer_Comment.t ....... ok
t/102_MKDoc_XML_Tokenizer_Attributes.t .... ok
t/200_MKDoc_XML_TreeBuilder.t ............. ok
t/201_MKDoc_XML_TreeBuilder_Root.t ........ ok
t/300_MKDoc_XML_Tagger.t .................. ok
t/301_MKDoc_XML_Tagger_Preserve.t ......... ok
t/302_MKDoc_XML_Tagger_Spaces.t ........... ok
t/303_MKDoc_XML_Tagger_Nesting.t .......... ok
t/304_MKDoc_XML_Tagger_Numbers.t .......... ok
t/305_MKDoc_XML_tagger_ampersand.t ........ ok
t/400_MKDoc_XML_Stripper.t ................ ok
t/401_MKDoc_XML_Stripper_p_not_closing.t .. ok
t/402_MKDoc_XML_Stripper_def.t ............ ok
t/500_MKDoc_XML_Decode.t .................. ok
t/501_MKDoc_XML_DecodeHO.t ................ ok
t/502_MKDoc_XML_Encode.t .................. ok
t/600_MKDoc_XML_Dumper_Freeze.t ........... ok
t/601_MKDoc_XML_Dumper_Thaw.t ............. ok
t/602_MKDoc_XML_Dumper_Round.t ............ ok
t/603_MKDoc_XML_Dumper_Compat.t ........... ok
t/604_MKDoc_XML_Dumper_Entities.t ......... ok
t/700_MKDoc_XML_TreePrinter.t ............. ok
All tests successful.
Files=26, Tests=400,  3 wallclock secs ( 0.42 usr  0.21 sys +  2.30 cusr  0.47 csys =  3.40 CPU)
Result: PASS
------------------------------
PREREQUISITES
------------------------------
Prerequisite modules loaded:
requires:
    Module              Need Have   
    ------------------- ---- -------
    Scalar::Util        1.07 1.23   
    Test::More          0.47 0.98   
build_requires:
    Module              Need Have   
    ------------------- ---- -------
    ExtUtils::MakeMaker 0    6.57_05
------------------------------
ENVIRONMENT AND OTHER CONTEXT
------------------------------
Environment variables:
    AUTOMATED_TESTING = 1
    PATH = /home/sts/bin:/bin:/sbin:/usr/bin:/usr/sbin:/usr/X11R6/bin:/usr/local/bin:/usr/local/sbin:/usr/games:.
    PERL5LIB = 
    PERL5OPT = 
    PERL5_CPANPLUS_IS_RUNNING = 28775
    PERL5_CPAN_IS_RUNNING = 28775
    PERL5_CPAN_IS_RUNNING_IN_RECURSION = 18632,28775
    PERL_CR_SMOKER_CURRENT = Petal-2.20
    PERL_EXTUTILS_AUTOINSTALL = --defaultdeps
    PERL_MM_USE_DEFAULT = 1
    SHELL = /usr/local/bin/bash
    TERM = screen
    TMPDIR = /home/sts/cpansmoke/tmp
Perl special variables (and OS-specific diagnostics, for MSWin32):
    $^X = /home/sts/cpansmoke/perl-5.14.3/bin/perl
    $UID/$EUID = 1000 / 1000
    $GID = 10 10 0
    $EGID = 10 10 0
Perl module toolchain versions installed:
    Module              Have    
    ------------------- --------
    CPAN                1.9800  
    CPAN::Meta          2.110440
    Cwd                 3.36    
    ExtUtils::CBuilder  0.280203
    ExtUtils::Command   1.17    
    ExtUtils::Install   1.56    
    ExtUtils::MakeMaker 6.57_05 
    ExtUtils::Manifest  1.58    
    ExtUtils::ParseXS   2.2210  
    File::Spec          3.33    
    JSON                2.53    
    JSON::PP            2.27105 
    Module::Build       0.3800  
    Module::Signature   n/a     
    Parse::CPAN::Meta   1.4401  
    Test::Harness       3.23    
    Test::More          0.98    
    YAML                n/a     
    YAML::Syck          n/a     
    version             0.88    
--
Summary of my perl5 (revision 5 version 14 subversion 3) configuration:
   
  Platform:
    osname=openbsd, osvers=5.1, archname=OpenBSD.i386-openbsd-thread-multi
    uname='openbsd cpansmoke5 5.1 generic.mp#188 i386 '
    config_args='-des -Dusethreads -Dprefix=/home/sts/cpansmoke/perl-5.14.3'
    hint=recommended, useposix=true, d_sigaction=define
    useithreads=define, usemultiplicity=define
    useperlio=define, d_sfio=undef, uselargefiles=define, usesocks=undef
    use64bitint=undef, use64bitall=undef, uselongdouble=undef
    usemymalloc=y, bincompat5005=undef
  Compiler:
    cc='cc', ccflags ='-pthread -fno-strict-aliasing -pipe -fstack-protector -I/usr/local/include',
    optimize='-O2',
    cppflags='-pthread -fno-strict-aliasing -pipe -fstack-protector -I/usr/local/include'
    ccversion='', gccversion='4.2.1 20070719 ', gccosandvers='openbsd5.1'
    intsize=4, longsize=4, ptrsize=4, doublesize=8, byteorder=1234
    d_longlong=define, longlongsize=8, d_longdbl=define, longdblsize=12
    ivtype='long', ivsize=4, nvtype='double', nvsize=8, Off_t='off_t', lseeksize=8
    alignbytes=4, prototype=define
  Linker and Libraries:
    ld='cc', ldflags ='-pthread -Wl,-E  -fstack-protector -L/usr/local/lib'
    libpth=/usr/local/lib /usr/lib
    libs=-lgdbm -lm -lutil -lc
    perllibs=-lm -lutil -lc
    libc=/usr/lib/libc.so.62.0, so=so, useshrplib=false, libperl=libperl.a
    gnulibc_version=''
  Dynamic Linking:
    dlsrc=dl_dlopen.xs, dlext=so, d_dlsymun=undef, ccdlflags=' '
    cccdlflags='-DPIC -fPIC ', lddlflags='-shared -fPIC  -L/usr/local/lib -fstack-protector'
Characteristics of this binary (from libperl): 
  Compile-time options: MULTIPLICITY MYMALLOC PERL_DONT_CREATE_GVSV
                        PERL_IMPLICIT_CONTEXT PERL_MALLOC_WRAP
                        PERL_PRESERVE_IVUV USE_ITHREADS USE_LARGE_FILES
                        USE_PERLIO USE_PERL_ATOF USE_REENTRANT_API
  Built under openbsd
  Compiled at Oct 19 2012 22:43:11
  %ENV:
    PERL5LIB=""
    PERL5OPT=""
    PERL5_CPANPLUS_IS_RUNNING="28775"
    PERL5_CPAN_IS_RUNNING="28775"
    PERL5_CPAN_IS_RUNNING_IN_RECURSION="18632,28775"
    PERL_CR_SMOKER_CURRENT="Petal-2.20"
    PERL_EXTUTILS_AUTOINSTALL="--defaultdeps"
    PERL_MM_USE_DEFAULT="1"
  @INC:
    /home/sts/cpansmoke/perl-5.14.3/lib/site_perl/5.14.3/OpenBSD.i386-openbsd-thread-multi
    /home/sts/cpansmoke/perl-5.14.3/lib/site_perl/5.14.3
    /home/sts/cpansmoke/perl-5.14.3/lib/5.14.3/OpenBSD.i386-openbsd-thread-multi
    /home/sts/cpansmoke/perl-5.14.3/lib/5.14.3
    .