Test-LeakTrace v0.17 Perl 5 v5.37.9 x86_64-linux
- Status
- Pass
- From
- Nigel Horne
- Dist
-
Test-LeakTrace v0.17
- Platform
- Perl 5 v5.37.9 x86_64-linux
- Date
- 2023-03-11T05:57:31
- ID
- 9c83dea8-bfd1-11ed-b473-9d732ae9dcf3
This distribution has been tested as part of the CPAN Testers
project, supporting the Perl programming language. See
http://wiki.cpantesters.org/ for more information or email
questions to cpan-testers-discuss@perl.org
--
Dear Lee Johnson,
This is a computer-generated report for Test-LeakTrace-0.17
on perl 5.37.9, created by CPAN-Reporter-1.2018.
Thank you for uploading your work to CPAN. Congratulations!
All tests were successful.
Sections of this report:
* Tester comments
* Program output
* Prerequisites
* Environment and other context
------------------------------
TESTER COMMENTS
------------------------------
Additional comments from tester:
this report is from an automated smoke testing program
and was not reviewed by a human for accuracy
------------------------------
PROGRAM OUTPUT
------------------------------
Output from '/usr/bin/make test':
"/home/opc/perl5/perlbrew/perls/perl-5.37.9/bin/perl5.37.9" -MExtUtils::Command::MM -e 'cp_nonempty' -- LeakTrace.bs blib/arch/auto/Test/LeakTrace/LeakTrace.bs 644
PERL_DL_NONLAZY=1 "/home/opc/perl5/perlbrew/perls/perl-5.37.9/bin/perl5.37.9" "-MExtUtils::Command::MM" "-MTest::Harness" "-e" "undef *Test::Harness::Switches; test_harness(0, 'blib/lib', 'blib/arch')" t/*.t
# Testing Test::LeakTrace/0.17
t/00_compile.t ..... ok
t/01_info.t ........ ok
t/02_refs.t ........ ok
t/03_count.t ....... ok
t/04_test_funcs.t .. ok
leaked REF(0x2764358) from /home/opc/perl5/perlbrew/perls/perl-5.37.9/lib/site_perl/5.37.9/Test2/Util/HashBase.pm line 153.
leaked REF(0x2786a88) from /home/opc/perl5/perlbrew/perls/perl-5.37.9/lib/site_perl/5.37.9/Test2/Util/HashBase.pm line 153.
leaked SCALAR(0x2e3ba78) from /home/opc/perl5/perlbrew/perls/perl-5.37.9/lib/site_perl/5.37.9/Test2/API/Context.pm line 223.
leaked GLOB(0x2e3b9a0) from /home/opc/perl5/perlbrew/perls/perl-5.37.9/lib/site_perl/5.37.9/Test2/Hub.pm line 280.
leaked REF(0x2e52bb0) from /home/opc/perl5/perlbrew/perls/perl-5.37.9/lib/site_perl/5.37.9/Test2/Util/HashBase.pm line 153.
leaked ARRAY(0x2e52b68) from /home/opc/perl5/perlbrew/perls/perl-5.37.9/lib/site_perl/5.37.9/Test2/Event/V2.pm line 42.
leaked HASH(0x2e52b38) from /home/opc/perl5/perlbrew/perls/perl-5.37.9/lib/site_perl/5.37.9/Test2/Event/V2.pm line 42.
leaked SCALAR(0x2e52b08) from /home/opc/perl5/perlbrew/perls/perl-5.37.9/lib/site_perl/5.37.9/Test2/Event/V2.pm line 42.
leaked SCALAR(0x2e52ad8) from /home/opc/perl5/perlbrew/perls/perl-5.37.9/lib/site_perl/5.37.9/Test2/Event/V2.pm line 42.
leaked SCALAR(0x2e52aa8) from /home/opc/perl5/perlbrew/perls/perl-5.37.9/lib/site_perl/5.37.9/Test2/Event/V2.pm line 42.
leaked SCALAR(0x2e52a60) from /home/opc/perl5/perlbrew/perls/perl-5.37.9/lib/site_perl/5.37.9/Test2/Event/V2.pm line 42.
leaked SCALAR(0x2e52a48) from /home/opc/perl5/perlbrew/perls/perl-5.37.9/lib/site_perl/5.37.9/Test2/Event/V2.pm line 42.
leaked SCALAR(0x2e52a18) from /home/opc/perl5/perlbrew/perls/perl-5.37.9/lib/site_perl/5.37.9/Test2/Event/V2.pm line 42.
leaked SCALAR(0x2e52940) from /home/opc/perl5/perlbrew/perls/perl-5.37.9/lib/site_perl/5.37.9/Test2/Event/V2.pm line 42.
leaked SCALAR(0x2e52928) from /home/opc/perl5/perlbrew/perls/perl-5.37.9/lib/site_perl/5.37.9/Test2/Event/V2.pm line 42.
leaked SCALAR(0x2e528e0) from /home/opc/perl5/perlbrew/perls/perl-5.37.9/lib/site_perl/5.37.9/Test2/Event/V2.pm line 42.
leaked ARRAY(0x2e52880) from /home/opc/perl5/perlbrew/perls/perl-5.37.9/lib/site_perl/5.37.9/Test2/Event/V2.pm line 42.
leaked SCALAR(0x2e527f0) from /home/opc/perl5/perlbrew/perls/perl-5.37.9/lib/site_perl/5.37.9/Test2/Event/V2.pm line 42.
leaked SCALAR(0x2e660f8) from /home/opc/perl5/perlbrew/perls/perl-5.37.9/lib/site_perl/5.37.9/Test2/Event/V2.pm line 42.
leaked SCALAR(0x2e660c8) from /home/opc/perl5/perlbrew/perls/perl-5.37.9/lib/site_perl/5.37.9/Test2/Event/V2.pm line 42.
leaked SCALAR(0x2e66050) from /home/opc/perl5/perlbrew/perls/perl-5.37.9/lib/site_perl/5.37.9/Test2/Event/V2.pm line 42.
leaked SCALAR(0x2e65f60) from /home/opc/perl5/perlbrew/perls/perl-5.37.9/lib/site_perl/5.37.9/Test2/Event/V2.pm line 42.
leaked SCALAR(0x2e65ac8) from /home/opc/perl5/perlbrew/perls/perl-5.37.9/lib/site_perl/5.37.9/Test2/Event/V2.pm line 42.
leaked SCALAR(0x2e65810) from /home/opc/perl5/perlbrew/perls/perl-5.37.9/lib/site_perl/5.37.9/Test2/Event/V2.pm line 42.
leaked GLOB(0x2e653f0) from /home/opc/perl5/perlbrew/perls/perl-5.37.9/lib/site_perl/5.37.9/Test/Builder.pm line 64.
leaked SCALAR(0x2e65390) from /home/opc/perl5/perlbrew/perls/perl-5.37.9/lib/site_perl/5.37.9/Test2/Event/V2.pm line 42.
leaked ARRAY(0x2e652d0) from /home/opc/perl5/perlbrew/perls/perl-5.37.9/lib/site_perl/5.37.9/Test2/Event/V2.pm line 42.
leaked SCALAR(0x2e651e0) from /home/opc/perl5/perlbrew/perls/perl-5.37.9/lib/site_perl/5.37.9/Test2/Event/V2.pm line 42.
leaked GLOB(0x2e754c0) from /home/opc/perl5/perlbrew/perls/perl-5.37.9/lib/site_perl/5.37.9/Test2/API/Context.pm line 232.
leaked GLOB(0x2e75460) from /home/opc/perl5/perlbrew/perls/perl-5.37.9/lib/site_perl/5.37.9/Test2/Formatter/TAP.pm line 195.
leaked GLOB(0x2e75448) from /home/opc/perl5/perlbrew/perls/perl-5.37.9/lib/site_perl/5.37.9/Test2/Event/V2.pm line 69.
leaked SCALAR(0x2e75430) from /home/opc/perl5/perlbrew/perls/perl-5.37.9/lib/site_perl/5.37.9/Test/Builder.pm line 64.
leaked GLOB(0x2e753d0) from /home/opc/perl5/perlbrew/perls/perl-5.37.9/lib/site_perl/5.37.9/Test2/Hub.pm line 293.
leaked SCALAR(0x2e751d8) from /home/opc/perl5/perlbrew/perls/perl-5.37.9/lib/site_perl/5.37.9/Test2/Event/V2.pm line 42.
leaked SCALAR(0x2e75028) from /home/opc/perl5/perlbrew/perls/perl-5.37.9/lib/site_perl/5.37.9/Test2/Event/V2.pm line 42.
leaked SCALAR(0x2e74cc8) from /home/opc/perl5/perlbrew/perls/perl-5.37.9/lib/site_perl/5.37.9/Test2/Event/V2.pm line 42.
t/05_script.t ...... ok
t/06_threads.t ..... skipped: require threads
t/07_eval.t ........ ok
t/08_leaktrace.t ... ok
t/09_info_more.t ... ok
t/10_bad_use.t ..... ok
t/11_logfp.t ....... ok
t/12_padstale.t .... ok
t/13_do.t .......... ok
All tests successful.
Files=14, Tests=126, 4 wallclock secs ( 0.06 usr 0.01 sys + 1.32 cusr 0.25 csys = 1.64 CPU)
Result: PASS
------------------------------
PREREQUISITES
------------------------------
Prerequisite modules loaded:
requires:
Module Need Have
------------------- ---- --------
Exporter 5.57 5.77
build_requires:
Module Need Have
------------------- ---- --------
ExtUtils::MakeMaker 0 7.66
Test::More 0.62 1.302193
configure_requires:
Module Need Have
------------------- ---- --------
ExtUtils::MakeMaker 0 7.66
------------------------------
ENVIRONMENT AND OTHER CONTEXT
------------------------------
Environment variables:
AUTOMATED_TESTING = 1
LANG = en_US.UTF-8
PATH = /home/opc/perl5/perlbrew/bin:/home/opc/perl5/perlbrew/perls/perl-5.37.9/bin:/home/opc/perl5/perlbrew/bin:/home/opc/src/njh/smoker/bin:/usr/bin:/bin
PERL5LIB = /home/opc/.cpan/build/List-MoreUtils-XS-0.430-0/blib/arch:/home/opc/.cpan/build/List-MoreUtils-XS-0.430-0/blib/lib:/home/opc/.cpan/build/Exporter-Tiny-1.006000-0/blib/arch:/home/opc/.cpan/build/Exporter-Tiny-1.006000-0/blib/lib:/home/opc/.cpan/build/Hook-LexWrap-0.26-0/blib/arch:/home/opc/.cpan/build/Hook-LexWrap-0.26-0/blib/lib:/home/opc/.cpan/build/Exception-Class-1.45-0/blib/arch:/home/opc/.cpan/build/Exception-Class-1.45-0/blib/lib:/home/opc/.cpan/build/Devel-StackTrace-2.04-0/blib/arch:/home/opc/.cpan/build/Devel-StackTrace-2.04-0/blib/lib:/home/opc/.cpan/build/Class-Data-Inheritable-0.09-0/blib/arch:/home/opc/.cpan/build/Class-Data-Inheritable-0.09-0/blib/lib:/home/opc/.cpan/build/Class-Method-Modifiers-2.15-0/blib/arch:/home/opc/.cpan/build/Class-Method-Modifiers-2.15-0/blib/lib:/home/opc/.cpan/build/Class-ISA-0.36-0/blib/arch:/home/opc/.cpan/build/Class-ISA-0.36-0/blib/lib:/home/opc/.cpan/build/Video-NRK-Cache-3.00-0/blib/arch:/home/opc/.cpan/build/Video-NRK-Cache-3.00-0/blib/lib:/home/opc/.cpan/build/Mock-MonkeyPatch-1.02-0/blib/arch:/home/opc/.cpan/build/Mock-MonkeyPatch-1.02-0/blib/lib
PERL5OPT =
PERL5_CPANPLUS_IS_RUNNING = 15870
PERL5_CPAN_IS_RUNNING = 15870
PERL5_CPAN_IS_RUNNING_IN_RECURSION = 9688,15870
PERLBREW_LIB =
PERLBREW_MANPATH = /home/opc/perl5/perlbrew/perls/perl-5.37.9/man
PERLBREW_PATH = /home/opc/perl5/perlbrew/bin:/home/opc/perl5/perlbrew/perls/perl-5.37.9/bin
PERLBREW_PERL = perl-5.37.9
PERLBREW_ROOT = /home/opc/perl5/perlbrew
PERLBREW_SHELLRC_VERSION = 0.96
PERLBREW_VERSION = 0.96
PERL_LOCAL_LIB_ROOT =
PERL_MM_USE_DEFAULT = 1
PERL_USE_UNSAFE_INC = 1
SHELL = /usr/bin/bash
TMPDIR = /tmp/testwrapper.15863
Perl special variables (and OS-specific diagnostics, for MSWin32):
$^X = /home/opc/perl5/perlbrew/perls/perl-5.37.9/bin/perl5.37.9
$UID/$EUID = 1000 / 1000
$GID = 1000 4 10 190 1000
$EGID = 1000 4 10 190 1000
Perl module toolchain versions installed:
Module Have
------------------- --------
CPAN 2.34
CPAN::Meta 2.150010
Cwd 3.88
ExtUtils::CBuilder 0.280238
ExtUtils::Command 7.66
ExtUtils::Install 2.22
ExtUtils::MakeMaker 7.66
ExtUtils::Manifest 1.73
ExtUtils::ParseXS 3.49
File::Spec 3.88
JSON n/a
JSON::PP 4.16
Module::Build 0.4232
Module::Signature n/a
Parse::CPAN::Meta 2.150010
Test::Harness 3.44
Test::More 1.302193
YAML 1.30
YAML::Syck 1.34
version 0.9929
--
Summary of my perl5 (revision 5 version 37 subversion 9) configuration:
Platform:
osname=linux
osvers=5.4.17-2136.315.5.el7uek.x86_64
archname=x86_64-linux
uname='linux oracle2.bandsman.co.uk 5.4.17-2136.315.5.el7uek.x86_64 #2 smp wed dec 21 19:57:57 pst 2022 x86_64 x86_64 x86_64 gnulinux '
config_args='-de -Dprefix=/home/opc/perl5/perlbrew/perls/perl-5.37.9 -Dusedevel -Aeval:scriptdir=/home/opc/perl5/perlbrew/perls/perl-5.37.9/bin'
hint=recommended
useposix=true
d_sigaction=define
useithreads=undef
usemultiplicity=undef
use64bitint=define
use64bitall=define
uselongdouble=undef
usemymalloc=n
default_inc_excludes_dot=define
Compiler:
cc='cc'
ccflags ='-std=gnu99 -fwrapv -fno-strict-aliasing -pipe -fstack-protector-strong -I/usr/local/include -D_LARGEFILE_SOURCE -D_FILE_OFFSET_BITS=64 -D_FORTIFY_SOURCE=2'
optimize='-O2'
cppflags='-std=gnu99 -fwrapv -fno-strict-aliasing -pipe -fstack-protector-strong -I/usr/local/include'
ccversion=''
gccversion='4.8.5 20150623 (Red Hat 4.8.5-44.0.3)'
gccosandvers=''
intsize=4
longsize=8
ptrsize=8
doublesize=8
byteorder=12345678
doublekind=3
d_longlong=define
longlongsize=8
d_longdbl=define
longdblsize=16
longdblkind=3
ivtype='long'
ivsize=8
nvtype='double'
nvsize=8
Off_t='off_t'
lseeksize=8
alignbytes=8
prototype=define
Linker and Libraries:
ld='cc'
ldflags =' -fstack-protector-strong -L/usr/local/lib'
libpth=/usr/local/lib /usr/lib /usr/lib64 /usr/local/lib64
libs=-lpthread -lgdbm -ldb -ldl -lm -lcrypt -lutil -lc -lgdbm_compat
perllibs=-lpthread -ldl -lm -lcrypt -lutil -lc
libc=libc-2.17.so
so=so
useshrplib=false
libperl=libperl.a
gnulibc_version='2.17'
Dynamic Linking:
dlsrc=dl_dlopen.xs
dlext=so
d_dlsymun=undef
ccdlflags='-Wl,-E'
cccdlflags='-fPIC'
lddlflags='-shared -O2 -L/usr/local/lib -fstack-protector-strong'
Characteristics of this binary (from libperl):
Compile-time options:
HAS_TIMES
PERLIO_LAYERS
PERL_COPY_ON_WRITE
PERL_DONT_CREATE_GVSV
PERL_HASH_FUNC_SIPHASH13
PERL_HASH_USE_SBOX32
PERL_MALLOC_WRAP
PERL_OP_PARENT
PERL_PRESERVE_IVUV
PERL_USE_DEVEL
PERL_USE_SAFE_PUTENV
USE_64_BIT_ALL
USE_64_BIT_INT
USE_LARGE_FILES
USE_LOCALE
USE_LOCALE_COLLATE
USE_LOCALE_CTYPE
USE_LOCALE_NUMERIC
USE_LOCALE_TIME
USE_PERLIO
USE_PERL_ATOF
Built under linux
Compiled at Mar 9 2023 09:16:53
%ENV:
PERL5LIB="/home/opc/.cpan/build/List-MoreUtils-XS-0.430-0/blib/arch:/home/opc/.cpan/build/List-MoreUtils-XS-0.430-0/blib/lib:/home/opc/.cpan/build/Exporter-Tiny-1.006000-0/blib/arch:/home/opc/.cpan/build/Exporter-Tiny-1.006000-0/blib/lib:/home/opc/.cpan/build/Hook-LexWrap-0.26-0/blib/arch:/home/opc/.cpan/build/Hook-LexWrap-0.26-0/blib/lib:/home/opc/.cpan/build/Exception-Class-1.45-0/blib/arch:/home/opc/.cpan/build/Exception-Class-1.45-0/blib/lib:/home/opc/.cpan/build/Devel-StackTrace-2.04-0/blib/arch:/home/opc/.cpan/build/Devel-StackTrace-2.04-0/blib/lib:/home/opc/.cpan/build/Class-Data-Inheritable-0.09-0/blib/arch:/home/opc/.cpan/build/Class-Data-Inheritable-0.09-0/blib/lib:/home/opc/.cpan/build/Class-Method-Modifiers-2.15-0/blib/arch:/home/opc/.cpan/build/Class-Method-Modifiers-2.15-0/blib/lib:/home/opc/.cpan/build/Class-ISA-0.36-0/blib/arch:/home/opc/.cpan/build/Class-ISA-0.36-0/blib/lib:/home/opc/.cpan/build/Video-NRK-Cache-3.00-0/blib/arch:/home/opc/.cpan/build/Video-NRK-Cache-3.00-0/blib/lib:/home/opc/.cpan/build/Mock-MonkeyPatch-1.02-0/blib/arch:/home/opc/.cpan/build/Mock-MonkeyPatch-1.02-0/blib/lib"
PERL5OPT=""
PERL5_CPANPLUS_IS_RUNNING="15870"
PERL5_CPAN_IS_RUNNING="15870"
PERL5_CPAN_IS_RUNNING_IN_RECURSION="9688,15870"
PERLBREW_LIB=""
PERLBREW_MANPATH="/home/opc/perl5/perlbrew/perls/perl-5.37.9/man"
PERLBREW_PATH="/home/opc/perl5/perlbrew/bin:/home/opc/perl5/perlbrew/perls/perl-5.37.9/bin"
PERLBREW_PERL="perl-5.37.9"
PERLBREW_ROOT="/home/opc/perl5/perlbrew"
PERLBREW_SHELLRC_VERSION="0.96"
PERLBREW_VERSION="0.96"
PERL_LOCAL_LIB_ROOT=""
PERL_MM_USE_DEFAULT="1"
PERL_USE_UNSAFE_INC="1"
@INC:
/home/opc/.cpan/build/List-MoreUtils-XS-0.430-0/blib/arch
/home/opc/.cpan/build/List-MoreUtils-XS-0.430-0/blib/lib
/home/opc/.cpan/build/Exporter-Tiny-1.006000-0/blib/arch
/home/opc/.cpan/build/Exporter-Tiny-1.006000-0/blib/lib
/home/opc/.cpan/build/Hook-LexWrap-0.26-0/blib/arch
/home/opc/.cpan/build/Hook-LexWrap-0.26-0/blib/lib
/home/opc/.cpan/build/Exception-Class-1.45-0/blib/arch
/home/opc/.cpan/build/Exception-Class-1.45-0/blib/lib
/home/opc/.cpan/build/Devel-StackTrace-2.04-0/blib/arch
/home/opc/.cpan/build/Devel-StackTrace-2.04-0/blib/lib
/home/opc/.cpan/build/Class-Data-Inheritable-0.09-0/blib/arch
/home/opc/.cpan/build/Class-Data-Inheritable-0.09-0/blib/lib
/home/opc/.cpan/build/Class-Method-Modifiers-2.15-0/blib/arch
/home/opc/.cpan/build/Class-Method-Modifiers-2.15-0/blib/lib
/home/opc/.cpan/build/Class-ISA-0.36-0/blib/arch
/home/opc/.cpan/build/Class-ISA-0.36-0/blib/lib
/home/opc/.cpan/build/Video-NRK-Cache-3.00-0/blib/arch
/home/opc/.cpan/build/Video-NRK-Cache-3.00-0/blib/lib
/home/opc/.cpan/build/Mock-MonkeyPatch-1.02-0/blib/arch
/home/opc/.cpan/build/Mock-MonkeyPatch-1.02-0/blib/lib
/home/opc/perl5/perlbrew/perls/perl-5.37.9/lib/site_perl/5.37.9/x86_64-linux
/home/opc/perl5/perlbrew/perls/perl-5.37.9/lib/site_perl/5.37.9
/home/opc/perl5/perlbrew/perls/perl-5.37.9/lib/5.37.9/x86_64-linux
/home/opc/perl5/perlbrew/perls/perl-5.37.9/lib/5.37.9
.