App-perlmv-u v0.007 Perl 5 v5.39.4 x86_64-linux-multi
        
            - Status
 
            - Pass
 
            - From
 
            - Andreas J. König (ANDK)
 
            - Dist
 
            - 
                App-perlmv-u v0.007
            
 
            - Platform
 
            - Perl 5 v5.39.4 x86_64-linux-multi
 
            - Date
 
            - 2024-02-29 02:09:45
 
            - ID
 
            - 9bf1912c-d6a7-11ee-b7f2-2886d615a1d0
 
        
        This distribution has been tested as part of the CPAN Testers
project, supporting the Perl programming language.  See
http://wiki.cpantesters.org/ for more information or email
questions to cpan-testers-discuss@perl.org
--
Dear perlancar,
This is a computer-generated report for App-perlmv-u-0.007
on perl 5.39.4, created by CPAN-Reporter-1.2019.
Thank you for uploading your work to CPAN.  Congratulations!
All tests were successful.
Sections of this report:
    * Tester comments
    * Program output
    * Prerequisites
    * Environment and other context
------------------------------
TESTER COMMENTS
------------------------------
Additional comments from tester:
this report is from an automated smoke testing program
and was not reviewed by a human for accuracy
------------------------------
PROGRAM OUTPUT
------------------------------
Output from '/usr/bin/make test':
PERL_DL_NONLAZY=1 "/home/sand/src/perl/repoperls/installed-perls/host/k93msid/v5.39.4/4da5/bin/perl" "-MExtUtils::Command::MM" "-MTest::Harness" "-e" "undef *Test::Harness::Switches; test_harness(0, 'blib/lib', 'blib/arch')" t/*.t
t/00-compile.t ........... ok
t/author-critic.t ........ skipped: these tests are for testing by the author
t/author-pod-coverage.t .. skipped: these tests are for testing by the author
t/author-pod-syntax.t .... skipped: these tests are for testing by the author
t/release-rinci.t ........ skipped: these tests are for release candidate testing
All tests successful.
Files=5, Tests=2,  0 wallclock secs ( 0.03 usr  0.02 sys +  0.10 cusr  0.04 csys =  0.19 CPU)
Result: PASS
------------------------------
PREREQUISITES
------------------------------
Prerequisite modules loaded:
requires:
    Module                                                    Need  Have    
    --------------------------------------------------------- ----- --------
    Cwd                                                       0     3.90    
    Data::Sah::Compiler::perl::TH::array                      0.914 0.914   
    Data::Sah::Compiler::perl::TH::bool                       0.914 0.914   
    Data::Sah::Compiler::perl::TH::str                        0.914 0.914   
    Data::Sah::Filter::perl::Path::expand_tilde_when_on_unix  0     0.030   
    Data::Sah::Filter::perl::Path::strip_slashes_when_on_unix 0     0.030   
    File::Util::Test                                          0.628 0.631   
    Log::ger                                                  0.038 0.040   
    Perinci::CmdLine::Any                                     0     0.154   
    perl                                                      5.010 5.039004
    POSIX                                                     0     2.16    
    Sah::Schema::pathname                                     0     0.030   
    Sereal::Decoder                                           0     5.004   
    Sereal::Encoder                                           0     5.004   
    strict                                                    0     1.13    
    String::Elide::FromArray                                  0     0.001   
    warnings                                                  0     1.67    
build_requires:
    Module                                                    Need  Have    
    --------------------------------------------------------- ----- --------
    ExtUtils::MakeMaker                                       0     7.70    
    File::Spec                                                0     3.90    
    IO::Handle                                                0     1.53    
    IPC::Open3                                                0     1.22    
    Test::More                                                0     1.302195
configure_requires:
    Module                                                    Need  Have    
    --------------------------------------------------------- ----- --------
    ExtUtils::MakeMaker                                       0     7.70    
------------------------------
ENVIRONMENT AND OTHER CONTEXT
------------------------------
Environment variables:
    AUTOMATED_TESTING = 1
    LANG = en_US.UTF-8
    LANGUAGE = en_US:en
    PATH = /home/sand/bin:/usr/local/bin:/usr/bin:/bin:/usr/games:/usr/local/perl/bin:/usr/X11/bin:/sbin:/usr/sbin
    PERL5LIB = 
    PERL5OPT = 
    PERL5_CPANPLUS_IS_RUNNING = 6395
    PERL5_CPAN_IS_RUNNING = 6395
    PERL_CANARY_STABILITY_NOPROMPT = 1
    PERL_MM_USE_DEFAULT = 1
    PERL_USE_UNSAFE_INC = 1
    SHELL = /usr/bin/zsh
    TERM = screen
Perl special variables (and OS-specific diagnostics, for MSWin32):
    $^X = /home/sand/src/perl/repoperls/installed-perls/host/k93msid/v5.39.4/4da5/bin/perl
    $UID/$EUID = 1005 / 1005
    $GID = 1005 1005
    $EGID = 1005 1005
Perl module toolchain versions installed:
    Module              Have    
    ------------------- --------
    CPAN                2.36    
    CPAN::Meta          2.150010
    Cwd                 3.90    
    ExtUtils::CBuilder  0.280240
    ExtUtils::Command   7.70    
    ExtUtils::Install   2.22    
    ExtUtils::MakeMaker 7.70    
    ExtUtils::Manifest  1.75    
    ExtUtils::ParseXS   3.51    
    File::Spec          3.90    
    JSON                4.10    
    JSON::PP            4.16    
    Module::Build       0.4234  
    Module::Signature   0.88    
    Parse::CPAN::Meta   2.150010
    Test2               1.302195
    Test::Harness       3.48    
    Test::More          1.302195
    YAML                1.30    
    YAML::Syck          1.34    
    version             0.9930  
--
Summary of my perl5 (revision 5 version 39 subversion 4) configuration:
  Commit id: 56211f03a701e3979a0d01069f8515db1c1fc2f0
  Platform:
    osname=linux
    osvers=6.1.0-7-amd64
    archname=x86_64-linux-multi
    uname='linux k93msid 6.1.0-7-amd64 #1 smp preempt_dynamic debian 6.1.20-1 (2023-03-19) x86_64 gnulinux '
    config_args='-Dprefix=/home/sand/src/perl/repoperls/installed-perls/host/k93msid/v5.39.4/4da5 -Dmyhostname=k93msid -Dinstallusrbinperl=n -Uversiononly -Dusedevel -des -Ui_db -Dlibswanted=cl pthread socket inet nsl gdbm dbm malloc dl ld sun m crypt sec util c cposix posix ucb BSD gdbm_compat -Uuseithreads -Uuselongdouble -DEBUGGING=both -Dusemultiplicity'
    hint=recommended
    useposix=true
    d_sigaction=define
    useithreads=undef
    usemultiplicity=define
    use64bitint=define
    use64bitall=define
    uselongdouble=undef
    usemymalloc=n
    default_inc_excludes_dot=define
  Compiler:
    cc='cc'
    ccflags ='-fwrapv -DDEBUGGING -fno-strict-aliasing -pipe -fstack-protector-strong -I/usr/local/include -D_LARGEFILE_SOURCE -D_FILE_OFFSET_BITS=64 -D_FORTIFY_SOURCE=2'
    optimize='-O2 -g'
    cppflags='-fwrapv -DDEBUGGING -fno-strict-aliasing -pipe -fstack-protector-strong -I/usr/local/include'
    ccversion=''
    gccversion='12.2.0'
    gccosandvers=''
    intsize=4
    longsize=8
    ptrsize=8
    doublesize=8
    byteorder=12345678
    doublekind=3
    d_longlong=define
    longlongsize=8
    d_longdbl=define
    longdblsize=16
    longdblkind=3
    ivtype='long'
    ivsize=8
    nvtype='double'
    nvsize=8
    Off_t='off_t'
    lseeksize=8
    alignbytes=8
    prototype=define
  Linker and Libraries:
    ld='cc'
    ldflags =' -fstack-protector-strong -L/usr/local/lib'
    libpth=/usr/local/lib /usr/lib/x86_64-linux-gnu /usr/lib /usr/lib64
    libs=-lpthread -lnsl -ldl -lm -lcrypt -lutil -lc
    perllibs=-lpthread -lnsl -ldl -lm -lcrypt -lutil -lc
    libc=/lib/x86_64-linux-gnu/libc.so.6
    so=so
    useshrplib=false
    libperl=libperl.a
    gnulibc_version='2.36'
  Dynamic Linking:
    dlsrc=dl_dlopen.xs
    dlext=so
    d_dlsymun=undef
    ccdlflags='-Wl,-E'
    cccdlflags='-fPIC'
    lddlflags='-shared -O2 -g -L/usr/local/lib -fstack-protector-strong'
Characteristics of this binary (from libperl): 
  Compile-time options:
    DEBUGGING
    HAS_LONG_DOUBLE
    HAS_STRTOLD
    HAS_TIMES
    MULTIPLICITY
    PERLIO_LAYERS
    PERL_COPY_ON_WRITE
    PERL_DONT_CREATE_GVSV
    PERL_HASH_FUNC_SIPHASH13
    PERL_HASH_USE_SBOX32
    PERL_MALLOC_WRAP
    PERL_OP_PARENT
    PERL_PRESERVE_IVUV
    PERL_TRACK_MEMPOOL
    PERL_USE_DEVEL
    PERL_USE_SAFE_PUTENV
    USE_64_BIT_ALL
    USE_64_BIT_INT
    USE_LARGE_FILES
    USE_LOCALE
    USE_LOCALE_COLLATE
    USE_LOCALE_CTYPE
    USE_LOCALE_NUMERIC
    USE_LOCALE_TIME
    USE_PERLIO
    USE_PERL_ATOF
  Built under linux
  Compiled at Oct 26 2023 18:44:24
  %ENV:
    PERL5LIB=""
    PERL5OPT=""
    PERL5_CPANPLUS_IS_RUNNING="6395"
    PERL5_CPAN_IS_RUNNING="6395"
    PERL_CANARY_STABILITY_NOPROMPT="1"
    PERL_MM_USE_DEFAULT="1"
    PERL_USE_UNSAFE_INC="1"
  @INC:
    /home/sand/src/perl/repoperls/installed-perls/host/k93msid/v5.39.4/4da5/lib/site_perl/5.39.4/x86_64-linux-multi
    /home/sand/src/perl/repoperls/installed-perls/host/k93msid/v5.39.4/4da5/lib/site_perl/5.39.4
    /home/sand/src/perl/repoperls/installed-perls/host/k93msid/v5.39.4/4da5/lib/5.39.4/x86_64-linux-multi
    /home/sand/src/perl/repoperls/installed-perls/host/k93msid/v5.39.4/4da5/lib/5.39.4
    .