Back
From: metabase:user:20a45eae-6c1a-1014-abaf-4bc2b30e56df
Subject: PASS Module-Build-Deprecated-0.4210 v5.16.1 Windows (Cygwin)
Date: 2017-01-07T18:06:22Z
This distribution has been tested as part of the CPAN Testers
project, supporting the Perl programming language.  See
http://wiki.cpantesters.org/ for more information or email
questions to cpan-testers-discuss@perl.org
--
Dear Leon Timmermans,
This is a computer-generated report for Module-Build-Deprecated-0.4210
on perl 5.16.1, created by CPAN-Reporter-1.2018.
Thank you for uploading your work to CPAN.  Congratulations!
All tests were successful.
Sections of this report:
    * Tester comments
    * Program output
    * Prerequisites
    * Environment and other context
------------------------------
TESTER COMMENTS
------------------------------
Additional comments from tester:
this report is from an automated smoke testing program
and was not reviewed by a human for accuracy
------------------------------
PROGRAM OUTPUT
------------------------------
Output from './Build test':
t/00-compile.t ............ ok
t/release-pod-coverage.t .. skipped: these tests are for release candidate testing
t/release-pod-syntax.t .... skipped: these tests are for release candidate testing
All tests successful.
Files=3, Tests=4,  7 wallclock secs ( 0.20 usr  0.48 sys +  0.62 cusr  3.38 csys =  4.69 CPU)
Result: PASS
------------------------------
PREREQUISITES
------------------------------
Prerequisite modules loaded:
requires:
    Module           Need   Have    
    ---------------- ------ --------
    base             0      2.18    
    CPAN::Meta::YAML 0.002  0.007   
    Module::Metadata 0      1.000009
    parent           0      0.225   
    perl             5.006  5.016001
    strict           0      1.07    
    version          0.87   0.99    
    warnings         0      1.13    
build_requires:
    Module           Need   Have    
    ---------------- ------ --------
    File::Spec       0      3.39_02 
    IO::Handle       0      1.33    
    IPC::Open3       0      1.12    
    Module::Build    0.3601 0.39_01 
    perl             5.006  5.016001
    Test::More       0      0.98    
configure_requires:
    Module           Need   Have    
    ---------------- ------ --------
    Module::Build    0.3601 0.39_01 
------------------------------
ENVIRONMENT AND OTHER CONTEXT
------------------------------
Environment variables:
    AUTOMATED_TESTING = 1
    COMSPEC = C:\WINDOWS\system32\cmd.exe
    LD_LIBRARY_PATH = 
    NUMBER_OF_PROCESSORS = 8
    PATH = /opt/perl5/cygwin_nt-10.0/2.6.1/x86_64/bin/5.16.1/cygwin-thread-multi:/opt/perl5/cygwin_nt-10.0/2.6.1/x86_64/perl/5.16.1/cygwin-thread-multi/local/bin:/opt/perl5/cygwin_nt-10.0/2.6.1/x86_64/perl/5.16.1/cygwin-thread-multi/bin:/usr/local/bin:/usr/bin
    PERL5LIB = /opt/perl5/cygwin_nt-10.0/2.6.1/x86_64/cpan/5.16.1/cygwin-thread-multi/build/Time-Local-1.25-vr3nVu/blib/arch:/opt/perl5/cygwin_nt-10.0/2.6.1/x86_64/cpan/5.16.1/cygwin-thread-multi/build/Time-Local-1.25-vr3nVu/blib/lib:/opt/perl5/cygwin_nt-10.0/2.6.1/x86_64/cpan/5.16.1/cygwin-thread-multi/build/Capture-Tiny-0.44-4a8TJ4/blib/arch:/opt/perl5/cygwin_nt-10.0/2.6.1/x86_64/cpan/5.16.1/cygwin-thread-multi/build/Capture-Tiny-0.44-4a8TJ4/blib/lib:/opt/perl5/cygwin_nt-10.0/2.6.1/x86_64/cpan/5.16.1/cygwin-thread-multi/build/Safe-2.35-sb1S8F/blib/arch:/opt/perl5/cygwin_nt-10.0/2.6.1/x86_64/cpan/5.16.1/cygwin-thread-multi/build/Safe-2.35-sb1S8F/blib/lib:/opt/perl5/cygwin_nt-10.0/2.6.1/x86_64/cpan/5.16.1/cygwin-thread-multi/build/Digest-SHA-5.96-oUgAf7/blib/arch:/opt/perl5/cygwin_nt-10.0/2.6.1/x86_64/cpan/5.16.1/cygwin-thread-multi/build/Digest-SHA-5.96-oUgAf7/blib/lib:/opt/perl5/cygwin_nt-10.0/2.6.1/x86_64/perl/5.16.1/cygwin-thread-multi/local/lib/site_perl/5.16.1:/opt/perl5/cygwin_nt-10.0/2.6.1/x86_64/perl/5.16.1/cygwin-thread-multi/local/lib/5.16.1:/opt/perl5/cygwin_nt-10.0/2.6.1/x86_64/perl/5.16.1/cygwin-thread-multi/local/lib/perl5
    PERL5OPT = 
    PERL5_CPANPLUS_IS_RUNNING = 3012
    PERL5_CPAN_IS_RUNNING = 3012
    PERL_CPAN_REPORTER_CONFIG = /opt/perl5/cygwin_nt-10.0/2.6.1/x86_64/cpan/5.16.1/cygwin-thread-multi/reporter/config.ini
    PERL_CPAN_REPORTER_DIR = /opt/perl5/cygwin_nt-10.0/2.6.1/x86_64/cpan/5.16.1/cygwin-thread-multi/reporter
    PERL_EXTUTILS_AUTOINSTALL = 1
    PERL_MM_USE_DEFAULT = 1
    PERL_MY_PREFIX = /opt/perl5
    PERL_MY_SOURCE_DIR = /cygdrive/e/src/perl
    PERL_TEST_CRITIC = 1
    PERL_TEST_CRITIC = 1
    PERL_TEST_POD = 1
    PERL_TEST_POD = 1
    POD_TESTING = 1
    POD_TESTS = 1
    PROCESSOR_IDENTIFIER = Intel64 Family 6 Model 42 Stepping 7, GenuineIntel
    SHELL = /usr/bin/bash
    TEMP = /tmp
    TERM = xterm
Perl special variables (and OS-specific diagnostics, for MSWin32):
    $^X = /cygdrive/e/opt/perl5/cygwin_nt-10.0/2.6.1/x86_64/perl/5.16.1/cygwin-thread-multi/bin/perl
    $UID/$EUID = 197609 / 197609
    $GID = 197609 401408 545 4 66049 11 15 68380 113 66048 262180
    $EGID = 197609 401408 545 4 66049 11 15 68380 113 66048 262180
Perl module toolchain versions installed:
    Module              Have    
    ------------------- --------
    CPAN                1.9800  
    CPAN::Meta          2.120630
    Cwd                 3.39_02 
    ExtUtils::CBuilder  0.280206
    ExtUtils::Command   1.17    
    ExtUtils::Install   1.58    
    ExtUtils::MakeMaker 6.63_02 
    ExtUtils::Manifest  1.61    
    ExtUtils::ParseXS   3.16    
    File::Spec          3.39_02 
    JSON                n/a     
    JSON::PP            2.27200 
    Module::Build       0.39_01 
    Module::Signature   n/a     
    Parse::CPAN::Meta   1.4402  
    Test::Harness       3.23    
    Test::More          0.98    
    YAML                1.21    
    YAML::Syck          n/a     
    version             0.99    
--
Summary of my perl5 (revision 5 version 16 subversion 1) configuration:
   
  Platform:
    osname=cygwin, osvers=2.6.1(0.30553), archname=cygwin-thread-multi
    uname='cygwin_nt-10.0 rigel 2.6.1(0.30553) 2016-12-16 11:55 x86_64 cygwin '
    config_args='-de -Dmksymlinks -Dcc=gcc -Dld=g++ -Uinc_version_list -Uinstallusrbinperl -Dusethreads -Dusemultiplicity -Duse64bitint -Uuselongdouble -Dprefix=/opt/perl5/cygwin_nt-10.0/2.6.1/x86_64/perl/5.16.1/cygwin-thread-multi'
    hint=recommended, useposix=true, d_sigaction=define
    useithreads=define, usemultiplicity=define
    useperlio=define, d_sfio=undef, uselargefiles=define, usesocks=undef
    use64bitint=define, use64bitall=define, uselongdouble=undef
    usemymalloc=n, bincompat5005=undef
  Compiler:
    cc='gcc', ccflags ='-DPERL_USE_SAFE_PUTENV -U__STRICT_ANSI__ -fno-strict-aliasing -pipe -fstack-protector',
    optimize='-O3',
    cppflags='-DPERL_USE_SAFE_PUTENV -U__STRICT_ANSI__ -fno-strict-aliasing -pipe -fstack-protector'
    ccversion='', gccversion='5.4.0', gccosandvers=''
    intsize=4, longsize=8, ptrsize=8, doublesize=8, byteorder=12345678
    d_longlong=define, longlongsize=8, d_longdbl=define, longdblsize=16
    ivtype='long', ivsize=8, nvtype='double', nvsize=8, Off_t='off_t', lseeksize=8
    alignbytes=8, prototype=define
  Linker and Libraries:
    ld='g++', ldflags =' -Wl,--enable-auto-import -Wl,--export-all-symbols -Wl,--enable-auto-image-base -fstack-protector -L/usr/local/lib'
    libpth=/usr/local/lib /usr/lib /lib
    libs=-ldl -lcrypt
    perllibs=-ldl -lcrypt
    libc=/usr/lib/libc.a, so=dll, useshrplib=true, libperl=cygperl5_16_1.dll
    gnulibc_version=''
  Dynamic Linking:
    dlsrc=dl_dlopen.xs, dlext=dll, d_dlsymun=undef, ccdlflags=' '
    cccdlflags=' ', lddlflags=' --shared  -Wl,--enable-auto-import -Wl,--export-all-symbols -Wl,--enable-auto-image-base -L/usr/local/lib -fstack-protector'
Characteristics of this binary (from libperl): 
  Compile-time options: HAS_TIMES MULTIPLICITY PERLIO_LAYERS
                        PERL_DONT_CREATE_GVSV PERL_IMPLICIT_CONTEXT
                        PERL_PRESERVE_IVUV PERL_USE_SAFE_PUTENV
                        USE_64_BIT_ALL USE_64_BIT_INT USE_ITHREADS
                        USE_LARGE_FILES USE_LOCALE USE_LOCALE_COLLATE
                        USE_LOCALE_CTYPE USE_LOCALE_NUMERIC USE_PERLIO
                        USE_PERL_ATOF USE_REENTRANT_API
  Built under cygwin
  Compiled at Dec 23 2016 13:00:57
  %ENV:
    PERL5LIB="/opt/perl5/cygwin_nt-10.0/2.6.1/x86_64/cpan/5.16.1/cygwin-thread-multi/build/Time-Local-1.25-vr3nVu/blib/arch:/opt/perl5/cygwin_nt-10.0/2.6.1/x86_64/cpan/5.16.1/cygwin-thread-multi/build/Time-Local-1.25-vr3nVu/blib/lib:/opt/perl5/cygwin_nt-10.0/2.6.1/x86_64/cpan/5.16.1/cygwin-thread-multi/build/Capture-Tiny-0.44-4a8TJ4/blib/arch:/opt/perl5/cygwin_nt-10.0/2.6.1/x86_64/cpan/5.16.1/cygwin-thread-multi/build/Capture-Tiny-0.44-4a8TJ4/blib/lib:/opt/perl5/cygwin_nt-10.0/2.6.1/x86_64/cpan/5.16.1/cygwin-thread-multi/build/Safe-2.35-sb1S8F/blib/arch:/opt/perl5/cygwin_nt-10.0/2.6.1/x86_64/cpan/5.16.1/cygwin-thread-multi/build/Safe-2.35-sb1S8F/blib/lib:/opt/perl5/cygwin_nt-10.0/2.6.1/x86_64/cpan/5.16.1/cygwin-thread-multi/build/Digest-SHA-5.96-oUgAf7/blib/arch:/opt/perl5/cygwin_nt-10.0/2.6.1/x86_64/cpan/5.16.1/cygwin-thread-multi/build/Digest-SHA-5.96-oUgAf7/blib/lib:/opt/perl5/cygwin_nt-10.0/2.6.1/x86_64/perl/5.16.1/cygwin-thread-multi/local/lib/site_perl/5.16.1:/opt/perl5/cygwin_nt-10.0/2.6.1/x86_64/perl/5.16.1/cygwin-thread-multi/local/lib/5.16.1:/opt/perl5/cygwin_nt-10.0/2.6.1/x86_64/perl/5.16.1/cygwin-thread-multi/local/lib/perl5"
    PERL5OPT=""
    PERL5_CPANPLUS_IS_RUNNING="3012"
    PERL5_CPAN_IS_RUNNING="3012"
    PERL_CPAN_REPORTER_CONFIG="/opt/perl5/cygwin_nt-10.0/2.6.1/x86_64/cpan/5.16.1/cygwin-thread-multi/reporter/config.ini"
    PERL_CPAN_REPORTER_DIR="/opt/perl5/cygwin_nt-10.0/2.6.1/x86_64/cpan/5.16.1/cygwin-thread-multi/reporter"
    PERL_EXTUTILS_AUTOINSTALL="1"
    PERL_MM_USE_DEFAULT="1"
    PERL_MY_PREFIX="/opt/perl5"
    PERL_MY_SOURCE_DIR="/cygdrive/e/src/perl"
    PERL_TEST_CRITIC="1"
    PERL_TEST_POD="1"
  @INC:
    /opt/perl5/cygwin_nt-10.0/2.6.1/x86_64/cpan/5.16.1/cygwin-thread-multi/build/Time-Local-1.25-vr3nVu/blib/arch
    /opt/perl5/cygwin_nt-10.0/2.6.1/x86_64/cpan/5.16.1/cygwin-thread-multi/build/Time-Local-1.25-vr3nVu/blib/lib
    /opt/perl5/cygwin_nt-10.0/2.6.1/x86_64/cpan/5.16.1/cygwin-thread-multi/build/Capture-Tiny-0.44-4a8TJ4/blib/arch
    /opt/perl5/cygwin_nt-10.0/2.6.1/x86_64/cpan/5.16.1/cygwin-thread-multi/build/Capture-Tiny-0.44-4a8TJ4/blib/lib
    /opt/perl5/cygwin_nt-10.0/2.6.1/x86_64/cpan/5.16.1/cygwin-thread-multi/build/Safe-2.35-sb1S8F/blib/arch
    /opt/perl5/cygwin_nt-10.0/2.6.1/x86_64/cpan/5.16.1/cygwin-thread-multi/build/Safe-2.35-sb1S8F/blib/lib
    /opt/perl5/cygwin_nt-10.0/2.6.1/x86_64/cpan/5.16.1/cygwin-thread-multi/build/Digest-SHA-5.96-oUgAf7/blib/arch
    /opt/perl5/cygwin_nt-10.0/2.6.1/x86_64/cpan/5.16.1/cygwin-thread-multi/build/Digest-SHA-5.96-oUgAf7/blib/lib
    /opt/perl5/cygwin_nt-10.0/2.6.1/x86_64/perl/5.16.1/cygwin-thread-multi/local/lib/site_perl/5.16.1/cygwin-thread-multi
    /opt/perl5/cygwin_nt-10.0/2.6.1/x86_64/perl/5.16.1/cygwin-thread-multi/local/lib/site_perl/5.16.1
    /opt/perl5/cygwin_nt-10.0/2.6.1/x86_64/perl/5.16.1/cygwin-thread-multi/local/lib/5.16.1/cygwin-thread-multi
    /opt/perl5/cygwin_nt-10.0/2.6.1/x86_64/perl/5.16.1/cygwin-thread-multi/local/lib/5.16.1
    /opt/perl5/cygwin_nt-10.0/2.6.1/x86_64/perl/5.16.1/cygwin-thread-multi/local/lib/perl5
    /opt/perl5/cygwin_nt-10.0/2.6.1/x86_64/perl/5.16.1/cygwin-thread-multi/lib/site_perl/5.16.1/cygwin-thread-multi
    /opt/perl5/cygwin_nt-10.0/2.6.1/x86_64/perl/5.16.1/cygwin-thread-multi/lib/site_perl/5.16.1
    /opt/perl5/cygwin_nt-10.0/2.6.1/x86_64/perl/5.16.1/cygwin-thread-multi/lib/5.16.1/cygwin-thread-multi
    /opt/perl5/cygwin_nt-10.0/2.6.1/x86_64/perl/5.16.1/cygwin-thread-multi/lib/5.16.1
    .